Workbook

Sheet Menu

Sheet DATA SKP
A1: DATA SASARAN KERJA PEGAWAI
A3: UNIT KERJA | D3: : | E3: BKPSDM Kabupaten Banyumas
A4: JANGKA WAKTU PENILAIAN | D4: : | E4: 4 Januari s.d 30 Juni 2021
A6: 1 | B6: YANG DINILAI
B7: a. | C7: Nama | D7: : | E7: M. Setiono
B8: b. | C8: NIP | D8: : | E8: 19761206 199903 1 001
B9: c. | C9: Pangkat/Gol.Ruang | D9: : | E9: Penata Muda (III/a)
B10: d. | C10: Jabatan | D10: : | E10: Pengelola Kepegawaian
B11: e. | C11: Unit Kerja | D11: : | E11: BKPSDM Kab. Banyumas
A12: 2 | B12: PEJABAT PENILAI
B13: a. | C13: Nama | D13: : | E13: Purwati, S.E.
B14: b. | C14: NIP | D14: : | E14: 19740101 199610 2 012
B15: c. | C15: Pangkat/Gol.Ruang | D15: : | E15: Penata (III/c)
B16: d. | C16: Jabatan | D16: : | E16: Kasi Mutasi
B17: e. | C17: Unit Kerja | D17: : | E17: BKPSDM Kab. Banyumas

Sheet COVER
A8: PENILAIAN PRESTASI KERJA
A9: PEGAWAI NEGERI SIPIL
A15: Jangka Waktu Penilaian
A16: ='DATA SKP'!$E$4 -> 4 Januari s.d 30 Juni 2021
B18: Nama Pegawai | E18: : | F18: ='DATA SKP'!E7 -> M. Setiono
B19: NIP | E19: : | F19: ='DATA SKP'!E8 -> 19761206 199903 1 001
B20: Pangkat Golongan Ruang | E20: : | F20: ='DATA SKP'!E9 -> Penata Muda (III/a)
B21: Jabatan | E21: : | F21: ='DATA SKP'!E10 -> Pengelola Kepegawaian
B22: Unit Kerja | E22: : | F22: ='DATA SKP'!E11 -> BKPSDM Kab. Banyumas
A39: ='DATA SKP'!$E$3 -> BKPSDM Kabupaten Banyumas
A40: TAHUN 2021

Sheet FORM SKP
A1: SASARAN KERJA PEGAWAI
A3: NO | B3: I. PEJABAT PENILAI | E3: NO | F3: II. PEGAWAI NEGERI SIPIL YANG DINILAI
A4: 1 | B4: Nama | C4: ='DATA SKP'!E13 -> Purwati, S.E. | E4: 1 | F4: Nama | H4: ='DATA SKP'!E7 -> M. Setiono
A5: 2 | B5: NIP | C5: ='DATA SKP'!E14 -> 19740101 199610 2 012 | E5: 2 | F5: NIP | H5: ='DATA SKP'!E8 -> 19761206 199903 1 001
A6: 3 | B6: Pangkat/Gol.Ruang | C6: ='DATA SKP'!E15 -> Penata (III/c) | E6: 3 | F6: Pangkat/Gol.Ruang | H6: ='DATA SKP'!E9 -> Penata Muda (III/a)
A7: 4 | B7: Jabatan | C7: ='DATA SKP'!E16 -> Kasi Mutasi | E7: 4 | F7: Jabatan | H7: ='DATA SKP'!E10 -> Pengelola Kepegawaian
A8: 5 | B8: Unit Kerja | C8: ='DATA SKP'!E17 -> BKPSDM Kab. Banyumas | E8: 5 | F8: Unit Kerja | H8: ='DATA SKP'!E11 -> BKPSDM Kab. Banyumas
A9: NO | B9: III. KEGIATAN TUGAS JABATAN | E9: AK | F9: TARGET
F10: KUANT/OUTPUT | H10: KUAL/MUTU | I10: WAKTU | K10: BIAYA
A11: 1 | B11: Menerima data mutasi kepegawaian | F11: 120 | G11: kegiatan | H11: 100 | I11: 6 | J11: bulan
A12: 2 | B12: Mencatat data mutasi kepegawaian | F12: 120 | G12: dokumen | H12: 100 | I12: 6 | J12: bulan
A13: 3 | B13: Membuat laporan | F13: 6 | G13: laporan | H13: 100 | I13: 12 | J13: bulan
B14: UNSUR PENUNJANG
A15: JUMLAH
G16: Purwokerto, 4 Januari 2021
A17: Pejabat Penilai, | G17: Pegawai Negeri Sipil Yang Dinilai
A21: =C4 -> Purwati, S.E. | G21: =H4 -> M. Setiono
A22: ="NIP "&C5 -> NIP 19740101 199610 2 012 | G22: ="NIP "&H5 -> NIP 19761206 199903 1 001
A24: Pada saat pengukuran, form SKP bisa digunakan untuk bantuan penilaian SKP
A25: dengan cara angka 240 (awal target kuantitas) pada kegiatan diganti dengan angka 120 (menyesuaikan realisasi yang dicapai)
A26: begitu juga dengan bulan yang 12 bulan (awal target waktu) diganti dengan 6 (menyesuaikan realisasi yang dicapai)

Sheet PENGUKURAN
A1: PENILAIAN SASARAN KERJA PEGAWAI
A3: Jangka Waktu Penilaian | J3: Nama | K3: : | L3: ='FORM SKP'!$H$4 -> M. Setiono
A4: =COVER!A16 -> 4 Januari s.d 30 Juni 2021 | J4: NIP | K4: : | L4: ='FORM SKP'!$H$5 -> 19761206 199903 1 001
A5: NO | B5: I. KEGIATAN TUGAS JABATAN | D5: AK | E5: TARGET | K5: AK | L5: REALISASI | R5: PENGHITUNGAN | S5: NILAI CAPAIAN SKP
E6: Kuant/ Output | G6: Kual/ Mutu | H6: Waktu | J6: Biaya | L6: Kuant/ Output | N6: Kual/ Mutu | O6: Waktu | Q6: Biaya | X6: persen waktu | Y6: persen biaya | Z6: kuantitas | AA6: kualitas | AB6: waktu | AC6: biaya | AD6: RW<24 | AE6: RW>24 | AF6: RB<24 | AG6: RB>24
A7: 1 | B7: 2 | D7: 3 | E7: 4 | G7: 5 | H7: 6 | J7: 7 | K7: 8 | L7: 9 | N7: 10 | O7: 11 | Q7: 12 | R7: 13 | S7: 14
A8: 1 | B8: ='FORM SKP'!B11 -> Menerima data mutasi kepegawaian | E8: ='FORM SKP'!F11 -> 120 | F8: ='FORM SKP'!G11 -> kegiatan | G8: ='FORM SKP'!H11 -> 100 | H8: ='FORM SKP'!I11 -> 6 | I8: ='FORM SKP'!J11 -> bulan | J8: ='FORM SKP'!K11 -> 0 | L8: 120 | M8: =F8 -> kegiatan | N8: 85 | O8: 6 | P8: =I8 -> bulan | R8: =AH8 -> 261 | S8: =IF(Q8="",R8/3,R8/4) -> 87 | U8: =IF(E8>0,1,0) -> 1 | V8: =IFERROR(S8,0) -> 87 | X8: =100-(O8/H8*100) -> 0 | Y8: =100-(Q8/J8*100) -> #DIV/0! | Z8: =L8/E8*100 -> 100 | AA8: =N8/G8*100 -> 85 | AB8: =IF(X8>24,AE8,AD8) -> 76 | AC8: =IF(Y8>24,AG8,AF8) -> #DIV/0! | AD8: =((1.76*H8-O8)/H8)*100 -> 76 | AE8: =76-((((1.76*H8-O8)/H8)*100)-100) -> 100 | AF8: =((1.76*J8-Q8)/J8)*100 -> #DIV/0! | AG8: =76-((((1.76*J8-Q8)/J8)*100)-100) -> #DIV/0! | AH8: =IFERROR(SUM(Z8:AC8),SUM(Z8:AB8)) -> 261 | AL8: =100-(O8/H8*100) -> 0 | AM8: =100-(Q8/J8*100) -> #DIV/0! | AN8: =IF(AND(AL8>24,AM8>24),(IFERROR(((L8/E8*100)+(N8/G8*100)+(76-((((1.76*H8-O8)/H8)*100)-100))+(76-((((1.76*J8-Q8)/J8)*100)-100))),((L8/E8*100)+(N8/G8*100)+(76-((((1.76*H8-O8)/H8)*100)-100))))),(IFERROR(((L8/E8*100)+(N8/G8*100)+(((1.76*H8-O8)/H8)*100))+(((1.76*J8-Q8)/J8)*100),((L8/E8*100)+(N8/G8*100)+(((1.76*H8-O8)/H8)*100))))) -> #DIV/0! | AO8: =IF(AL8>24,(((L8/E8*100)+(N8/G8*100)+(76-((((1.76*H8-O8)/H8)*100)-100)))),(((L8/E8*100)+(N8/G8*100)+(((1.76*H8-O8)/H8)*100)))) -> 261 | AP8: =IFERROR(AN8,AO8) -> 261
A9: 2 | B9: ='FORM SKP'!B12 -> Mencatat data mutasi kepegawaian | E9: ='FORM SKP'!F12 -> 120 | F9: ='FORM SKP'!G12 -> dokumen | G9: ='FORM SKP'!H12 -> 100 | H9: ='FORM SKP'!I12 -> 6 | I9: ='FORM SKP'!J12 -> bulan | J9: ='FORM SKP'!K12 -> 0 | L9: 110 | M9: =F9 -> dokumen | N9: 85 | O9: 6 | P9: =I9 -> bulan | R9: =AH9 -> 252.66667 | S9: =IF(Q9="",R9/3,R9/4) -> 84.222222 | U9: =IF(E9>0,1,0) -> 1 | V9: =IFERROR(S9,0) -> 84.222222 | X9: =100-(O9/H9*100) -> 0 | Y9: =100-(Q9/J9*100) -> #DIV/0! | Z9: =L9/E9*100 -> 91.666667 | AA9: =N9/G9*100 -> 85 | AB9: =IF(X9>24,AE9,AD9) -> 76 | AC9: =IF(Y9>24,AG9,AF9) -> #DIV/0! | AD9: =((1.76*H9-O9)/H9)*100 -> 76 | AE9: =76-((((1.76*H9-O9)/H9)*100)-100) -> 100 | AF9: =((1.76*J9-Q9)/J9)*100 -> #DIV/0! | AG9: =76-((((1.76*J9-Q9)/J9)*100)-100) -> #DIV/0! | AH9: =IFERROR(SUM(Z9:AC9),SUM(Z9:AB9)) -> 252.66667 | AL9: =100-(O9/H9*100) -> 0 | AM9: =100-(Q9/J9*100) -> #DIV/0! | AN9: =IF(AND(AL9>24,AM9>24),(IFERROR(((L9/E9*100)+(N9/G9*100)+(76-((((1.76*H9-O9)/H9)*100)-100))+(76-((((1.76*J9-Q9)/J9)*100)-100))),((L9/E9*100)+(N9/G9*100)+(76-((((1.76*H9-O9)/H9)*100)-100))))),(IFERROR(((L9/E9*100)+(N9/G9*100)+(((1.76*H9-O9)/H9)*100))+(((1.76*J9-Q9)/J9)*100),((L9/E9*100)+(N9/G9*100)+(((1.76*H9-O9)/H9)*100))))) -> #DIV/0! | AO9: =IF(AL9>24,(((L9/E9*100)+(N9/G9*100)+(76-((((1.76*H9-O9)/H9)*100)-100)))),(((L9/E9*100)+(N9/G9*100)+(((1.76*H9-O9)/H9)*100)))) -> 252.66667 | AP9: =IFERROR(AN9,AO9) -> 252.66667
A10: 3 | B10: ='FORM SKP'!B13 -> Membuat laporan | E10: ='FORM SKP'!F13 -> 6 | F10: ='FORM SKP'!G13 -> laporan | G10: ='FORM SKP'!H13 -> 100 | H10: ='FORM SKP'!I13 -> 12 | I10: ='FORM SKP'!J13 -> bulan | J10: ='FORM SKP'!K13 -> 0 | L10: - | M10: - | N10: - | O10: - | P10: - | R10: - | S10: - | U10: - | V10: =IFERROR(S10,0) -> - | X10: =100-(O10/H10*100) -> #VALUE! | Y10: =100-(Q10/J10*100) -> #DIV/0! | Z10: =L10/E10*100 -> #VALUE! | AA10: =N10/G10*100 -> #VALUE! | AB10: =IF(X10>24,AE10,AD10) -> #VALUE! | AC10: =IF(Y10>24,AG10,AF10) -> #DIV/0! | AD10: =((1.76*H10-O10)/H10)*100 -> #VALUE! | AE10: =76-((((1.76*H10-O10)/H10)*100)-100) -> #VALUE! | AF10: =((1.76*J10-Q10)/J10)*100 -> #DIV/0! | AG10: =76-((((1.76*J10-Q10)/J10)*100)-100) -> #DIV/0! | AH10: =IFERROR(SUM(Z10:AC10),SUM(Z10:AB10)) -> #VALUE! | AL10: =100-(O10/H10*100) -> #VALUE! | AM10: =100-(Q10/J10*100) -> #DIV/0! | AN10: =IF(AND(AL10>24,AM10>24),(IFERROR(((L10/E10*100)+(N10/G10*100)+(76-((((1.76*H10-O10)/H10)*100)-100))+(76-((((1.76*J10-Q10)/J10)*100)-100))),((L10/E10*100)+(N10/G10*100)+(76-((((1.76*H10-O10)/H10)*100)-100))))),(IFERROR(((L10/E10*100)+(N10/G10*100)+(((1.76*H10-O10)/H10)*100))+(((1.76*J10-Q10)/J10)*100),((L10/E10*100)+(N10/G10*100)+(((1.76*H10-O10)/H10)*100))))) -> #VALUE! | AO10: =IF(AL10>24,(((L10/E10*100)+(N10/G10*100)+(76-((((1.76*H10-O10)/H10)*100)-100)))),(((L10/E10*100)+(N10/G10*100)+(((1.76*H10-O10)/H10)*100)))) -> #VALUE! | AP10: =IFERROR(AN10,AO10) -> #VALUE!
A11: 11 | B11: ='FORM SKP'!#REF! -> #REF! | E11: ='FORM SKP'!#REF! -> #REF! | F11: ='FORM SKP'!#REF! -> #REF! | G11: ='FORM SKP'!#REF! -> #REF! | H11: ='FORM SKP'!#REF! -> #REF! | I11: ='FORM SKP'!#REF! -> #REF! | J11: ='FORM SKP'!#REF! -> #REF! | M11: =F11 -> #REF! | P11: =I11 -> #REF! | R11: =AH11 -> #REF! | S11: =IF(Q11="",R11/3,R11/4) -> #REF! | U11: =IF(E11>0,1,0) -> #REF! | V11: =IFERROR(S11,0) -> 0 | X11: =100-(O11/H11*100) -> #REF! | Y11: =100-(Q11/J11*100) -> #REF! | Z11: =L11/E11*100 -> #REF! | AA11: =N11/G11*100 -> #REF! | AB11: =IF(X11>24,AE11,AD11) -> #REF! | AC11: =IF(Y11>24,AG11,AF11) -> #REF! | AD11: =((1.76*H11-O11)/H11)*100 -> #REF! | AE11: =76-((((1.76*H11-O11)/H11)*100)-100) -> #REF! | AF11: =((1.76*J11-Q11)/J11)*100 -> #REF! | AG11: =76-((((1.76*J11-Q11)/J11)*100)-100) -> #REF! | AH11: =IFERROR(SUM(Z11:AC11),SUM(Z11:AB11)) -> #REF! | AL11: =100-(O11/H11*100) -> #REF! | AM11: =100-(Q11/J11*100) -> #REF! | AN11: =IF(AND(AL11>24,AM11>24),(IFERROR(((L11/E11*100)+(N11/G11*100)+(76-((((1.76*H11-O11)/H11)*100)-100))+(76-((((1.76*J11-Q11)/J11)*100)-100))),((L11/E11*100)+(N11/G11*100)+(76-((((1.76*H11-O11)/H11)*100)-100))))),(IFERROR(((L11/E11*100)+(N11/G11*100)+(((1.76*H11-O11)/H11)*100))+(((1.76*J11-Q11)/J11)*100),((L11/E11*100)+(N11/G11*100)+(((1.76*H11-O11)/H11)*100))))) -> #REF! | AO11: =IF(AL11>24,(((L11/E11*100)+(N11/G11*100)+(76-((((1.76*H11-O11)/H11)*100)-100)))),(((L11/E11*100)+(N11/G11*100)+(((1.76*H11-O11)/H11)*100)))) -> #REF! | AP11: =IFERROR(AN11,AO11) -> #REF!
A12: 12 | B12: ='FORM SKP'!#REF! -> #REF! | E12: ='FORM SKP'!#REF! -> #REF! | F12: ='FORM SKP'!#REF! -> #REF! | G12: ='FORM SKP'!#REF! -> #REF! | H12: ='FORM SKP'!#REF! -> #REF! | I12: ='FORM SKP'!#REF! -> #REF! | J12: ='FORM SKP'!#REF! -> #REF! | M12: =F12 -> #REF! | P12: =I12 -> #REF! | R12: =AH12 -> #REF! | S12: =IF(Q12="",R12/3,R12/4) -> #REF! | U12: =IF(E12>0,1,0) -> #REF! | V12: =IFERROR(S12,0) -> 0 | X12: =100-(O12/H12*100) -> #REF! | Y12: =100-(Q12/J12*100) -> #REF! | Z12: =L12/E12*100 -> #REF! | AA12: =N12/G12*100 -> #REF! | AB12: =IF(X12>24,AE12,AD12) -> #REF! | AC12: =IF(Y12>24,AG12,AF12) -> #REF! | AD12: =((1.76*H12-O12)/H12)*100 -> #REF! | AE12: =76-((((1.76*H12-O12)/H12)*100)-100) -> #REF! | AF12: =((1.76*J12-Q12)/J12)*100 -> #REF! | AG12: =76-((((1.76*J12-Q12)/J12)*100)-100) -> #REF! | AH12: =IFERROR(SUM(Z12:AC12),SUM(Z12:AB12)) -> #REF! | AL12: =100-(O12/H12*100) -> #REF! | AM12: =100-(Q12/J12*100) -> #REF! | AN12: =IF(AND(AL12>24,AM12>24),(IFERROR(((L12/E12*100)+(N12/G12*100)+(76-((((1.76*H12-O12)/H12)*100)-100))+(76-((((1.76*J12-Q12)/J12)*100)-100))),((L12/E12*100)+(N12/G12*100)+(76-((((1.76*H12-O12)/H12)*100)-100))))),(IFERROR(((L12/E12*100)+(N12/G12*100)+(((1.76*H12-O12)/H12)*100))+(((1.76*J12-Q12)/J12)*100),((L12/E12*100)+(N12/G12*100)+(((1.76*H12-O12)/H12)*100))))) -> #REF! | AO12: =IF(AL12>24,(((L12/E12*100)+(N12/G12*100)+(76-((((1.76*H12-O12)/H12)*100)-100)))),(((L12/E12*100)+(N12/G12*100)+(((1.76*H12-O12)/H12)*100)))) -> #REF! | AP12: =IFERROR(AN12,AO12) -> #REF!
A13: 14 | B13: ='FORM SKP'!#REF! -> #REF! | E13: ='FORM SKP'!#REF! -> #REF! | F13: ='FORM SKP'!#REF! -> #REF! | G13: ='FORM SKP'!#REF! -> #REF! | H13: ='FORM SKP'!#REF! -> #REF! | I13: ='FORM SKP'!#REF! -> #REF! | J13: ='FORM SKP'!#REF! -> #REF! | M13: =F13 -> #REF! | P13: =I13 -> #REF! | R13: =AH13 -> #REF! | S13: =IF(Q13="",R13/3,R13/4) -> #REF! | U13: =IF(E13>0,1,0) -> #REF! | V13: =IFERROR(S13,0) -> 0 | X13: =100-(O13/H13*100) -> #REF! | Y13: =100-(Q13/J13*100) -> #REF! | Z13: =L13/E13*100 -> #REF! | AA13: =N13/G13*100 -> #REF! | AB13: =IF(X13>24,AE13,AD13) -> #REF! | AC13: =IF(Y13>24,AG13,AF13) -> #REF! | AD13: =((1.76*H13-O13)/H13)*100 -> #REF! | AE13: =76-((((1.76*H13-O13)/H13)*100)-100) -> #REF! | AF13: =((1.76*J13-Q13)/J13)*100 -> #REF! | AG13: =76-((((1.76*J13-Q13)/J13)*100)-100) -> #REF! | AH13: =IFERROR(SUM(Z13:AC13),SUM(Z13:AB13)) -> #REF! | AL13: =100-(O13/H13*100) -> #REF! | AM13: =100-(Q13/J13*100) -> #REF! | AN13: =IF(AND(AL13>24,AM13>24),(IFERROR(((L13/E13*100)+(N13/G13*100)+(76-((((1.76*H13-O13)/H13)*100)-100))+(76-((((1.76*J13-Q13)/J13)*100)-100))),((L13/E13*100)+(N13/G13*100)+(76-((((1.76*H13-O13)/H13)*100)-100))))),(IFERROR(((L13/E13*100)+(N13/G13*100)+(((1.76*H13-O13)/H13)*100))+(((1.76*J13-Q13)/J13)*100),((L13/E13*100)+(N13/G13*100)+(((1.76*H13-O13)/H13)*100))))) -> #REF! | AO13: =IF(AL13>24,(((L13/E13*100)+(N13/G13*100)+(76-((((1.76*H13-O13)/H13)*100)-100)))),(((L13/E13*100)+(N13/G13*100)+(((1.76*H13-O13)/H13)*100)))) -> #REF! | AP13: =IFERROR(AN13,AO13) -> #REF!
A14: JUMLAH
B15: II. TUGAS TAMBAHAN DAN KREATIVITAS :
A16: 1 | B16: (tugas tambahan) | AA16: (1.76*G8-N8)/G8)*100) | AK16: (76-((((1.76*G8-N8)/G8)*100)-100))
B17: (tugas tambahan) | AA17: (1.76*I8-P8)/I8)*100) | AK17: (76-((((1.76*I8-P8)/I8)*100)-100))
A18: 2 | B18: (kreatifitas)
B19: (kreatifitas) | Y19: =SUM(#REF!) -> #REF!
A21: Nilai Capaian SKP | S21: =(SUM(V8:V10)/U21)+S16+S18 -> 85.611111 | U21: =SUM(U8:U10) -> 2
S22: =IF(S21<=50,"(Buruk)",IF(S21<=60,"(Sedang)",IF(S21<=75,"(Cukup)",IF(S21<=90.99,"(Baik)","(Sangat Baik)")))) -> (Baik)
N24: Purwokerto, 30 Juni 2021
N25: Pejabat Penilai,
B26: Jika ada kegiatan yang belum dilaksanakan pada periode Januari s.d. Juni 2021 pada cell | U26: =R8/3 -> 87
B27: tersebut untuk dikosongkan atau dicoret, agar tidak berpengaruh pada hasil akhir penilaian SKP
N28: ='FORM SKP'!A21 -> Purwati, S.E.
N29: ='FORM SKP'!A22 -> NIP 19740101 199610 2 012

Sheet PERILAKU KERJA
A1: BUKU CATATAN PENILAIAN PERILAKU PNS
A3: Nama | C3: : | D3: ='FORM SKP'!H4 -> M. Setiono
A4: NIP | C4: : | D4: ='FORM SKP'!H5 -> 19761206 199903 1 001
A6: No | B6: Tanggal | E6: Uraian | J6: Nama/NIP dan Paraf Pejabat Penilai
A7: 1 | B7: 2 | E7: 3 | J7: 4
A9: 1 | B9: =PENGUKURAN!A4 -> 4 Januari s.d 30 Juni 2021 | E9: Penilaian SKP sampai dengan akhir Juni 2021 =
E10: =PENGUKURAN!$S$21 -> 85.611111 | F10: sedangkan penilaian perilaku kerjanya adalah
E11: sebagai berikut :
E12: Orientasi Pelayanan | G12: = | H12: 85 | I12: =IF(H12<=50,"(Buruk)",IF(H12<=60,"(Kurang)",IF(H12<=75,"(Cukup)",IF(H12<=90.99,"(Baik)","(Sangat Baik)")))) -> (Baik) | J12: ='FORM SKP'!C7 -> Kasi Mutasi
E13: Integritas | G13: = | H13: 84 | I13: =IF(H13<=50,"(Buruk)",IF(H13<=60,"(Kurang)",IF(H13<=75,"(Cukup)",IF(H13<=90.99,"(Baik)","(Sangat Baik)")))) -> (Baik)
E14: Komitmen | G14: = | H14: 83 | I14: =IF(H14<=50,"(Buruk)",IF(H14<=60,"(Kurang)",IF(H14<=75,"(Cukup)",IF(H14<=90.99,"(Baik)","(Sangat Baik)")))) -> (Baik)
E15: Disiplin | G15: = | H15: 82 | I15: =IF(H15<=50,"(Buruk)",IF(H15<=60,"(Kurang)",IF(H15<=75,"(Cukup)",IF(H15<=90.99,"(Baik)","(Sangat Baik)")))) -> (Baik)
E16: Kerjasama | G16: = | H16: 81 | I16: =IF(H16<=50,"(Buruk)",IF(H16<=60,"(Kurang)",IF(H16<=75,"(Cukup)",IF(H16<=90.99,"(Baik)","(Sangat Baik)")))) -> (Baik) | J16: ='FORM SKP'!C4 -> Purwati, S.E.
E17: Kepemimpinan | G17: = | I17: =IF(H17<=50,"(Buruk)",IF(H17<=60,"(Kurang)",IF(H17<=75,"(Cukup)",IF(H17<=90.99,"(Baik)","(Sangat Baik)")))) -> (Buruk) | J17: ="NIP "&'FORM SKP'!C5 -> NIP 19740101 199610 2 012
E18: Jumlah | G18: = | H18: =SUM(H12:H17) -> 415
E19: Nilai Rata-rata | G19: = | H19: =IF(H17="",H18/5,H18/6) -> 83 | I19: =IF(H19<=50,"(Buruk)",IF(H19<=60,"(Kurang)",IF(H19<=75,"(Cukup)",IF(H19<=90.99,"(Baik)","(Sangat Baik)")))) -> (Baik)

Sheet penilaian baru
B1: PENILAIAN PRESTASI KERJA PNS PERIODE JANUARI - JUNI 2021
A3: PEJABAT PENILAI | D3: PNS YANG DINILAI
A4: NAMA | C4: ='DATA SKP'!E13 -> Purwati, S.E. | D4: NAMA | E4: ='DATA SKP'!E7 -> M. Setiono
A5: NIP | C5: ='DATA SKP'!E14 -> 19740101 199610 2 012 | D5: NIP | E5: ='DATA SKP'!E8 -> 19761206 199903 1 001
A6: PANGKAT/GOL RUANG | C6: ='DATA SKP'!E15 -> Penata (III/c) | D6: PANGKAT/GOL RUANG | E6: ='DATA SKP'!E9 -> Penata Muda (III/a)
A7: JABATAN | C7: ='DATA SKP'!E16 -> Kasi Mutasi | D7: JABATAN | E7: ='DATA SKP'!E10 -> Pengelola Kepegawaian
A8: UNIT KERJA | C8: ='DATA SKP'!E17 -> BKPSDM Kab. Banyumas | D8: UNIT KERJA | E8: ='DATA SKP'!E11 -> BKPSDM Kab. Banyumas
A9: TANGGAL PENILAIAN | C9: 30 Juni 2021
A10: UNSUR YANG DINILAI | D10: NILAI
A11: a. | B11: Sasaran Kinerja Pegawai (SKP) | D11: =PENGUKURAN!S21 -> 85.611111
A12: b. | B12: Perilaku Kerja Pegawai | D12: ='PERILAKU KERJA'!H19 -> 83
A13: NILAI PRESTASI KERJA PNS | D13: =(D11*60%)+(D12*40%) -> 84.566667
A14: (60% Nilai SKP dan 40% Nilai Perilaku Kerja)
B16: . | D16: Purwokerto, 30 Juni 2021
B17: Pejabat Penilai, | D17: PNS Yang Dinilai,
B20: ='DATA SKP'!E13 -> Purwati, S.E. | D20: ='DATA SKP'!E7 -> M. Setiono
B21: ='DATA SKP'!E14 -> 19740101 199610 2 012 | D21: ='DATA SKP'!E8 -> 19761206 199903 1 001
