Workbook
Name asdep: #REF!
Name kegiatan: #REF!

Sheet Data SKP
A1: DATA SASARAN KINERJA PEGAWAI
A3: INSTANSI | D3: : | E3: BKPSDM Kab Banyumas
A4: JANGKA WAKTU PENILAIAN | D4: : | E4: tanggal-bulan s.d. tanggal-bulan-tahun
A6: 1 | B6: YANG DINILAI
B7: a. | C7: Nama | D7: : | E7: Budi
B8: b. | C8: NIP | D8: : | E8: 12345
B9: c. | C9: Pangkat/Gol.Ruang | D9: : | E9: Penata-III/c
B10: d. | C10: Jabatan | D10: : | E10: Pengelola
B11: e. | C11: Unit Kerja | D11: : | E11: BKPSDM Kab Banyumas
A12: 2 | B12: PEJABAT PENILAI
B13: a. | C13: Nama | D13: : | E13: Iwan
B14: b. | C14: NIP | D14: : | E14: 12345
B15: c. | C15: Pangkat/Gol.Ruang | D15: : | E15: Pembina-IV/a
B16: d. | C16: Jabatan | D16: : | E16: Kasubbid
B17: e. | C17: Unit Kerja | D17: : | E17: BKPSDM Kab Banyumas

Sheet SKP
C2: SASARAN KINERJA PEGAWAI (SKP) (JA/JF)
G4: Periode Penilaian :
B5: Nama Instansi : | G5: ='Data SKP'!E4 -> tanggal-bulan s.d. tanggal-bulan-tahun
B6: PEGAWAI YANG DINILAI | F6: PEJABAT PENILAI KINERJA
B7: Nama | D7: ='Data SKP'!E7 -> Budi | F7: Nama | G7: ='Data SKP'!E13 -> Iwan
B8: NIP | D8: ='Data SKP'!E8 -> 12345 | F8: NIP | G8: ='Data SKP'!E14 -> 12345
B9: Pangkat/Gol Ruang | D9: ='Data SKP'!E9 -> Penata-III/c | F9: Pangkat/Gol Ruang | G9: ='Data SKP'!E15 -> Pembina-IV/a
B10: Jabatan | D10: ='Data SKP'!E10 -> Pengelola | F10: Jabatan | G10: ='Data SKP'!E16 -> Kasubbid
B11: Unit Kerja | D11: ='Data SKP'!E11 -> BKPSDM Kab Banyumas | F11: Unit Kerja | G11: ='Data SKP'!E17 -> BKPSDM Kab Banyumas
B12: NO | C12: RENCANA KINERJA ATASAN LANGSUNG YANG DI INTERVENSI | D12: RENCANA KINERJA | E12: ASPEK | G12: INDIKATOR KINERJA INDIVIDU | H12: TARGET | J12: Satuan
H13: Min | I13: Max / Single Rate
B14: (1) | C14: (2) | D14: (3) | E14: (4) | G14: (5) | H14: (6)
B15: A. KINERJA UTAMA
B16: 1 | C16: A | D16: A | E16: Kuantitas | G16: A | H16: 3 | I16: 4 | J16: -
E17: Kualitas | G17: B | H17: 3 | I17: 4 | J17: -
E18: Waktu | G18: C | H18: 3 | I18: 4 | J18: -
B19: 2 | C19: B | D19: B | E19: Kuantitas | G19: D | H19: 3 | I19: 4 | J19: -
E20: Kualitas | G20: E | H20: 3 | I20: 4 | J20: -
E21: Waktu | G21: F | H21: 3 | I21: 4 | J21: -
B22: 3 | C22: C | D22: C | E22: Kuantitas | G22: G | H22: 3 | I22: 4 | J22: -
E23: Kualitas | G23: H | H23: 3 | I23: 4 | J23: -
E24: Waktu | G24: I | H24: 3 | I24: 4 | J24: -
B25: 4 | C25: D | D25: D | E25: Kuantitas | G25: J | H25: 3 | I25: 4 | J25: -
E26: Kualitas | G26: K | H26: 3 | I26: 4 | J26: -
E27: Waktu | G27: L | H27: 3 | I27: 4 | J27: -
B28: B. KINERJA TAMBAHAN
B29: 1a | C29: a1 | D29: b1 | E29: Kuantitas | G29: AK | H29: - | I29: 5 | J29: -
B30: 2 | C30: a2 | D30: b2 | E30: Kualitas | G30: AL | H30: - | I30: 5 | J30: -
B31: 3 | C31: a3 | D31: b3 | E31: Waktu | G31: AM | H31: - | I31: 5 | J31: -
B32: 1b | C32: a2 | D32: b2 | E32: Kuantitas | G32: AN | H32: - | I32: 5 | J32: -
B33: 5 | C33: a5 | D33: b5 | E33: Kualitas | G33: AO | H33: - | I33: 5 | J33: -
B34: 6 | C34: a6 | D34: b6 | E34: Waktu | G34: AP | H34: - | I34: 5 | J34: -
B35: 1c | C35: a3 | D35: b3 | E35: Kuantitas | G35: AQ | H35: - | I35: 5 | J35: -
B36: 8 | C36: a8 | D36: b8 | E36: Kualitas | G36: AR | H36: - | I36: 5 | J36: -
E37: Waktu | G37: AS | H37: - | I37: 5 | J37: -
G40: (tempat), (tanggal, bulan, tahun)
C41: Pegawai yang Dinilai | G41: Pejabat Penilai Kinerja
C45: (Nama) | G45: (Nama)
C46: (NIP) | G46: (NIP)

Sheet PENILAIAN SKP
A2: PENILAIAN SASARAN KINERJA PEGAWAI (SKP) JA/JF
B4: NAMA INSTANSI : | O4: Periode penilaian: tanggal-bulan s.d. tanggal-bulan-tahun | AC4: Kategori | AD4: Poin
B5: PEGAWAI YANG DINILAI | K5: PEJABAT PENILAI KINERJA | AC5: - | AD5: -
B6: Nama | C6: : | D6: ='Data SKP'!E7 -> Budi | K6: Nama | L6: : | M6: ='Data SKP'!E13 -> Iwan | AC6: Sangat Baik | AD6: 16
B7: NIP | C7: : | D7: ='Data SKP'!E8 -> 12345 | K7: NIP | L7: : | M7: ='Data SKP'!E14 -> 12345 | AC7: Baik | AD7: 13
B8: Pangkat/Gol Ruang | C8: : | D8: ='Data SKP'!E9 -> Penata-III/c | K8: Pangkat/Gol Ruang | L8: : | M8: ='Data SKP'!E15 -> Pembina-IV/a | AC8: Cukup | AD8: 8
B9: Jabatan | C9: : | D9: ='Data SKP'!E10 -> Pengelola | K9: Jabatan | L9: : | M9: ='Data SKP'!E16 -> Kasubbid | AC9: Kurang | AD9: 3
B10: Unit Kerja | C10: : | D10: ='Data SKP'!E11 -> BKPSDM Kab Banyumas | K10: Unit Kerja | L10: : | M10: ='Data SKP'!E17 -> BKPSDM Kab Banyumas | AC10: Sangat Kurang | AD10: 1
A11: NO | B11: RENCANA KINERJA ATASAN LANGSUNG YANG DI INTERVENSI | D11: RENCANA KINERJA | G11: ASPEK | I11: INDIKATOR KINERJA INDIVIDU | L11: TARGET | N11: REALISASI | O11: KONDISI | R11: CAPAIAN IKI | S11: KATEGORI CAPAIAN IKI | U11: CAPAIAN RENCANA KINERJA | Z11: Metode Cascasding (KU) /Bobot (KT) | AA11: Nilai Tertimbang
L12: MIN | M12: MAX / Single Rate | P12: Single | Q12: Range | U12: Jumlah Indikator | X12: KATEGORI | Y12: NILAI
A13: (1) | B13: (2) | D13: (3) | G13: (4) | I13: (5) | M13: (6) | N13: (7) | O13: (8) | R13: (9) | S13: (10) | U13: 3 | V13: 2 | W13: 1 | X13: (11) | Y13: (12) | Z13: (13) | AA13: (14) | AM13: TABEL KATEGORI CAPAIAN RENCANA KINERJA
A14: A. KINERJA UTAMA | AE14: No. | AF14: RENCANA KINERJA ATASAN | AG14: INDIKATOR INDIVIDU | AH14: NILAI ATASAN | AI14: Nilai | AJ14: Bobot Penilaian | AK14: Bobot X Nilai Atasan | AM14: Kategori | AN14: Nilai | AO14: Bobot Atasan
A15: 1 | B15: =SKP!C16 -> A | D15: =SKP!D16 -> A | E15: =IF(B15="-",E12,B15) -> A | F15: =D15 -> A | G15: KUANTITAS | H15: =G15&F15 -> KUANTITASA | I15: =SKP!G16 -> A | L15: =SKP!H16 -> 3 | M15: =SKP!I16 -> 4 | N15: 4 | O15: NORMAL | P15: =IF(OR(I15="-",I15=0,I15=""),0,IF(NOT(OR(L15="-",L15=0,L15="")),0,IF(O15="KHUSUS",IF((1+(1-(N15/M15)))<0%,0%,1+(1-(N15/M15))),IF(O15="NORMAL",IF(N15/M15<0%,0%,N15/M15))))) -> 0 | Q15: =IF(OR(I15="-",I15=0,I15=""),0,IF(COUNT(L15:M15)<2,0,IF(O15="KHUSUS",IF(N15>=M15,IF(1+(1-(N15/M15))<=0%,0%,1+(1-(N15/M15))),IF(N15<=L15,1+(1-(N15/L15)),IF(AND(N15>=L15,N15<=M15),1))),IF(O15="NORMAL",IF(AND(N15>=L15,N15<=M15),1,IF(N15>=M15,N15/M15,IF(N15<=L15,IF(N15/L15<=0%,0%,N15/L15)))))))) -> 1 | R15: =ROUND(SUM(P15:Q15),2) -> 1 | S15: =IF(I15="-","-",IF(R15<=59%,"Sangat Kurang",IF(R15<=79%,"Kurang",IF(R15<=99%,"Cukup",IF(R15=100%,"Baik",IF(R15>=101%,"Sangat Baik")))))) -> Baik | T15: =VLOOKUP(S15,$AC$5:$AF$10,2,0) -> 13 | U15: =IF(NOT(COUNT(T15:T17))=2,"-",IF(COUNT(T15:T17)<3,"-",IF(COUNTIF(S15:S17,"Sangat Kurang")>=2,"Sangat Kurang",IF(OR(AND(VLOOKUP(S15,$AC$6:$AF$10,2,0)+VLOOKUP(S16,$AC$6:$AF$10,2,0)+VLOOKUP(S17,$AC$6:$AF$10,2,0)<=18,OR(COUNTIF(A12:C12,"Kurang")>=2,COUNTIF(S15:S17,"Sangat Kurang")>=1)),AND(VLOOKUP(S15,$AC$6:$AF$10,2,0)+VLOOKUP(S16,$AC$6:$AF$10,2,0)+VLOOKUP(S17,$AC$6:$AF$10,2,0)>=18,VLOOKUP(S15,$AC$6:$AF$10,2,0)+VLOOKUP(S16,$AC$6:$AF$10,2,0)+VLOOKUP(S17,$AC$6:$AF$10,2,0)<=33,OR(COUNTIF(S15:S17,"Sangat Kurang")>=1,(COUNTIF(S15:S17,"Kurang")>=2)))),"Kurang",IF(OR(VLOOKUP(S15,$AC$6:$AF$10,2,0)+VLOOKUP(S16,$AC$6:$AF$10,2,0)+VLOOKUP(S17,$AC$6:$AF$10,2,0)=35,AND(VLOOKUP(S15,$AC$6:$AF$10,2,0)+VLOOKUP(S16,$AC$6:$AF$10,2,0)+VLOOKUP(S17,$AC$6:$AF$10,2,0)>=19,VLOOKUP(S15,$AC$6:$AF$10,2,0)+VLOOKUP(S16,$AC$6:$AF$10,2,0)+VLOOKUP(S17,$AC$6:$AF$10,2,0)<=33,OR(COUNTIF(S15:S17,"Kurang")<=1,COUNTIF(S15:S17,"Sangat Kurang"<1)))),"Cukup",IF(AND(VLOOKUP(S15,$AC$6:$AF$10,2,0)+VLOOKUP(S16,$AC$6:$AF$10,2,0)+VLOOKUP(S17,$AC$6:$AF$10,2,0)>=34,VLOOKUP(S15,$AC$6:$AF$10,2,0)+VLOOKUP(S16,$AC$6:$AF$10,2,0)+VLOOKUP(S17,$AC$6:$AF$10,2,0)<=42,COUNTIF(S15:S17,"Kurang")<1),"Baik",IF(VLOOKUP(S15,$AC$6:$AF$10,2,0)+VLOOKUP(S16,$AC$6:$AF$10,2,0)+VLOOKUP(S17,$AC$6:$AF$10,2,0)>=45,"Sangat Baik","-"))))))) -> Baik | V15: =IF(NOT(COUNT(T15:T17)=2),"-",IF(COUNTIF(S15:S17,"Sangat Baik")=2,"Sangat Baik",IF(AND(COUNTIF(S15:S17,"Sangat Baik")=1,COUNTIF(S15:S17,"Baik")=1),"Sangat Baik",IF(AND(COUNTIF(S15:S17,"Sangat Baik")=1,COUNTIF(S15:S17,"Cukup")=1),"Baik",IF(AND(COUNTIF(S15:S17,"Sangat Baik")=1,COUNTIF(S15:S17,"Kurang")=1),"Cukup",IF(AND(COUNTIF(S15:S17,"Sangat Baik")=1,COUNTIF(S15:S17,"Sangat Kurang")=1),"Kurang",IF(COUNTIF(S15:S17,"Baik")=2,"Baik",IF(AND(COUNTIF(S15:S17,"Baik")=1,COUNTIF(S15:S17,"Cukup")=1),"Baik",IF(AND(COUNTIF(S15:S17,"Baik")=1,COUNTIF(S15:S17,"Kurang")=1),"Cukup",IF(AND(COUNTIF(S15:S17,"Baik")=1,COUNTIF(S15:S17,"Sangat Kurang")=1),"Kurang",IF(COUNTIF(S15:S17,"Cukup")=2,"Cukup",IF(AND(COUNTIF(S15:S17,"Cukup")=1,COUNTIF(S15:S17,"Kurang")=1),"Cukup",IF(AND(COUNTIF(S15:S17,"Cukup")=1,COUNTIF(S15:S17,"Sangat Kurang")=1),"Kurang",IF(COUNTIF(S15:S17,"Kurang")=2,"Kurang",IF(AND(COUNTIF(S15:S17,"Kurang")=1,COUNTIF(S15:S17,"Sangat Kurang")=1),"Kurang",IF(COUNTIF(S15:S17,"Sangat Kurang")=2,"Sangat Kurang","-")))))))))))))))) -> - | W15: =IF(COUNT(T15:T17)>1,"-",IF(COUNTIF(S15:S17,"Sangat Baik")=1,"Sangat Baik",IF(COUNTIF(S15:S17,"Baik")=1,"Baik",IF(COUNTIF(S15:S17,"Cukup")=1,"Cukup",IF(COUNTIF(S15:S17,"Kurang")=1,"Kurang",IF(COUNTIF(S15:S17,"Sangat Kurang")=1,"Sangat Kurang","-")))))) -> - | X15: =IF(COUNT(T15:T17)=1,W15,IF(COUNT(T15:T17)=2,V15,U15)) -> Baik | Y15: =VLOOKUP(X15,$AM$15:$AN$19,2,0) -> 100 | Z15: DIRECT | AE15: 1 | AF15: AB | AG15: A | AH15: Cukup | AI15: =VLOOKUP(AH15,$AM$15:$AN$19,2,0) -> 80 | AJ15: =VLOOKUP(AH15,$AM$15:$AO$19,3,0) -> 10 | AK15: =AI15*AJ15/100 -> 8 | AM15: sangat baik | AN15: 120 | AO15: 20
F16: =F15 -> A | G16: KUALITAS | H16: =G16&F16 -> KUALITASA | I16: =SKP!G17 -> B | L16: =SKP!H17 -> 3 | M16: =SKP!I17 -> 4 | N16: 4 | O16: NORMAL | P16: =IF(OR(I16="-",I16=0,I16=""),0,IF(NOT(OR(L16="-",L16=0,L16="")),0,IF(O16="KHUSUS",IF((1+(1-(N16/M16)))<0%,0%,1+(1-(N16/M16))),IF(O16="NORMAL",IF(N16/M16<0%,0%,N16/M16))))) -> 0 | Q16: =IF(OR(I16="-",I16=0,I16=""),0,IF(COUNT(L16:M16)<2,0,IF(O16="KHUSUS",IF(N16>=M16,IF(1+(1-(N16/M16))<=0%,0%,1+(1-(N16/M16))),IF(N16<=L16,1+(1-(N16/L16)),IF(AND(N16>=L16,N16<=M16),1))),IF(O16="NORMAL",IF(AND(N16>=L16,N16<=M16),1,IF(N16>=M16,N16/M16,IF(N16<=L16,IF(N16/L16<=0%,0%,N16/L16)))))))) -> 1 | R16: =ROUND(SUM(P16:Q16),2) -> 1 | S16: =IF(I16="-","-",IF(R16<=59%,"Sangat Kurang",IF(R16<=79%,"Kurang",IF(R16<=99%,"Cukup",IF(R16=100%,"Baik",IF(R16>=101%,"Sangat Baik")))))) -> Baik | T16: =VLOOKUP(S16,$AC$5:$AF$10,2,0) -> 13 | AA16: =IF(Z15="DIRECT",Y15,(Y15*80%)+(VLOOKUP(E15,$AF$15:$AK$27,6,0))) -> 100 | AE16: 2 | AF16: B | AG16: B | AH16: Sangat Kurang | AI16: =VLOOKUP(AH16,$AM$15:$AN$19,2,0) -> 25 | AJ16: 20 | AK16: =AI16*AJ16/100 -> 5 | AM16: Baik | AN16: 100 | AO16: 20
F17: =F16 -> A | G17: WAKTU | H17: =G17&F17 -> WAKTUA | I17: =SKP!G18 -> C | L17: =SKP!H18 -> 3 | M17: =SKP!I18 -> 4 | N17: 4 | O17: NORMAL | P17: =IF(OR(I17="-",I17=0,I17=""),0,IF(NOT(OR(L17="-",L17=0,L17="")),0,IF(O17="KHUSUS",IF((1+(1-(N17/M17)))<0%,0%,1+(1-(N17/M17))),IF(O17="NORMAL",IF(N17/M17<0%,0%,N17/M17))))) -> 0 | Q17: =IF(OR(I17="-",I17=0,I17=""),0,IF(COUNT(L17:M17)<2,0,IF(O17="KHUSUS",IF(N17>=M17,IF(1+(1-(N17/M17))<=0%,0%,1+(1-(N17/M17))),IF(N17<=L17,1+(1-(N17/L17)),IF(AND(N17>=L17,N17<=M17),1))),IF(O17="NORMAL",IF(AND(N17>=L17,N17<=M17),1,IF(N17>=M17,N17/M17,IF(N17<=L17,IF(N17/L17<=0%,0%,N17/L17)))))))) -> 1 | R17: =ROUND(SUM(P17:Q17),2) -> 1 | S17: =IF(I17="-","-",IF(R17<=59%,"Sangat Kurang",IF(R17<=79%,"Kurang",IF(R17<=99%,"Cukup",IF(R17=100%,"Baik",IF(R17>=101%,"Sangat Baik")))))) -> Baik | T17: =VLOOKUP(S17,$AC$5:$AF$10,2,0) -> 13 | AE17: 3 | AF17: C | AG17: C | AH17: Baik | AI17: =VLOOKUP(AH17,$AM$15:$AN$19,2,0) -> 100 | AJ17: 20 | AK17: =AI17*AJ17/100 -> 20 | AM17: Cukup | AN17: 80 | AO17: 10
A18: 2 | B18: =SKP!C19 -> B | D18: =SKP!D19 -> B | E18: =IF(B18="-",E15,B18) -> B | F18: =D18 -> B | G18: KUANTITAS | H18: =G18&F18 -> KUANTITASB | I18: =SKP!G19 -> D | L18: =SKP!H19 -> 3 | M18: =SKP!I19 -> 4 | N18: 4 | O18: NORMAL | P18: =IF(OR(I18="-",I18=0,I18=""),0,IF(NOT(OR(L18="-",L18=0,L18="")),0,IF(O18="KHUSUS",IF((1+(1-(N18/M18)))<0%,0%,1+(1-(N18/M18))),IF(O18="NORMAL",IF(N18/M18<0%,0%,N18/M18))))) -> 0 | Q18: =IF(OR(I18="-",I18=0,I18=""),0,IF(COUNT(L18:M18)<2,0,IF(O18="KHUSUS",IF(N18>=M18,IF(1+(1-(N18/M18))<=0%,0%,1+(1-(N18/M18))),IF(N18<=L18,1+(1-(N18/L18)),IF(AND(N18>=L18,N18<=M18),1))),IF(O18="NORMAL",IF(AND(N18>=L18,N18<=M18),1,IF(N18>=M18,N18/M18,IF(N18<=L18,IF(N18/L18<=0%,0%,N18/L18)))))))) -> 1 | R18: =ROUND(SUM(P18:Q18),2) -> 1 | S18: =IF(I18="-","-",IF(R18<=59%,"Sangat Kurang",IF(R18<=79%,"Kurang",IF(R18<=99%,"Cukup",IF(R18=100%,"Baik",IF(R18>=101%,"Sangat Baik")))))) -> Baik | T18: =VLOOKUP(S18,$AC$5:$AF$10,2,0) -> 13 | U18: =IF(NOT(COUNT(T18:T20))=2,"-",IF(COUNT(T18:T20)<3,"-",IF(COUNTIF(S18:S20,"Sangat Kurang")>=2,"Sangat Kurang",IF(OR(AND(VLOOKUP(S18,$AC$6:$AF$10,2,0)+VLOOKUP(S19,$AC$6:$AF$10,2,0)+VLOOKUP(S20,$AC$6:$AF$10,2,0)<=18,OR(COUNTIF(A15:C15,"Kurang")>=2,COUNTIF(S18:S20,"Sangat Kurang")>=1)),AND(VLOOKUP(S18,$AC$6:$AF$10,2,0)+VLOOKUP(S19,$AC$6:$AF$10,2,0)+VLOOKUP(S20,$AC$6:$AF$10,2,0)>=18,VLOOKUP(S18,$AC$6:$AF$10,2,0)+VLOOKUP(S19,$AC$6:$AF$10,2,0)+VLOOKUP(S20,$AC$6:$AF$10,2,0)<=33,OR(COUNTIF(S18:S20,"Sangat Kurang")>=1,(COUNTIF(S18:S20,"Kurang")>=2)))),"Kurang",IF(OR(VLOOKUP(S18,$AC$6:$AF$10,2,0)+VLOOKUP(S19,$AC$6:$AF$10,2,0)+VLOOKUP(S20,$AC$6:$AF$10,2,0)=35,AND(VLOOKUP(S18,$AC$6:$AF$10,2,0)+VLOOKUP(S19,$AC$6:$AF$10,2,0)+VLOOKUP(S20,$AC$6:$AF$10,2,0)>=19,VLOOKUP(S18,$AC$6:$AF$10,2,0)+VLOOKUP(S19,$AC$6:$AF$10,2,0)+VLOOKUP(S20,$AC$6:$AF$10,2,0)<=33,OR(COUNTIF(S18:S20,"Kurang")<=1,COUNTIF(S18:S20,"Sangat Kurang"<1)))),"Cukup",IF(AND(VLOOKUP(S18,$AC$6:$AF$10,2,0)+VLOOKUP(S19,$AC$6:$AF$10,2,0)+VLOOKUP(S20,$AC$6:$AF$10,2,0)>=34,VLOOKUP(S18,$AC$6:$AF$10,2,0)+VLOOKUP(S19,$AC$6:$AF$10,2,0)+VLOOKUP(S20,$AC$6:$AF$10,2,0)<=42,COUNTIF(S18:S20,"Kurang")<1),"Baik",IF(VLOOKUP(S18,$AC$6:$AF$10,2,0)+VLOOKUP(S19,$AC$6:$AF$10,2,0)+VLOOKUP(S20,$AC$6:$AF$10,2,0)>=45,"Sangat Baik","-"))))))) -> Baik | V18: =IF(NOT(COUNT(T18:T20)=2),"-",IF(COUNTIF(S18:S20,"Sangat Baik")=2,"Sangat Baik",IF(AND(COUNTIF(S18:S20,"Sangat Baik")=1,COUNTIF(S18:S20,"Baik")=1),"Sangat Baik",IF(AND(COUNTIF(S18:S20,"Sangat Baik")=1,COUNTIF(S18:S20,"Cukup")=1),"Baik",IF(AND(COUNTIF(S18:S20,"Sangat Baik")=1,COUNTIF(S18:S20,"Kurang")=1),"Cukup",IF(AND(COUNTIF(S18:S20,"Sangat Baik")=1,COUNTIF(S18:S20,"Sangat Kurang")=1),"Kurang",IF(COUNTIF(S18:S20,"Baik")=2,"Baik",IF(AND(COUNTIF(S18:S20,"Baik")=1,COUNTIF(S18:S20,"Cukup")=1),"Baik",IF(AND(COUNTIF(S18:S20,"Baik")=1,COUNTIF(S18:S20,"Kurang")=1),"Cukup",IF(AND(COUNTIF(S18:S20,"Baik")=1,COUNTIF(S18:S20,"Sangat Kurang")=1),"Kurang",IF(COUNTIF(S18:S20,"Cukup")=2,"Cukup",IF(AND(COUNTIF(S18:S20,"Cukup")=1,COUNTIF(S18:S20,"Kurang")=1),"Cukup",IF(AND(COUNTIF(S18:S20,"Cukup")=1,COUNTIF(S18:S20,"Sangat Kurang")=1),"Kurang",IF(COUNTIF(S18:S20,"Kurang")=2,"Kurang",IF(AND(COUNTIF(S18:S20,"Kurang")=1,COUNTIF(S18:S20,"Sangat Kurang")=1),"Kurang",IF(COUNTIF(S18:S20,"Sangat Kurang")=2,"Sangat Kurang","-")))))))))))))))) -> - | W18: =IF(COUNT(T18:T20)>1,"-",IF(COUNTIF(S18:S20,"Sangat Baik")=1,"Sangat Baik",IF(COUNTIF(S18:S20,"Baik")=1,"Baik",IF(COUNTIF(S18:S20,"Cukup")=1,"Cukup",IF(COUNTIF(S18:S20,"Kurang")=1,"Kurang",IF(COUNTIF(S18:S20,"Sangat Kurang")=1,"Sangat Kurang","-")))))) -> - | X18: =IF(COUNT(T18:T20)=1,W18,IF(COUNT(T18:T20)=2,V18,U18)) -> Baik | Y18: =VLOOKUP(X18,$AM$15:$AN$19,2,0) -> 100 | Z18: DIRECT | AE18: 4 | AF18: D | AG18: D | AH18: Sangat Baik | AI18: =VLOOKUP(AH18,$AM$15:$AN$19,2,0) -> 120 | AJ18: 20 | AK18: =AI18*AJ18/100 -> 24 | AM18: Kurang | AN18: 60 | AO18: 5
F19: =F18 -> B | G19: KUALITAS | H19: =G19&F19 -> KUALITASB | I19: =SKP!G20 -> E | L19: =SKP!H20 -> 3 | M19: =SKP!I20 -> 4 | N19: 4 | O19: NORMAL | P19: =IF(OR(I19="-",I19=0,I19=""),0,IF(NOT(OR(L19="-",L19=0,L19="")),0,IF(O19="KHUSUS",IF((1+(1-(N19/M19)))<0%,0%,1+(1-(N19/M19))),IF(O19="NORMAL",IF(N19/M19<0%,0%,N19/M19))))) -> 0 | Q19: =IF(OR(I19="-",I19=0,I19=""),0,IF(COUNT(L19:M19)<2,0,IF(O19="KHUSUS",IF(N19>=M19,IF(1+(1-(N19/M19))<=0%,0%,1+(1-(N19/M19))),IF(N19<=L19,1+(1-(N19/L19)),IF(AND(N19>=L19,N19<=M19),1))),IF(O19="NORMAL",IF(AND(N19>=L19,N19<=M19),1,IF(N19>=M19,N19/M19,IF(N19<=L19,IF(N19/L19<=0%,0%,N19/L19)))))))) -> 1 | R19: =ROUND(SUM(P19:Q19),2) -> 1 | S19: =IF(I19="-","-",IF(R19<=59%,"Sangat Kurang",IF(R19<=79%,"Kurang",IF(R19<=99%,"Cukup",IF(R19=100%,"Baik",IF(R19>=101%,"Sangat Baik")))))) -> Baik | T19: =VLOOKUP(S19,$AC$5:$AF$10,2,0) -> 13 | AA19: =IF(Z18="DIRECT",Y18,(Y18*80%)+(VLOOKUP(E18,$AF$15:$AK$27,6,0))) -> 100 | AE19: 5 | AF19: E | AG19: E | AH19: Sangat Baik | AI19: 96 | AJ19: 20 | AK19: =AI19*AJ19/100 -> 19.2 | AM19: Sangat Kurang | AN19: 25 | AO19: 1
F20: =F19 -> B | G20: WAKTU | H20: =G20&F20 -> WAKTUB | I20: =SKP!G21 -> F | L20: =SKP!H21 -> 3 | M20: =SKP!I21 -> 4 | N20: 4 | O20: NORMAL | P20: =IF(OR(I20="-",I20=0,I20=""),0,IF(NOT(OR(L20="-",L20=0,L20="")),0,IF(O20="KHUSUS",IF((1+(1-(N20/M20)))<0%,0%,1+(1-(N20/M20))),IF(O20="NORMAL",IF(N20/M20<0%,0%,N20/M20))))) -> 0 | Q20: =IF(OR(I20="-",I20=0,I20=""),0,IF(COUNT(L20:M20)<2,0,IF(O20="KHUSUS",IF(N20>=M20,IF(1+(1-(N20/M20))<=0%,0%,1+(1-(N20/M20))),IF(N20<=L20,1+(1-(N20/L20)),IF(AND(N20>=L20,N20<=M20),1))),IF(O20="NORMAL",IF(AND(N20>=L20,N20<=M20),1,IF(N20>=M20,N20/M20,IF(N20<=L20,IF(N20/L20<=0%,0%,N20/L20)))))))) -> 1 | R20: =ROUND(SUM(P20:Q20),2) -> 1 | S20: =IF(I20="-","-",IF(R20<=59%,"Sangat Kurang",IF(R20<=79%,"Kurang",IF(R20<=99%,"Cukup",IF(R20=100%,"Baik",IF(R20>=101%,"Sangat Baik")))))) -> Baik | T20: =VLOOKUP(S20,$AC$5:$AF$10,2,0) -> 13 | AE20: 6 | AF20: F | AG20: F | AH20: Sangat Kurang | AI20: =VLOOKUP(AH20,$AM$15:$AN$19,2,0) -> 25 | AJ20: 20 | AK20: =AI20*AJ20/100 -> 5
A21: 3 | B21: =SKP!C22 -> C | D21: =SKP!D22 -> C | E21: =IF(B21="-",E18,B21) -> C | F21: =D21 -> C | G21: KUANTITAS | H21: =G21&F21 -> KUANTITASC | I21: =SKP!G22 -> G | L21: =SKP!H22 -> 3 | M21: =SKP!I22 -> 4 | N21: 4 | O21: NORMAL | P21: =IF(OR(I21="-",I21=0,I21=""),0,IF(NOT(OR(L21="-",L21=0,L21="")),0,IF(O21="KHUSUS",IF((1+(1-(N21/M21)))<0%,0%,1+(1-(N21/M21))),IF(O21="NORMAL",IF(N21/M21<0%,0%,N21/M21))))) -> 0 | Q21: =IF(OR(I21="-",I21=0,I21=""),0,IF(COUNT(L21:M21)<2,0,IF(O21="KHUSUS",IF(N21>=M21,IF(1+(1-(N21/M21))<=0%,0%,1+(1-(N21/M21))),IF(N21<=L21,1+(1-(N21/L21)),IF(AND(N21>=L21,N21<=M21),1))),IF(O21="NORMAL",IF(AND(N21>=L21,N21<=M21),1,IF(N21>=M21,N21/M21,IF(N21<=L21,IF(N21/L21<=0%,0%,N21/L21)))))))) -> 1 | R21: =ROUND(SUM(P21:Q21),2) -> 1 | S21: =IF(I21="-","-",IF(R21<=59%,"Sangat Kurang",IF(R21<=79%,"Kurang",IF(R21<=99%,"Cukup",IF(R21=100%,"Baik",IF(R21>=101%,"Sangat Baik")))))) -> Baik | T21: =VLOOKUP(S21,$AC$5:$AF$10,2,0) -> 13 | U21: =IF(NOT(COUNT(T21:T23))=2,"-",IF(COUNT(T21:T23)<3,"-",IF(COUNTIF(S21:S23,"Sangat Kurang")>=2,"Sangat Kurang",IF(OR(AND(VLOOKUP(S21,$AC$6:$AF$10,2,0)+VLOOKUP(S22,$AC$6:$AF$10,2,0)+VLOOKUP(S23,$AC$6:$AF$10,2,0)<=18,OR(COUNTIF(A18:C18,"Kurang")>=2,COUNTIF(S21:S23,"Sangat Kurang")>=1)),AND(VLOOKUP(S21,$AC$6:$AF$10,2,0)+VLOOKUP(S22,$AC$6:$AF$10,2,0)+VLOOKUP(S23,$AC$6:$AF$10,2,0)>=18,VLOOKUP(S21,$AC$6:$AF$10,2,0)+VLOOKUP(S22,$AC$6:$AF$10,2,0)+VLOOKUP(S23,$AC$6:$AF$10,2,0)<=33,OR(COUNTIF(S21:S23,"Sangat Kurang")>=1,(COUNTIF(S21:S23,"Kurang")>=2)))),"Kurang",IF(OR(VLOOKUP(S21,$AC$6:$AF$10,2,0)+VLOOKUP(S22,$AC$6:$AF$10,2,0)+VLOOKUP(S23,$AC$6:$AF$10,2,0)=35,AND(VLOOKUP(S21,$AC$6:$AF$10,2,0)+VLOOKUP(S22,$AC$6:$AF$10,2,0)+VLOOKUP(S23,$AC$6:$AF$10,2,0)>=19,VLOOKUP(S21,$AC$6:$AF$10,2,0)+VLOOKUP(S22,$AC$6:$AF$10,2,0)+VLOOKUP(S23,$AC$6:$AF$10,2,0)<=33,OR(COUNTIF(S21:S23,"Kurang")<=1,COUNTIF(S21:S23,"Sangat Kurang"<1)))),"Cukup",IF(AND(VLOOKUP(S21,$AC$6:$AF$10,2,0)+VLOOKUP(S22,$AC$6:$AF$10,2,0)+VLOOKUP(S23,$AC$6:$AF$10,2,0)>=34,VLOOKUP(S21,$AC$6:$AF$10,2,0)+VLOOKUP(S22,$AC$6:$AF$10,2,0)+VLOOKUP(S23,$AC$6:$AF$10,2,0)<=42,COUNTIF(S21:S23,"Kurang")<1),"Baik",IF(VLOOKUP(S21,$AC$6:$AF$10,2,0)+VLOOKUP(S22,$AC$6:$AF$10,2,0)+VLOOKUP(S23,$AC$6:$AF$10,2,0)>=45,"Sangat Baik","-"))))))) -> Baik | V21: =IF(NOT(COUNT(T21:T23)=2),"-",IF(COUNTIF(S21:S23,"Sangat Baik")=2,"Sangat Baik",IF(AND(COUNTIF(S21:S23,"Sangat Baik")=1,COUNTIF(S21:S23,"Baik")=1),"Sangat Baik",IF(AND(COUNTIF(S21:S23,"Sangat Baik")=1,COUNTIF(S21:S23,"Cukup")=1),"Baik",IF(AND(COUNTIF(S21:S23,"Sangat Baik")=1,COUNTIF(S21:S23,"Kurang")=1),"Cukup",IF(AND(COUNTIF(S21:S23,"Sangat Baik")=1,COUNTIF(S21:S23,"Sangat Kurang")=1),"Kurang",IF(COUNTIF(S21:S23,"Baik")=2,"Baik",IF(AND(COUNTIF(S21:S23,"Baik")=1,COUNTIF(S21:S23,"Cukup")=1),"Baik",IF(AND(COUNTIF(S21:S23,"Baik")=1,COUNTIF(S21:S23,"Kurang")=1),"Cukup",IF(AND(COUNTIF(S21:S23,"Baik")=1,COUNTIF(S21:S23,"Sangat Kurang")=1),"Kurang",IF(COUNTIF(S21:S23,"Cukup")=2,"Cukup",IF(AND(COUNTIF(S21:S23,"Cukup")=1,COUNTIF(S21:S23,"Kurang")=1),"Cukup",IF(AND(COUNTIF(S21:S23,"Cukup")=1,COUNTIF(S21:S23,"Sangat Kurang")=1),"Kurang",IF(COUNTIF(S21:S23,"Kurang")=2,"Kurang",IF(AND(COUNTIF(S21:S23,"Kurang")=1,COUNTIF(S21:S23,"Sangat Kurang")=1),"Kurang",IF(COUNTIF(S21:S23,"Sangat Kurang")=2,"Sangat Kurang","-")))))))))))))))) -> - | W21: =IF(COUNT(T21:T23)>1,"-",IF(COUNTIF(S21:S23,"Sangat Baik")=1,"Sangat Baik",IF(COUNTIF(S21:S23,"Baik")=1,"Baik",IF(COUNTIF(S21:S23,"Cukup")=1,"Cukup",IF(COUNTIF(S21:S23,"Kurang")=1,"Kurang",IF(COUNTIF(S21:S23,"Sangat Kurang")=1,"Sangat Kurang","-")))))) -> - | X21: =IF(COUNT(T21:T23)=1,W21,IF(COUNT(T21:T23)=2,V21,U21)) -> Baik | Y21: =VLOOKUP(X21,$AM$15:$AN$19,2,0) -> 100 | Z21: DIRECT | AE21: 7 | AF21: G | AG21: G | AH21: Sangat Kurang | AI21: =VLOOKUP(AH21,$AM$15:$AN$19,2,0) -> 25 | AJ21: 20 | AK21: =AI21*AJ21/100 -> 5
F22: =F21 -> C | G22: KUALITAS | H22: =G22&F22 -> KUALITASC | I22: =SKP!G23 -> H | L22: =SKP!H23 -> 3 | M22: =SKP!I23 -> 4 | N22: 9 | O22: NORMAL | P22: =IF(OR(I22="-",I22=0,I22=""),0,IF(NOT(OR(L22="-",L22=0,L22="")),0,IF(O22="KHUSUS",IF((1+(1-(N22/M22)))<0%,0%,1+(1-(N22/M22))),IF(O22="NORMAL",IF(N22/M22<0%,0%,N22/M22))))) -> 0 | Q22: =IF(OR(I22="-",I22=0,I22=""),0,IF(COUNT(L22:M22)<2,0,IF(O22="KHUSUS",IF(N22>=M22,IF(1+(1-(N22/M22))<=0%,0%,1+(1-(N22/M22))),IF(N22<=L22,1+(1-(N22/L22)),IF(AND(N22>=L22,N22<=M22),1))),IF(O22="NORMAL",IF(AND(N22>=L22,N22<=M22),1,IF(N22>=M22,N22/M22,IF(N22<=L22,IF(N22/L22<=0%,0%,N22/L22)))))))) -> 2.25 | R22: =ROUND(SUM(P22:Q22),2) -> 2.25 | S22: =IF(I22="-","-",IF(R22<=59%,"Sangat Kurang",IF(R22<=79%,"Kurang",IF(R22<=99%,"Cukup",IF(R22=100%,"Baik",IF(R22>=101%,"Sangat Baik")))))) -> Sangat Baik | T22: =VLOOKUP(S22,$AC$5:$AF$10,2,0) -> 16 | AA22: =IF(Z21="DIRECT",Y21,(Y21*80%)+(VLOOKUP(E21,$AF$15:$AK$27,6,0))) -> 100 | AE22: 8 | AF22: H | AG22: H | AH22: Sangat Kurang | AI22: =VLOOKUP(AH22,$AM$15:$AN$19,2,0) -> 25 | AJ22: 20 | AK22: =AI22*AJ22/100 -> 5
F23: =F22 -> C | G23: WAKTU | H23: =G23&F23 -> WAKTUC | I23: =SKP!G24 -> I | L23: =SKP!H24 -> 3 | M23: =SKP!I24 -> 4 | N23: 4 | O23: NORMAL | P23: =IF(OR(I23="-",I23=0,I23=""),0,IF(NOT(OR(L23="-",L23=0,L23="")),0,IF(O23="KHUSUS",IF((1+(1-(N23/M23)))<0%,0%,1+(1-(N23/M23))),IF(O23="NORMAL",IF(N23/M23<0%,0%,N23/M23))))) -> 0 | Q23: =IF(OR(I23="-",I23=0,I23=""),0,IF(COUNT(L23:M23)<2,0,IF(O23="KHUSUS",IF(N23>=M23,IF(1+(1-(N23/M23))<=0%,0%,1+(1-(N23/M23))),IF(N23<=L23,1+(1-(N23/L23)),IF(AND(N23>=L23,N23<=M23),1))),IF(O23="NORMAL",IF(AND(N23>=L23,N23<=M23),1,IF(N23>=M23,N23/M23,IF(N23<=L23,IF(N23/L23<=0%,0%,N23/L23)))))))) -> 1 | R23: =ROUND(SUM(P23:Q23),2) -> 1 | S23: =IF(I23="-","-",IF(R23<=59%,"Sangat Kurang",IF(R23<=79%,"Kurang",IF(R23<=99%,"Cukup",IF(R23=100%,"Baik",IF(R23>=101%,"Sangat Baik")))))) -> Baik | T23: =VLOOKUP(S23,$AC$5:$AF$10,2,0) -> 13 | AE23: 9 | AF23: I | AG23: I | AH23: Sangat Baik | AI23: =VLOOKUP(AH23,$AM$15:$AN$19,2,0) -> 120 | AJ23: 20 | AK23: =AI23*AJ23/100 -> 24
A24: 3 | B24: =SKP!C25 -> D | D24: =SKP!D25 -> D | E24: =IF(B24="-",E21,B24) -> D | F24: =D24 -> D | G24: KUANTITAS | H24: =G24&F24 -> KUANTITASD | I24: =SKP!G25 -> J | L24: =SKP!H25 -> 3 | M24: =SKP!I25 -> 4 | N24: 4 | O24: NORMAL | P24: =IF(OR(I24="-",I24=0,I24=""),0,IF(NOT(OR(L24="-",L24=0,L24="")),0,IF(O24="KHUSUS",IF((1+(1-(N24/M24)))<0%,0%,1+(1-(N24/M24))),IF(O24="NORMAL",IF(N24/M24<0%,0%,N24/M24))))) -> 0 | Q24: =IF(OR(I24="-",I24=0,I24=""),0,IF(COUNT(L24:M24)<2,0,IF(O24="KHUSUS",IF(N24>=M24,IF(1+(1-(N24/M24))<=0%,0%,1+(1-(N24/M24))),IF(N24<=L24,1+(1-(N24/L24)),IF(AND(N24>=L24,N24<=M24),1))),IF(O24="NORMAL",IF(AND(N24>=L24,N24<=M24),1,IF(N24>=M24,N24/M24,IF(N24<=L24,IF(N24/L24<=0%,0%,N24/L24)))))))) -> 1 | R24: =ROUND(SUM(P24:Q24),2) -> 1 | S24: =IF(I24="-","-",IF(R24<=59%,"Sangat Kurang",IF(R24<=79%,"Kurang",IF(R24<=99%,"Cukup",IF(R24=100%,"Baik",IF(R24>=101%,"Sangat Baik")))))) -> Baik | T24: =VLOOKUP(S24,$AC$5:$AF$10,2,0) -> 13 | U24: =IF(NOT(COUNT(T24:T26))=2,"-",IF(COUNT(T24:T26)<3,"-",IF(COUNTIF(S24:S26,"Sangat Kurang")>=2,"Sangat Kurang",IF(OR(AND(VLOOKUP(S24,$AC$6:$AF$10,2,0)+VLOOKUP(S25,$AC$6:$AF$10,2,0)+VLOOKUP(S26,$AC$6:$AF$10,2,0)<=18,OR(COUNTIF(A21:C21,"Kurang")>=2,COUNTIF(S24:S26,"Sangat Kurang")>=1)),AND(VLOOKUP(S24,$AC$6:$AF$10,2,0)+VLOOKUP(S25,$AC$6:$AF$10,2,0)+VLOOKUP(S26,$AC$6:$AF$10,2,0)>=18,VLOOKUP(S24,$AC$6:$AF$10,2,0)+VLOOKUP(S25,$AC$6:$AF$10,2,0)+VLOOKUP(S26,$AC$6:$AF$10,2,0)<=33,OR(COUNTIF(S24:S26,"Sangat Kurang")>=1,(COUNTIF(S24:S26,"Kurang")>=2)))),"Kurang",IF(OR(VLOOKUP(S24,$AC$6:$AF$10,2,0)+VLOOKUP(S25,$AC$6:$AF$10,2,0)+VLOOKUP(S26,$AC$6:$AF$10,2,0)=35,AND(VLOOKUP(S24,$AC$6:$AF$10,2,0)+VLOOKUP(S25,$AC$6:$AF$10,2,0)+VLOOKUP(S26,$AC$6:$AF$10,2,0)>=19,VLOOKUP(S24,$AC$6:$AF$10,2,0)+VLOOKUP(S25,$AC$6:$AF$10,2,0)+VLOOKUP(S26,$AC$6:$AF$10,2,0)<=33,OR(COUNTIF(S24:S26,"Kurang")<=1,COUNTIF(S24:S26,"Sangat Kurang"<1)))),"Cukup",IF(AND(VLOOKUP(S24,$AC$6:$AF$10,2,0)+VLOOKUP(S25,$AC$6:$AF$10,2,0)+VLOOKUP(S26,$AC$6:$AF$10,2,0)>=34,VLOOKUP(S24,$AC$6:$AF$10,2,0)+VLOOKUP(S25,$AC$6:$AF$10,2,0)+VLOOKUP(S26,$AC$6:$AF$10,2,0)<=42,COUNTIF(S24:S26,"Kurang")<1),"Baik",IF(VLOOKUP(S24,$AC$6:$AF$10,2,0)+VLOOKUP(S25,$AC$6:$AF$10,2,0)+VLOOKUP(S26,$AC$6:$AF$10,2,0)>=45,"Sangat Baik","-"))))))) -> Baik | V24: =IF(NOT(COUNT(T24:T26)=2),"-",IF(COUNTIF(S24:S26,"Sangat Baik")=2,"Sangat Baik",IF(AND(COUNTIF(S24:S26,"Sangat Baik")=1,COUNTIF(S24:S26,"Baik")=1),"Sangat Baik",IF(AND(COUNTIF(S24:S26,"Sangat Baik")=1,COUNTIF(S24:S26,"Cukup")=1),"Baik",IF(AND(COUNTIF(S24:S26,"Sangat Baik")=1,COUNTIF(S24:S26,"Kurang")=1),"Cukup",IF(AND(COUNTIF(S24:S26,"Sangat Baik")=1,COUNTIF(S24:S26,"Sangat Kurang")=1),"Kurang",IF(COUNTIF(S24:S26,"Baik")=2,"Baik",IF(AND(COUNTIF(S24:S26,"Baik")=1,COUNTIF(S24:S26,"Cukup")=1),"Baik",IF(AND(COUNTIF(S24:S26,"Baik")=1,COUNTIF(S24:S26,"Kurang")=1),"Cukup",IF(AND(COUNTIF(S24:S26,"Baik")=1,COUNTIF(S24:S26,"Sangat Kurang")=1),"Kurang",IF(COUNTIF(S24:S26,"Cukup")=2,"Cukup",IF(AND(COUNTIF(S24:S26,"Cukup")=1,COUNTIF(S24:S26,"Kurang")=1),"Cukup",IF(AND(COUNTIF(S24:S26,"Cukup")=1,COUNTIF(S24:S26,"Sangat Kurang")=1),"Kurang",IF(COUNTIF(S24:S26,"Kurang")=2,"Kurang",IF(AND(COUNTIF(S24:S26,"Kurang")=1,COUNTIF(S24:S26,"Sangat Kurang")=1),"Kurang",IF(COUNTIF(S24:S26,"Sangat Kurang")=2,"Sangat Kurang","-")))))))))))))))) -> - | W24: =IF(COUNT(T24:T26)>1,"-",IF(COUNTIF(S24:S26,"Sangat Baik")=1,"Sangat Baik",IF(COUNTIF(S24:S26,"Baik")=1,"Baik",IF(COUNTIF(S24:S26,"Cukup")=1,"Cukup",IF(COUNTIF(S24:S26,"Kurang")=1,"Kurang",IF(COUNTIF(S24:S26,"Sangat Kurang")=1,"Sangat Kurang","-")))))) -> - | X24: =IF(COUNT(T24:T26)=1,W24,IF(COUNT(T24:T26)=2,V24,U24)) -> Baik | Y24: =VLOOKUP(X24,$AM$15:$AN$19,2,0) -> 100 | Z24: DIRECT | AE24: 10 | AF24: J | AG24: J | AH24: Sangat Kurang | AI24: =VLOOKUP(AH24,$AM$15:$AN$19,2,0) -> 25 | AJ24: 20 | AK24: =AI24*AJ24/100 -> 5
F25: =F24 -> D | G25: KUALITAS | H25: =G25&F25 -> KUALITASD | I25: =SKP!G26 -> K | L25: =SKP!H26 -> 3 | M25: =SKP!I26 -> 4 | N25: 4 | O25: NORMAL | P25: =IF(OR(I25="-",I25=0,I25=""),0,IF(NOT(OR(L25="-",L25=0,L25="")),0,IF(O25="KHUSUS",IF((1+(1-(N25/M25)))<0%,0%,1+(1-(N25/M25))),IF(O25="NORMAL",IF(N25/M25<0%,0%,N25/M25))))) -> 0 | Q25: =IF(OR(I25="-",I25=0,I25=""),0,IF(COUNT(L25:M25)<2,0,IF(O25="KHUSUS",IF(N25>=M25,IF(1+(1-(N25/M25))<=0%,0%,1+(1-(N25/M25))),IF(N25<=L25,1+(1-(N25/L25)),IF(AND(N25>=L25,N25<=M25),1))),IF(O25="NORMAL",IF(AND(N25>=L25,N25<=M25),1,IF(N25>=M25,N25/M25,IF(N25<=L25,IF(N25/L25<=0%,0%,N25/L25)))))))) -> 1 | R25: =ROUND(SUM(P25:Q25),2) -> 1 | S25: =IF(I25="-","-",IF(R25<=59%,"Sangat Kurang",IF(R25<=79%,"Kurang",IF(R25<=99%,"Cukup",IF(R25=100%,"Baik",IF(R25>=101%,"Sangat Baik")))))) -> Baik | T25: =VLOOKUP(S25,$AC$5:$AF$10,2,0) -> 13 | AA25: =IF(Z24="DIRECT",Y24,(Y24*80%)+(VLOOKUP(E24,$AF$15:$AK$27,6,0))) -> 100 | AE25: 11 | AF25: K | AG25: K | AH25: Sangat Baik | AI25: =VLOOKUP(AH25,$AM$15:$AN$19,2,0) -> 120 | AJ25: 20 | AK25: =AI25*AJ25/100 -> 24
F26: =F25 -> D | G26: WAKTU | H26: =G26&F26 -> WAKTUD | I26: =SKP!G27 -> L | L26: =SKP!H27 -> 3 | M26: =SKP!I27 -> 4 | N26: 4 | O26: NORMAL | P26: =IF(OR(I26="-",I26=0,I26=""),0,IF(NOT(OR(L26="-",L26=0,L26="")),0,IF(O26="KHUSUS",IF((1+(1-(N26/M26)))<0%,0%,1+(1-(N26/M26))),IF(O26="NORMAL",IF(N26/M26<0%,0%,N26/M26))))) -> 0 | Q26: =IF(OR(I26="-",I26=0,I26=""),0,IF(COUNT(L26:M26)<2,0,IF(O26="KHUSUS",IF(N26>=M26,IF(1+(1-(N26/M26))<=0%,0%,1+(1-(N26/M26))),IF(N26<=L26,1+(1-(N26/L26)),IF(AND(N26>=L26,N26<=M26),1))),IF(O26="NORMAL",IF(AND(N26>=L26,N26<=M26),1,IF(N26>=M26,N26/M26,IF(N26<=L26,IF(N26/L26<=0%,0%,N26/L26)))))))) -> 1 | R26: =ROUND(SUM(P26:Q26),2) -> 1 | S26: =IF(I26="-","-",IF(R26<=59%,"Sangat Kurang",IF(R26<=79%,"Kurang",IF(R26<=99%,"Cukup",IF(R26=100%,"Baik",IF(R26>=101%,"Sangat Baik")))))) -> Baik | T26: =VLOOKUP(S26,$AC$5:$AF$10,2,0) -> 13 | AE26: 12 | AF26: L | AG26: L | AH26: Sangat Baik | AI26: =VLOOKUP(AH26,$AM$15:$AN$19,2,0) -> 120 | AJ26: 20 | AK26: =AI26*AJ26/100 -> 24
A27: Nilai Kinerja Utama | AA27: =AVERAGE(AA16,AA19,AA22,AA25) -> 100 | AE27: 13 | AF27: M | AG27: M | AH27: Sangat Baik | AI27: =VLOOKUP(AH27,$AM$15:$AN$19,2,0) -> 120 | AJ27: 20 | AK27: =AI27*AJ27/100 -> 24
A28: B. KINERJA TAMBAHAN
A29: 1a | B29: =SKP!C29 -> a1 | D29: =SKP!D29 -> b1 | F29: =D29 -> b1 | G29: KUANTITAS | H29: =G29&F29 -> KUANTITASb1 | I29: =SKP!G29 -> AK | L29: =VLOOKUP(H29,'[1]1. RENCANA SKP JA_JF (M.I)'!$H$55:$L$63,3,0) -> - | M29: =SKP!I29 -> 5 | N29: 5 | O29: NORMAL | P29: =IF(OR(I29="-",I29=0,I29=""),0,IF(NOT(OR(L29="-",L29=0,L29="")),0,IF(O29="KHUSUS",IF((1+(1-(N29/M29)))<0%,0%,1+(1-(N29/M29))),IF(O29="NORMAL",IF(N29/M29<0%,0%,N29/M29))))) -> 1 | Q29: =IF(OR(I29="-",I29=0,I29=""),0,IF(COUNT(L29:M29)<2,0,IF(O29="KHUSUS",IF(N29>=M29,IF(1+(1-(N29/M29))<=0%,0%,1+(1-(N29/M29))),IF(N29<=L29,1+(1-(N29/L29)),IF(AND(N29>=L29,N29<=M29),1))),IF(O29="NORMAL",IF(AND(N29>=L29,N29<=M29),1,IF(N29>=M29,N29/M29,IF(N29<=L29,IF(N29/L29<=0%,0%,N29/L29)))))))) -> 0 | R29: =ROUND(SUM(P29:Q29),2) -> 1 | S29: =IF(I29="-","-",IF(R29<=59%,"Sangat Kurang",IF(R29<=79%,"Kurang",IF(R29<=99%,"Cukup",IF(R29=100%,"Baik",IF(R29>=101%,"Sangat Baik")))))) -> Baik | T29: =VLOOKUP(S29,$AC$5:$AD$10,2,0) -> 13 | U29: =IF(NOT(COUNT(T29:T31))=2,"-",IF(COUNT(T29:T31)<3,"-",IF(COUNTIF(S29:S31,"Sangat Kurang")>=2,"Sangat Kurang",IF(OR(AND(VLOOKUP(S29,$AC$6:$AF$10,2,0)+VLOOKUP(S30,$AC$6:$AF$10,2,0)+VLOOKUP(S31,$AC$6:$AF$10,2,0)<=18,OR(COUNTIF(A26:C26,"Kurang")>=2,COUNTIF(S29:S31,"Sangat Kurang")>=1)),AND(VLOOKUP(S29,$AC$6:$AF$10,2,0)+VLOOKUP(S30,$AC$6:$AF$10,2,0)+VLOOKUP(S31,$AC$6:$AF$10,2,0)>=18,VLOOKUP(S29,$AC$6:$AF$10,2,0)+VLOOKUP(S30,$AC$6:$AF$10,2,0)+VLOOKUP(S31,$AC$6:$AF$10,2,0)<=33,OR(COUNTIF(S29:S31,"Sangat Kurang")>=1,(COUNTIF(S29:S31,"Kurang")>=2)))),"Kurang",IF(OR(VLOOKUP(S29,$AC$6:$AF$10,2,0)+VLOOKUP(S30,$AC$6:$AF$10,2,0)+VLOOKUP(S31,$AC$6:$AF$10,2,0)=35,AND(VLOOKUP(S29,$AC$6:$AF$10,2,0)+VLOOKUP(S30,$AC$6:$AF$10,2,0)+VLOOKUP(S31,$AC$6:$AF$10,2,0)>=19,VLOOKUP(S29,$AC$6:$AF$10,2,0)+VLOOKUP(S30,$AC$6:$AF$10,2,0)+VLOOKUP(S31,$AC$6:$AF$10,2,0)<=33,OR(COUNTIF(S29:S31,"Kurang")<=1,COUNTIF(S29:S31,"Sangat Kurang"<1)))),"Cukup",IF(AND(VLOOKUP(S29,$AC$6:$AF$10,2,0)+VLOOKUP(S30,$AC$6:$AF$10,2,0)+VLOOKUP(S31,$AC$6:$AF$10,2,0)>=34,VLOOKUP(S29,$AC$6:$AF$10,2,0)+VLOOKUP(S30,$AC$6:$AF$10,2,0)+VLOOKUP(S31,$AC$6:$AF$10,2,0)<=42,COUNTIF(S29:S31,"Kurang")<1),"Baik",IF(VLOOKUP(S29,$AC$6:$AF$10,2,0)+VLOOKUP(S30,$AC$6:$AF$10,2,0)+VLOOKUP(S31,$AC$6:$AF$10,2,0)>=45,"Sangat Baik","-"))))))) -> Baik | V29: =IF(NOT(COUNT(T29:T31)=2),"-",IF(COUNTIF(S29:S31,"Sangat Baik")=2,"Sangat Baik",IF(AND(COUNTIF(S29:S31,"Sangat Baik")=1,COUNTIF(S29:S31,"Baik")=1),"Sangat Baik",IF(AND(COUNTIF(S29:S31,"Sangat Baik")=1,COUNTIF(S29:S31,"Cukup")=1),"Baik",IF(AND(COUNTIF(S29:S31,"Sangat Baik")=1,COUNTIF(S29:S31,"Kurang")=1),"Cukup",IF(AND(COUNTIF(S29:S31,"Sangat Baik")=1,COUNTIF(S29:S31,"Sangat Kurang")=1),"Kurang",IF(COUNTIF(S29:S31,"Baik")=2,"Baik",IF(AND(COUNTIF(S29:S31,"Baik")=1,COUNTIF(S29:S31,"Cukup")=1),"Baik",IF(AND(COUNTIF(S29:S31,"Baik")=1,COUNTIF(S29:S31,"Kurang")=1),"Cukup",IF(AND(COUNTIF(S29:S31,"Baik")=1,COUNTIF(S29:S31,"Sangat Kurang")=1),"Kurang",IF(COUNTIF(S29:S31,"Cukup")=2,"Cukup",IF(AND(COUNTIF(S29:S31,"Cukup")=1,COUNTIF(S29:S31,"Kurang")=1),"Cukup",IF(AND(COUNTIF(S29:S31,"Cukup")=1,COUNTIF(S29:S31,"Sangat Kurang")=1),"Kurang",IF(COUNTIF(S29:S31,"Kurang")=2,"Kurang",IF(AND(COUNTIF(S29:S31,"Kurang")=1,COUNTIF(S29:S31,"Sangat Kurang")=1),"Kurang",IF(COUNTIF(S29:S31,"Sangat Kurang")=2,"Sangat Kurang","-")))))))))))))))) -> - | W29: =IF(COUNT(T29:T31)>1,"-",IF(COUNTIF(S29:S31,"Sangat Baik")=1,"Sangat Baik",IF(COUNTIF(S29:S31,"Baik")=1,"Baik",IF(COUNTIF(S29:S31,"Cukup")=1,"Cukup",IF(COUNTIF(S29:S31,"Kurang")=1,"Kurang",IF(COUNTIF(S29:S31,"Sangat Kurang")=1,"Sangat Kurang","-")))))) -> - | X29: =IF(COUNT(T29:T31)=1,W29,IF(COUNT(T29:T31)=2,V29,U29)) -> Baik | Y29: =VLOOKUP(X29,$AM$15:$AN$19,2,0) -> 100 | Z29: 3
A30: 2 | F30: =F29 -> b1 | G30: KUALITAS | H30: =G30&F30 -> KUALITASb1 | I30: =SKP!G30 -> AL | L30: =VLOOKUP(H30,'[1]1. RENCANA SKP JA_JF (M.I)'!$H$55:$L$63,3,0) -> - | M30: =SKP!I30 -> 5 | N30: 9 | O30: NORMAL | P30: =IF(OR(I30="-",I30=0,I30=""),0,IF(NOT(OR(L30="-",L30=0,L30="")),0,IF(O30="KHUSUS",IF((1+(1-(N30/M30)))<0%,0%,1+(1-(N30/M30))),IF(O30="NORMAL",IF(N30/M30<0%,0%,N30/M30))))) -> 1.8 | Q30: =IF(OR(I30="-",I30=0,I30=""),0,IF(COUNT(L30:M30)<2,0,IF(O30="KHUSUS",IF(N30>=M30,IF(1+(1-(N30/M30))<=0%,0%,1+(1-(N30/M30))),IF(N30<=L30,1+(1-(N30/L30)),IF(AND(N30>=L30,N30<=M30),1))),IF(O30="NORMAL",IF(AND(N30>=L30,N30<=M30),1,IF(N30>=M30,N30/M30,IF(N30<=L30,IF(N30/L30<=0%,0%,N30/L30)))))))) -> 0 | R30: =ROUND(SUM(P30:Q30),2) -> 1.8 | S30: =IF(I30="-","-",IF(R30<=59%,"Sangat Kurang",IF(R30<=79%,"Kurang",IF(R30<=99%,"Cukup",IF(R30=100%,"Baik",IF(R30>=101%,"Sangat Baik")))))) -> Sangat Baik | T30: =VLOOKUP(S30,$AC$5:$AD$10,2,0) -> 16 | AA30: =IF(X29="Sangat Baik",(100/100)*(Z29/100)*Y29,IF(X29="Baik",(80/100)*(Z29/100)*Y29,IF(X29="Cukup",(60/100)*(Z29/100)*Y29,IF(X29="Kurang",(40/100)*(Z29/100)*Y29,IF(X29="Sangat Kurang",(20/100)*(Z29/100)*Y29))))) -> 2.4
A31: 3 | F31: =F30 -> b1 | G31: WAKTU | H31: =G31&F31 -> WAKTUb1 | I31: =SKP!G31 -> AM | L31: =VLOOKUP(H31,'[1]1. RENCANA SKP JA_JF (M.I)'!$H$55:$L$63,3,0) -> - | M31: =SKP!I31 -> 5 | N31: 5 | O31: NORMAL | P31: =IF(OR(I31="-",I31=0,I31=""),0,IF(NOT(OR(L31="-",L31=0,L31="")),0,IF(O31="KHUSUS",IF((1+(1-(N31/M31)))<0%,0%,1+(1-(N31/M31))),IF(O31="NORMAL",IF(N31/M31<0%,0%,N31/M31))))) -> 1 | Q31: =IF(OR(I31="-",I31=0,I31=""),0,IF(COUNT(L31:M31)<2,0,IF(O31="KHUSUS",IF(N31>=M31,IF(1+(1-(N31/M31))<=0%,0%,1+(1-(N31/M31))),IF(N31<=L31,1+(1-(N31/L31)),IF(AND(N31>=L31,N31<=M31),1))),IF(O31="NORMAL",IF(AND(N31>=L31,N31<=M31),1,IF(N31>=M31,N31/M31,IF(N31<=L31,IF(N31/L31<=0%,0%,N31/L31)))))))) -> 0 | R31: =ROUND(SUM(P31:Q31),2) -> 1 | S31: =IF(I31="-","-",IF(R31<=59%,"Sangat Kurang",IF(R31<=79%,"Kurang",IF(R31<=99%,"Cukup",IF(R31=100%,"Baik",IF(R31>=101%,"Sangat Baik")))))) -> Baik | T31: =VLOOKUP(S31,$AC$5:$AD$10,2,0) -> 13
A32: 1b | B32: =SKP!C32 -> a2 | D32: =SKP!D32 -> b2 | F32: =D32 -> b2 | G32: KUANTITAS | H32: =G32&F32 -> KUANTITASb2 | I32: =SKP!G32 -> AN | L32: =VLOOKUP(H32,'[1]1. RENCANA SKP JA_JF (M.I)'!$H$55:$L$63,3,0) -> - | M32: =SKP!I32 -> 5 | N32: 6 | O32: NORMAL | P32: =IF(OR(I32="-",I32=0,I32=""),0,IF(NOT(OR(L32="-",L32=0,L32="")),0,IF(O32="KHUSUS",IF((1+(1-(N32/M32)))<0%,0%,1+(1-(N32/M32))),IF(O32="NORMAL",IF(N32/M32<0%,0%,N32/M32))))) -> 1.2 | Q32: =IF(OR(I32="-",I32=0,I32=""),0,IF(COUNT(L32:M32)<2,0,IF(O32="KHUSUS",IF(N32>=M32,IF(1+(1-(N32/M32))<=0%,0%,1+(1-(N32/M32))),IF(N32<=L32,1+(1-(N32/L32)),IF(AND(N32>=L32,N32<=M32),1))),IF(O32="NORMAL",IF(AND(N32>=L32,N32<=M32),1,IF(N32>=M32,N32/M32,IF(N32<=L32,IF(N32/L32<=0%,0%,N32/L32)))))))) -> 0 | R32: =ROUND(SUM(P32:Q32),2) -> 1.2 | S32: =IF(I32="-","-",IF(R32<=59%,"Sangat Kurang",IF(R32<=79%,"Kurang",IF(R32<=99%,"Cukup",IF(R32=100%,"Baik",IF(R32>=101%,"Sangat Baik")))))) -> Sangat Baik | T32: =VLOOKUP(S32,$AC$5:$AD$10,2,0) -> 16 | U32: =IF(NOT(COUNT(T32:T34))=2,"-",IF(COUNT(T32:T34)<3,"-",IF(COUNTIF(S32:S34,"Sangat Kurang")>=2,"Sangat Kurang",IF(OR(AND(VLOOKUP(S32,$AC$6:$AF$10,2,0)+VLOOKUP(S33,$AC$6:$AF$10,2,0)+VLOOKUP(S34,$AC$6:$AF$10,2,0)<=18,OR(COUNTIF(A29:C29,"Kurang")>=2,COUNTIF(S32:S34,"Sangat Kurang")>=1)),AND(VLOOKUP(S32,$AC$6:$AF$10,2,0)+VLOOKUP(S33,$AC$6:$AF$10,2,0)+VLOOKUP(S34,$AC$6:$AF$10,2,0)>=18,VLOOKUP(S32,$AC$6:$AF$10,2,0)+VLOOKUP(S33,$AC$6:$AF$10,2,0)+VLOOKUP(S34,$AC$6:$AF$10,2,0)<=33,OR(COUNTIF(S32:S34,"Sangat Kurang")>=1,(COUNTIF(S32:S34,"Kurang")>=2)))),"Kurang",IF(OR(VLOOKUP(S32,$AC$6:$AF$10,2,0)+VLOOKUP(S33,$AC$6:$AF$10,2,0)+VLOOKUP(S34,$AC$6:$AF$10,2,0)=35,AND(VLOOKUP(S32,$AC$6:$AF$10,2,0)+VLOOKUP(S33,$AC$6:$AF$10,2,0)+VLOOKUP(S34,$AC$6:$AF$10,2,0)>=19,VLOOKUP(S32,$AC$6:$AF$10,2,0)+VLOOKUP(S33,$AC$6:$AF$10,2,0)+VLOOKUP(S34,$AC$6:$AF$10,2,0)<=33,OR(COUNTIF(S32:S34,"Kurang")<=1,COUNTIF(S32:S34,"Sangat Kurang"<1)))),"Cukup",IF(AND(VLOOKUP(S32,$AC$6:$AF$10,2,0)+VLOOKUP(S33,$AC$6:$AF$10,2,0)+VLOOKUP(S34,$AC$6:$AF$10,2,0)>=34,VLOOKUP(S32,$AC$6:$AF$10,2,0)+VLOOKUP(S33,$AC$6:$AF$10,2,0)+VLOOKUP(S34,$AC$6:$AF$10,2,0)<=42,COUNTIF(S32:S34,"Kurang")<1),"Baik",IF(VLOOKUP(S32,$AC$6:$AF$10,2,0)+VLOOKUP(S33,$AC$6:$AF$10,2,0)+VLOOKUP(S34,$AC$6:$AF$10,2,0)>=45,"Sangat Baik","-"))))))) -> Sangat Baik | V32: =IF(NOT(COUNT(T32:T34)=2),"-",IF(COUNTIF(S32:S34,"Sangat Baik")=2,"Sangat Baik",IF(AND(COUNTIF(S32:S34,"Sangat Baik")=1,COUNTIF(S32:S34,"Baik")=1),"Sangat Baik",IF(AND(COUNTIF(S32:S34,"Sangat Baik")=1,COUNTIF(S32:S34,"Cukup")=1),"Baik",IF(AND(COUNTIF(S32:S34,"Sangat Baik")=1,COUNTIF(S32:S34,"Kurang")=1),"Cukup",IF(AND(COUNTIF(S32:S34,"Sangat Baik")=1,COUNTIF(S32:S34,"Sangat Kurang")=1),"Kurang",IF(COUNTIF(S32:S34,"Baik")=2,"Baik",IF(AND(COUNTIF(S32:S34,"Baik")=1,COUNTIF(S32:S34,"Cukup")=1),"Baik",IF(AND(COUNTIF(S32:S34,"Baik")=1,COUNTIF(S32:S34,"Kurang")=1),"Cukup",IF(AND(COUNTIF(S32:S34,"Baik")=1,COUNTIF(S32:S34,"Sangat Kurang")=1),"Kurang",IF(COUNTIF(S32:S34,"Cukup")=2,"Cukup",IF(AND(COUNTIF(S32:S34,"Cukup")=1,COUNTIF(S32:S34,"Kurang")=1),"Cukup",IF(AND(COUNTIF(S32:S34,"Cukup")=1,COUNTIF(S32:S34,"Sangat Kurang")=1),"Kurang",IF(COUNTIF(S32:S34,"Kurang")=2,"Kurang",IF(AND(COUNTIF(S32:S34,"Kurang")=1,COUNTIF(S32:S34,"Sangat Kurang")=1),"Kurang",IF(COUNTIF(S32:S34,"Sangat Kurang")=2,"Sangat Kurang","-")))))))))))))))) -> - | W32: =IF(COUNT(T32:T34)>1,"-",IF(COUNTIF(S32:S34,"Sangat Baik")=1,"Sangat Baik",IF(COUNTIF(S32:S34,"Baik")=1,"Baik",IF(COUNTIF(S32:S34,"Cukup")=1,"Cukup",IF(COUNTIF(S32:S34,"Kurang")=1,"Kurang",IF(COUNTIF(S32:S34,"Sangat Kurang")=1,"Sangat Kurang","-")))))) -> - | X32: =IF(COUNT(T32:T34)=1,W32,IF(COUNT(T32:T34)=2,V32,U32)) -> Sangat Baik | Y32: =VLOOKUP(X32,$AM$15:$AN$19,2,0) -> 120 | Z32: 2
A33: 5 | F33: =F32 -> b2 | G33: KUALITAS | H33: =G33&F33 -> KUALITASb2 | I33: =SKP!G33 -> AO | L33: =VLOOKUP(H33,'[1]1. RENCANA SKP JA_JF (M.I)'!$H$55:$L$63,3,0) -> - | M33: =SKP!I33 -> 5 | N33: 6 | O33: NORMAL | P33: =IF(OR(I33="-",I33=0,I33=""),0,IF(NOT(OR(L33="-",L33=0,L33="")),0,IF(O33="KHUSUS",IF((1+(1-(N33/M33)))<0%,0%,1+(1-(N33/M33))),IF(O33="NORMAL",IF(N33/M33<0%,0%,N33/M33))))) -> 1.2 | Q33: =IF(OR(I33="-",I33=0,I33=""),0,IF(COUNT(L33:M33)<2,0,IF(O33="KHUSUS",IF(N33>=M33,IF(1+(1-(N33/M33))<=0%,0%,1+(1-(N33/M33))),IF(N33<=L33,1+(1-(N33/L33)),IF(AND(N33>=L33,N33<=M33),1))),IF(O33="NORMAL",IF(AND(N33>=L33,N33<=M33),1,IF(N33>=M33,N33/M33,IF(N33<=L33,IF(N33/L33<=0%,0%,N33/L33)))))))) -> 0 | R33: =ROUND(SUM(P33:Q33),2) -> 1.2 | S33: =IF(I33="-","-",IF(R33<=59%,"Sangat Kurang",IF(R33<=79%,"Kurang",IF(R33<=99%,"Cukup",IF(R33=100%,"Baik",IF(R33>=101%,"Sangat Baik")))))) -> Sangat Baik | T33: =VLOOKUP(S33,$AC$5:$AD$10,2,0) -> 16 | AA33: =IF(X32="Sangat Baik",(100/100)*(Z32/100)*Y32,IF(X32="Baik",(80/100)*(Z32/100)*Y32,IF(X32="Cukup",(60/100)*(Z32/100)*Y32,IF(X32="Kurang",(40/100)*(Z32/100)*Y32,IF(X32="Sangat Kurang",(20/100)*(Z32/100)*Y32))))) -> 2.4
A34: 6 | F34: =F33 -> b2 | G34: WAKTU | H34: =G34&F34 -> WAKTUb2 | I34: =SKP!G34 -> AP | L34: =VLOOKUP(H34,'[1]1. RENCANA SKP JA_JF (M.I)'!$H$55:$L$63,3,0) -> - | M34: =SKP!I34 -> 5 | N34: 6 | O34: NORMAL | P34: =IF(OR(I34="-",I34=0,I34=""),0,IF(NOT(OR(L34="-",L34=0,L34="")),0,IF(O34="KHUSUS",IF((1+(1-(N34/M34)))<0%,0%,1+(1-(N34/M34))),IF(O34="NORMAL",IF(N34/M34<0%,0%,N34/M34))))) -> 1.2 | Q34: =IF(OR(I34="-",I34=0,I34=""),0,IF(COUNT(L34:M34)<2,0,IF(O34="KHUSUS",IF(N34>=M34,IF(1+(1-(N34/M34))<=0%,0%,1+(1-(N34/M34))),IF(N34<=L34,1+(1-(N34/L34)),IF(AND(N34>=L34,N34<=M34),1))),IF(O34="NORMAL",IF(AND(N34>=L34,N34<=M34),1,IF(N34>=M34,N34/M34,IF(N34<=L34,IF(N34/L34<=0%,0%,N34/L34)))))))) -> 0 | R34: =ROUND(SUM(P34:Q34),2) -> 1.2 | S34: =IF(I34="-","-",IF(R34<=59%,"Sangat Kurang",IF(R34<=79%,"Kurang",IF(R34<=99%,"Cukup",IF(R34=100%,"Baik",IF(R34>=101%,"Sangat Baik")))))) -> Sangat Baik | T34: =VLOOKUP(S34,$AC$5:$AD$10,2,0) -> 16
A35: 1c | B35: =SKP!C35 -> a3 | D35: =SKP!D35 -> b3 | F35: =D35 -> b3 | G35: KUANTITAS | H35: =G35&F35 -> KUANTITASb3 | I35: =SKP!G35 -> AQ | L35: =VLOOKUP(H35,'[1]1. RENCANA SKP JA_JF (M.I)'!$H$55:$L$63,3,0) -> - | M35: =SKP!I35 -> 5 | N35: 6 | O35: NORMAL | P35: =IF(OR(I35="-",I35=0,I35=""),0,IF(NOT(OR(L35="-",L35=0,L35="")),0,IF(O35="KHUSUS",IF((1+(1-(N35/M35)))<0%,0%,1+(1-(N35/M35))),IF(O35="NORMAL",IF(N35/M35<0%,0%,N35/M35))))) -> 1.2 | Q35: =IF(OR(I35="-",I35=0,I35=""),0,IF(COUNT(L35:M35)<2,0,IF(O35="KHUSUS",IF(N35>=M35,IF(1+(1-(N35/M35))<=0%,0%,1+(1-(N35/M35))),IF(N35<=L35,1+(1-(N35/L35)),IF(AND(N35>=L35,N35<=M35),1))),IF(O35="NORMAL",IF(AND(N35>=L35,N35<=M35),1,IF(N35>=M35,N35/M35,IF(N35<=L35,IF(N35/L35<=0%,0%,N35/L35)))))))) -> 0 | R35: =ROUND(SUM(P35:Q35),2) -> 1.2 | S35: =IF(I35="-","-",IF(R35<=59%,"Sangat Kurang",IF(R35<=79%,"Kurang",IF(R35<=99%,"Cukup",IF(R35=100%,"Baik",IF(R35>=101%,"Sangat Baik")))))) -> Sangat Baik | T35: =VLOOKUP(S35,$AC$5:$AD$10,2,0) -> 16 | U35: =IF(NOT(COUNT(T35:T37))=2,"-",IF(COUNT(T35:T37)<3,"-",IF(COUNTIF(S35:S37,"Sangat Kurang")>=2,"Sangat Kurang",IF(OR(AND(VLOOKUP(S35,$AC$6:$AF$10,2,0)+VLOOKUP(S36,$AC$6:$AF$10,2,0)+VLOOKUP(S37,$AC$6:$AF$10,2,0)<=18,OR(COUNTIF(A32:C32,"Kurang")>=2,COUNTIF(S35:S37,"Sangat Kurang")>=1)),AND(VLOOKUP(S35,$AC$6:$AF$10,2,0)+VLOOKUP(S36,$AC$6:$AF$10,2,0)+VLOOKUP(S37,$AC$6:$AF$10,2,0)>=18,VLOOKUP(S35,$AC$6:$AF$10,2,0)+VLOOKUP(S36,$AC$6:$AF$10,2,0)+VLOOKUP(S37,$AC$6:$AF$10,2,0)<=33,OR(COUNTIF(S35:S37,"Sangat Kurang")>=1,(COUNTIF(S35:S37,"Kurang")>=2)))),"Kurang",IF(OR(VLOOKUP(S35,$AC$6:$AF$10,2,0)+VLOOKUP(S36,$AC$6:$AF$10,2,0)+VLOOKUP(S37,$AC$6:$AF$10,2,0)=35,AND(VLOOKUP(S35,$AC$6:$AF$10,2,0)+VLOOKUP(S36,$AC$6:$AF$10,2,0)+VLOOKUP(S37,$AC$6:$AF$10,2,0)>=19,VLOOKUP(S35,$AC$6:$AF$10,2,0)+VLOOKUP(S36,$AC$6:$AF$10,2,0)+VLOOKUP(S37,$AC$6:$AF$10,2,0)<=33,OR(COUNTIF(S35:S37,"Kurang")<=1,COUNTIF(S35:S37,"Sangat Kurang"<1)))),"Cukup",IF(AND(VLOOKUP(S35,$AC$6:$AF$10,2,0)+VLOOKUP(S36,$AC$6:$AF$10,2,0)+VLOOKUP(S37,$AC$6:$AF$10,2,0)>=34,VLOOKUP(S35,$AC$6:$AF$10,2,0)+VLOOKUP(S36,$AC$6:$AF$10,2,0)+VLOOKUP(S37,$AC$6:$AF$10,2,0)<=42,COUNTIF(S35:S37,"Kurang")<1),"Baik",IF(VLOOKUP(S35,$AC$6:$AF$10,2,0)+VLOOKUP(S36,$AC$6:$AF$10,2,0)+VLOOKUP(S37,$AC$6:$AF$10,2,0)>=45,"Sangat Baik","-"))))))) -> Baik | V35: =IF(NOT(COUNT(T35:T37)=2),"-",IF(COUNTIF(S35:S37,"Sangat Baik")=2,"Sangat Baik",IF(AND(COUNTIF(S35:S37,"Sangat Baik")=1,COUNTIF(S35:S37,"Baik")=1),"Sangat Baik",IF(AND(COUNTIF(S35:S37,"Sangat Baik")=1,COUNTIF(S35:S37,"Cukup")=1),"Baik",IF(AND(COUNTIF(S35:S37,"Sangat Baik")=1,COUNTIF(S35:S37,"Kurang")=1),"Cukup",IF(AND(COUNTIF(S35:S37,"Sangat Baik")=1,COUNTIF(S35:S37,"Sangat Kurang")=1),"Kurang",IF(COUNTIF(S35:S37,"Baik")=2,"Baik",IF(AND(COUNTIF(S35:S37,"Baik")=1,COUNTIF(S35:S37,"Cukup")=1),"Baik",IF(AND(COUNTIF(S35:S37,"Baik")=1,COUNTIF(S35:S37,"Kurang")=1),"Cukup",IF(AND(COUNTIF(S35:S37,"Baik")=1,COUNTIF(S35:S37,"Sangat Kurang")=1),"Kurang",IF(COUNTIF(S35:S37,"Cukup")=2,"Cukup",IF(AND(COUNTIF(S35:S37,"Cukup")=1,COUNTIF(S35:S37,"Kurang")=1),"Cukup",IF(AND(COUNTIF(S35:S37,"Cukup")=1,COUNTIF(S35:S37,"Sangat Kurang")=1),"Kurang",IF(COUNTIF(S35:S37,"Kurang")=2,"Kurang",IF(AND(COUNTIF(S35:S37,"Kurang")=1,COUNTIF(S35:S37,"Sangat Kurang")=1),"Kurang",IF(COUNTIF(S35:S37,"Sangat Kurang")=2,"Sangat Kurang","-")))))))))))))))) -> - | W35: =IF(COUNT(T35:T37)>1,"-",IF(COUNTIF(S35:S37,"Sangat Baik")=1,"Sangat Baik",IF(COUNTIF(S35:S37,"Baik")=1,"Baik",IF(COUNTIF(S35:S37,"Cukup")=1,"Cukup",IF(COUNTIF(S35:S37,"Kurang")=1,"Kurang",IF(COUNTIF(S35:S37,"Sangat Kurang")=1,"Sangat Kurang","-")))))) -> - | X35: =IF(COUNT(T35:T37)=1,W35,IF(COUNT(T35:T37)=2,V35,U35)) -> Baik | Y35: =VLOOKUP(X35,$AM$15:$AN$19,2,0) -> 100 | Z35: 1
A36: 8 | F36: =F35 -> b3 | G36: KUALITAS | H36: =G36&F36 -> KUALITASb3 | I36: =SKP!G36 -> AR | L36: =VLOOKUP(H36,'[1]1. RENCANA SKP JA_JF (M.I)'!$H$55:$L$63,3,0) -> - | M36: =SKP!I36 -> 5 | N36: 5 | O36: NORMAL | P36: =IF(OR(I36="-",I36=0,I36=""),0,IF(NOT(OR(L36="-",L36=0,L36="")),0,IF(O36="KHUSUS",IF((1+(1-(N36/M36)))<0%,0%,1+(1-(N36/M36))),IF(O36="NORMAL",IF(N36/M36<0%,0%,N36/M36))))) -> 1 | Q36: =IF(OR(I36="-",I36=0,I36=""),0,IF(COUNT(L36:M36)<2,0,IF(O36="KHUSUS",IF(N36>=M36,IF(1+(1-(N36/M36))<=0%,0%,1+(1-(N36/M36))),IF(N36<=L36,1+(1-(N36/L36)),IF(AND(N36>=L36,N36<=M36),1))),IF(O36="NORMAL",IF(AND(N36>=L36,N36<=M36),1,IF(N36>=M36,N36/M36,IF(N36<=L36,IF(N36/L36<=0%,0%,N36/L36)))))))) -> 0 | R36: =ROUND(SUM(P36:Q36),2) -> 1 | S36: =IF(I36="-","-",IF(R36<=59%,"Sangat Kurang",IF(R36<=79%,"Kurang",IF(R36<=99%,"Cukup",IF(R36=100%,"Baik",IF(R36>=101%,"Sangat Baik")))))) -> Baik | T36: =VLOOKUP(S36,$AC$5:$AD$10,2,0) -> 13 | AA36: =IF(X35="Sangat Baik",(100/100)*(Z35/100)*Y35,IF(X35="Baik",(80/100)*(Z35/100)*Y35,IF(X35="Cukup",(60/100)*(Z35/100)*Y35,IF(X35="Kurang",(40/100)*(Z35/100)*Y35,IF(X35="Sangat Kurang",(20/100)*(Z35/100)*Y35))))) -> 0.8
F37: =F36 -> b3 | G37: WAKTU | H37: =G37&F37 -> WAKTUb3 | I37: =SKP!G37 -> AS | L37: =VLOOKUP(H37,'[1]1. RENCANA SKP JA_JF (M.I)'!$H$55:$L$63,3,0) -> - | M37: =SKP!I37 -> 5 | N37: 4 | O37: NORMAL | P37: =IF(OR(I37="-",I37=0,I37=""),0,IF(NOT(OR(L37="-",L37=0,L37="")),0,IF(O37="KHUSUS",IF((1+(1-(N37/M37)))<0%,0%,1+(1-(N37/M37))),IF(O37="NORMAL",IF(N37/M37<0%,0%,N37/M37))))) -> 0.8 | Q37: =IF(OR(I37="-",I37=0,I37=""),0,IF(COUNT(L37:M37)<2,0,IF(O37="KHUSUS",IF(N37>=M37,IF(1+(1-(N37/M37))<=0%,0%,1+(1-(N37/M37))),IF(N37<=L37,1+(1-(N37/L37)),IF(AND(N37>=L37,N37<=M37),1))),IF(O37="NORMAL",IF(AND(N37>=L37,N37<=M37),1,IF(N37>=M37,N37/M37,IF(N37<=L37,IF(N37/L37<=0%,0%,N37/L37)))))))) -> 0 | R37: =ROUND(SUM(P37:Q37),2) -> 0.8 | S37: =IF(I37="-","-",IF(R37<=59%,"Sangat Kurang",IF(R37<=79%,"Kurang",IF(R37<=99%,"Cukup",IF(R37=100%,"Baik",IF(R37>=101%,"Sangat Baik")))))) -> Cukup | T37: =VLOOKUP(S37,$AC$5:$AD$10,2,0) -> 8
A38: Nilai Kinerja Tambahan | AA38: =AVERAGE(AA29:AA37) -> 1.8666667
A39: Nilai SKP | AA39: =AA27+AA38 -> 101.86667 | AF39: =AA39 -> 101.86667
E42: (TEMPAT),(TANGGAL,BULAN,TAHUN) | X42: (TEMPAT), (TANGGAL, BULAN, TAHUN)
C43: PEGAWAI YANG DINILAI | E43: PEJABAT PENILAI KINERJA | X43: PEJABAT PENILAI KINERJA
C47: (NAMA) | E47: (NAMA) | X47: (NAMA)
...

Sheet PERILAKU KERJA
A1: PENILAIAN PERILAKU KERJA
A3: NAMA INSTANSI : | C3: ='Data SKP'!E3 -> BKPSDM Kab Banyumas | D3: ='Data SKP'!E4 -> tanggal-bulan s.d. tanggal-bulan-tahun
A4: PEGAWAI YANG DINILAI | D4: PEJABAT PENILAI KINERJA
A5: Nama | C5: ='Data SKP'!E7 -> Budi | D5: Nama | E5: ='Data SKP'!E13 -> Iwan
A6: NIP | C6: ='Data SKP'!E8 -> 12345 | D6: NIP | E6: ='Data SKP'!E14 -> 12345
A7: Pangkat/Gol Ruang | C7: ='Data SKP'!E9 -> Penata-III/c | D7: Pangkat/Gol Ruang | E7: ='Data SKP'!E15 -> Pembina-IV/a
A8: Jabatan | C8: ='Data SKP'!E10 -> Pengelola | D8: Jabatan | E8: ='Data SKP'!E16 -> Kasubbid
A9: Unit Kerja | C9: ='Data SKP'!E11 -> BKPSDM Kab Banyumas | D9: Unit Kerja | E9: ='Data SKP'!E17 -> BKPSDM Kab Banyumas
A10: NO | B10: ASPEK PERILAKU | D10: NILAI
A11: (1) | B11: (2) | D11: (3)
A12: 1 | B12: Orientasi Pelayanan | D12: 90
A13: 2 | B13: Inisiatif Kerja | D13: 90
A14: 3 | B14: Komitmen | D14: 92
A15: 4 | B15: Kerjasama | D15: 91
A16: 5 | B16: Kepemimpinan | D16: 94
B17: NILAI PERILAKU KERJA | D17: =AVERAGE(D12:F16) -> 91.4
D20: (TEMPAT), (TANGGAL,BULAN,TAHUN)
D21: PEJABAT PENILAI KINERJA
D25: (NAMA)
D26: (NIP)

Sheet PENILAIAN JAN-JUNI
B1: PENILAIAN PRESTASI KERJA PNS PERIODE JANUARI - JUNI
B3: PEJABAT PENILAI | D3: PEGAWAI YANG DINILAI | I3: =D19 -> 85.6
B4: NAMA | C4: ='Data SKP'!E13 -> Iwan | D4: NAMA | E4: ='Data SKP'!E7 -> Budi
B5: NIP | C5: ='Data SKP'!E14 -> 12345 | D5: NIP | E5: ='Data SKP'!E8 -> 12345
B6: PANGKAT/GOL | C6: ='Data SKP'!E15 -> Pembina-IV/a | D6: PANGKAT/GOL | E6: ='Data SKP'!E9 -> Penata-III/c
B7: JABATAN | C7: ='Data SKP'!E16 -> Kasubbid | D7: JABATAN | E7: ='Data SKP'!E10 -> Pengelola
B8: UNIT KERJA | C8: ='Data SKP'!E17 -> BKPSDM Kab Banyumas | D8: UNIT KERJA | E8: ='Data SKP'!E11 -> BKPSDM Kab Banyumas
B9: TANGGAL PENILAIAN
B10: UNSUR YANG DINILAI | D10: NILAI | E10: SEBUTAN
B11: A. SASARAN KERJA PEGAWAI (SKP) | D11: 86 | E11: =IF(D11<=50,"(Buruk)",IF(D11<=60,"(Sedang)",IF(D11<=75,"(Cukup)",IF(D11<=90.99,"(Baik)","(Sangat Baik)")))) -> (Baik)
B12: B. PERILAKU KERJA PEGAWAI | D12: =AVERAGE(D13:D18) -> 85 | E12: =IF(D12<=50,"(Buruk)",IF(D12<=60,"(Sedang)",IF(D12<=75,"(Cukup)",IF(D12<=90.99,"(Baik)","(Sangat Baik)")))) -> (Baik)
B13: 1. Orientasi Pelayanan | D13: 86 | E13: =IF(D13<=50,"(Buruk)",IF(D13<=60,"(Sedang)",IF(D13<=75,"(Cukup)",IF(D13<=90.99,"(Baik)","(Sangat Baik)")))) -> (Baik)
B14: 2. Integritas | D14: 85 | E14: =IF(D14<=50,"(Buruk)",IF(D14<=60,"(Sedang)",IF(D14<=75,"(Cukup)",IF(D14<=90.99,"(Baik)","(Sangat Baik)")))) -> (Baik)
B15: 3. Komitmen | D15: 86 | E15: =IF(D15<=50,"(Buruk)",IF(D15<=60,"(Sedang)",IF(D15<=75,"(Cukup)",IF(D15<=90.99,"(Baik)","(Sangat Baik)")))) -> (Baik)
B16: 4. Disiplin | D16: 85 | E16: =IF(D16<=50,"(Buruk)",IF(D16<=60,"(Sedang)",IF(D16<=75,"(Cukup)",IF(D16<=90.99,"(Baik)","(Sangat Baik)")))) -> (Baik)
B17: 5. Kerjasama | D17: 83 | E17: =IF(D17<=50,"(Buruk)",IF(D17<=60,"(Sedang)",IF(D17<=75,"(Cukup)",IF(D17<=90.99,"(Baik)","(Sangat Baik)")))) -> (Baik)
B18: 6. Kepemimpinan
B19: NILAI PRESTASI | D19: =D11*(0.6)+D12*(0.4) -> 85.6
E22: (TEMPAT), (TANGGAL, BULAN, TAHUN)
B23: PEGAWAI YANG DINILAI | E23: PEJABAT PENILAI KINERJA
B27: (NAMA) | E27: (NAMA)
B28: (NIP) | E28: (NIP)

Sheet PENILAIAN JUL-DESEMBER
B1: PENILAIAN KINERJA PNS PERIODE JULI - DESEMBER
B3: PEJABAT PENILAI | D3: PEGAWAI YANG DINILAI | G3: =D15 -> 92
B4: NAMA | C4: ='Data SKP'!E13 -> Iwan | D4: NAMA | E4: ='Data SKP'!E7 -> Budi
B5: NIP | C5: ='Data SKP'!E14 -> 12345 | D5: NIP | E5: ='Data SKP'!E8 -> 12345
B6: PANGKAT/GOL | C6: ='Data SKP'!E15 -> Pembina-IV/a | D6: PANGKAT/GOL | E6: ='Data SKP'!E9 -> Penata-III/c
A7: c | B7: JABATAN | C7: ='Data SKP'!E16 -> Kasubbid | D7: JABATAN | E7: ='Data SKP'!E10 -> Pengelola
B8: UNIT KERJA | C8: ='Data SKP'!E17 -> BKPSDM Kab Banyumas | D8: UNIT KERJA | E8: ='Data SKP'!E11 -> BKPSDM Kab Banyumas
B9: TANGGAL PENILAIAN
B10: UNSUR YANG DINILAI | D10: NILAI | E10: SEBUTAN
B11: A. SASARAN KINERJA PEGAWAI (SKP) | D11: ='PENILAIAN SKP'!AF39 -> 101.86667 | E11: =IF(D11<50,"(Sangat Kurang)",IF(D11<70,"(Kurang)",IF(D11<90,"(Cukup)",IF(D11<110.99,"(Baik)","(Sangat Baik)")))) -> (Baik)
B12: B. PERILAKU KERJA PEGAWAI | D12: =AVERAGE(D13:D17) -> 91.4 | E12: =IF(D12<50,"(Sangat Kurang)",IF(D12<70,"(Kurang)",IF(D12<90,"(Cukup)",IF(D12<110.99,"(Baik)","(Sangat Baik)")))) -> (Baik)
B13: 1. Orientasi Pelayanan | D13: ='PERILAKU KERJA'!D12:F12 -> 90 | E13: =IF(D13<50,"(Sangat Kurang)",IF(D13<70,"(Kurang)",IF(D13<90,"(Cukup)",IF(D13<110.99,"(Baik)","(Sangat Baik)")))) -> (Baik)
B14: 2. Inisiatif Kerja | D14: ='PERILAKU KERJA'!D13:F13 -> 90 | E14: =IF(D14<50,"(Sangat Kurang)",IF(D14<70,"(Kurang)",IF(D14<90,"(Cukup)",IF(D14<110.99,"(Baik)","(Sangat Baik)")))) -> (Baik)
B15: 3. Komitmen | D15: ='PERILAKU KERJA'!D14:F14 -> 92 | E15: =IF(D15<50,"(Sangat Kurang)",IF(D15<70,"(Kurang)",IF(D15<90,"(Cukup)",IF(D15<110.99,"(Baik)","(Sangat Baik)")))) -> (Baik)
B16: 4. Kerjasama | D16: ='PERILAKU KERJA'!D15:F15 -> 91 | E16: =IF(D16<50,"(Sangat Kurang)",IF(D16<70,"(Kurang)",IF(D16<90,"(Cukup)",IF(D16<110.99,"(Baik)","(Sangat Baik)")))) -> (Baik)
B17: 5. Kepemimpinan | D17: ='PERILAKU KERJA'!D16:F16 -> 94 | E17: =IF(D17<50,"(Sangat Kurang)",IF(D17<70,"(Kurang)",IF(D17<90,"(Cukup)",IF(D17<110.99,"(Baik)","(Sangat Baik)")))) -> (Baik)
B19: NILAI KINERJA PNS | D19: =D11*(0.7)+D12*(0.3) -> 98.726667
B20: C.IDE BARU | D20: 0
B21: NILAI AKHIR | D21: =D19+D20 -> 98.726667
E24: (TEMPAT), (TANGGAL, BULAN, TAHUN)
C25: PEGAWAI YANG DINILAI | E25: PEJABAT PENILAI KINERJA
C29: (NAMA) | E29: (NAMA)
C30: (NIP) | E30: (NIP)

Sheet INTEGRASI PENILAIAN
B1: INTEGRASI HASIL PENILAIAN KINERJA PNS TAHUN 2021
B3: PEGAWAI YANG DINILAI | D3: PEJABAT PENILAI KINERJA | G3: ni | I3: ='PENILAIAN JAN-JUNI'!I3 -> 85.6
B4: NAMA | C4: ='Data SKP'!E7 -> Budi | D4: NAMA | E4: ='Data SKP'!E13 -> Iwan
B5: NIP | C5: ='Data SKP'!E8 -> 12345 | D5: NIP | E5: ='Data SKP'!E14 -> 12345
B6: PANGKAT/GOL | C6: ='Data SKP'!E9 -> Penata-III/c | D6: PANGKAT/GOL | E6: ='Data SKP'!E15 -> Pembina-IV/a
B7: JABATAN | C7: ='Data SKP'!E10 -> Pengelola | D7: JABATAN | E7: ='Data SKP'!E16 -> Kasubbid
B8: UNIT KERJA | C8: ='Data SKP'!E11 -> BKPSDM Kab Banyumas | D8: UNIT KERJA | E8: ='Data SKP'!E17 -> BKPSDM Kab Banyumas
B9: TANGGAL INTEGRASI PENILAIAN
B10: INTEGRASI HASIL PENILAIAN KINERJA PNS 2021
B11: PERIODE | D11: NILAI KINERJA PNS
B12: JANUARI - JUNI | D12: =IF(I3<=50,((I3/50)*49),IF(I3<=60,(50+((19/9)*(I3-51))),IF(I3<=75,(70+((19/14)*(I3-61))),IF(I3<=90,(90+((19/14)*(I3-76))),IF(I3<=100,(110+((10/8)*(I3-91))),120))))) -> 103.02857
B13: JULI - DESEMBER | D13: ='PENILAIAN JUL-DESEMBER'!D21:E21 -> 98.726667
B14: NILAI KINERJA PNS TAHUN 2021 | D14: =D12*(0.5)+D13*(0.5) -> 100.87762 | G14: =D14 -> 100.87762
B15: PREDIKAT | D15: =IF(G14<=50,"(Sangat Kurang)",IF(G14<=69,"(Kurang)",IF(G14<=89,"(Cukup)",IF(G14<=120,"(Baik)","(Sangat Baik)")))) -> (Baik)
D18: (TEMPAT), (TANGGAL, BULAN, TAHUN)
B19: PEGAWAI YANG DINILAI | D19: PEJABAT PENILAI KINERJA
B23: (NAMA) | D23: (NAMA)
B24: (NIP) | D24: (NIP)

Sheet AK Cakra
A1: FORM LAMPIRAN KETERKAITAN SKP JF DENGAN BUTIR KEGIATAN
A3: Unit Organisasi: ………………………….. | D3: Periode Penilaian: ……..(bulan)……. sampai dengan……. (bulan)….. Tahun 2021
A4: PEGAWAI YANG DINILAI | E4: PEJABAT PENILAI KINERJA
A5: Nama | C5: =#REF! -> #REF! | E5: Nama | F5: =#REF! -> #REF!
A6: NIP | C6: =#REF! -> #REF! | E6: NIP | F6: =#REF! -> #REF!
A7: Pangkat/Gol Ruang | C7: =#REF! -> #REF! | E7: Pangkat/Gol Ruang | F7: =#REF! -> #REF!
A8: Jabatan | C8: =#REF! -> #REF! | E8: Jabatan | F8: =#REF! -> #REF!
A9: Unit Kerja | C9: =#REF! -> #REF! | E9: Unit Kerja | F9: =#REF! -> #REF!
A10: NO. | B10: RENCANA KINERJA | D10: BUTIR KEGIATAN | G10: OUTPUT | H10: ANGKA KREDIT
A11: -1 | B11: -2 | D11: -3 | G11: -4 | H11: -5
A12: A. KINERJA UTAMA
A13: 1 | B13: Tersedianya data perencanaan, pelaksanaan dan laporan Pembangunan prasarana dan utilitas Sekolah Menengah Pertama sesuai target | D13: =#REF! -> #REF! | G13: Dokumen | H13: 0,15
D14: =#REF! -> #REF! | G14: Laporan | H14: 0,08
D15: =#REF! -> #REF! | G15: Dokumen | H15: 1,50
A16: 2 | B16: Tersedianya data perencanaan, pelaksanaan dan laporan Rehabilitasi sedang/berat prasarana dan utilitas Sekolah Menengah Pertama dilaksanakan sesuai target | D16: =#REF! -> #REF! | G16: Laporan | H16: 0,020
D17: =#REF! -> #REF! | G17: Dokumen | H17: 1,50
D18: =#REF! -> #REF!
A19: 3 | B19: Tersedianya data perencanaan, pelaksanaan dan laporan Pengadaan Sarana Sekolah Menengah Pertama sesuai target | D19: =#REF! -> #REF!
D20: =#REF! -> #REF!
D21: =#REF! -> #REF! | G21: Dokumen | H21: 1,00
F24: Purwokerto, (tanggal, bulan, tahun)
F25: Pegawai yang dnilai,
F29: =C5 -> #REF!
F30: ='AK Cakra'!C6 -> #REF!
