Workbook
Name asdep: #REF!
Name kegiatan: #REF!
Name sfsdf: #REF!

Sheet SKP
A2: SASARAN KINERJA PEGAWAI (SKP) PEJABAT PIMPINAN TINGGI DAN PIMPINAN UNIT KERJA MANDIRI
D4: Periode Penilaian :
A5: NAMA INSTANSI : | D5: tgl-bulan s.d. tgl-bulan-tahun
A6: PEGAWAI YANG DINILAI | D6: PEJABAT PENILAI KINERJA
A7: Nama | D7: Nama
A8: NIP | D8: NIP (Opsional)
A9: Pangkat/Gol Ruang | D9: Pangkat/Gol Ruang
A10: Jabatan | D10: Jabatan
A11: Unit Kerja | D11: Unit Kerja
A12: NO | B12: RENCANA KINERJA | D12: INDIKATOR KINERJA INDIVIDU | F12: TARGET | H12: SATUAN
F13: Min | G13: Max / Single Rate
A14: (1) | B14: (2) | D14: (3) | F14: (4) | G14: (5) | H14: (6)
A15: A. KINERJA UTAMA
A16: 1 | B16: A | D16: A | F16: 1 | G16: 2 | H16: - | Q16: 1 | R16: Indeks Efektifitas Pembinaan Manajemen Kinerja ASN | W16: 1 | X16: 2 | Y16: 3 | Z16: 4 | AA16: 5 | AB16: 6 | AC16: 7 | AD16: 8 | AE16: 9 | AF16: 10 | AG16: 11 | AH16: 12 | AI16: 13
A17: 2 | B17: B | D17: B | F17: 2 | G17: 3 | H17: - | Q17: 2 | R17: Indeks Kepuasan Instansi Penerima Layanan Pembinaan Manajemen Kinerja ASN Berbasis IT | W17: Indeks Efektifitas Pembinaan Manajemen Kinerja ASN | X17: Indeks Kepuasan Instansi Penerima Layanan Pembinaan Manajemen Kinerja ASN Berbasis IT | Y17: Prosentase Instansi Yang melaporkan Penilaian Kinerja ASN melalui E-lapkin | Z17: Jumlah Rumusan standard dan pedoman untuk mendukung penerapan sistem manajemen kinerja ASN | AA17: Prosentase Instansi Pemerintah Yang telah menggunakan Sistem Informasi Kinerja ASN dengan Kriteria Minimal Baik | AB17: Jumlah Laporan Pengelolaan data dan inforrmasi hasil penerapan Kinerja ASN | AC17: Jumlah laporan monitoring dan evaluasi kegiatan direktorat kinerja ASN | AD17: Jumlah Layanan Manajemen Kinerja yang menggunakan Tekhnologi Informasi | AE17: Indek profesionalitas ASN Direktorat Kinerja | AF17: Prosentase pemanfaatan sistem informasi yang terstandard | AG17: Prosentase Pemenuhan Dokumen AKIP | AH17: Prosentase Kualitas Pelaksanaan Anggaran Direktorat Kinerja ASN | AI17: Prosentase Tindak Lanjut Hasil Audit Inspektorat / BPK
A18: 3 | B18: C | D18: C | F18: 3 | G18: 4 | H18: - | Q18: 3 | R18: Prosentase Instansi Yang melaporkan Penilaian Kinerja ASN melalui E-lapkin
A19: 4 | B19: D | D19: D | F19: 4 | G19: 5 | H19: - | Q19: 4 | R19: Jumlah Rumusan standard dan pedoman untuk mendukung penerapan sistem manajemen kinerja ASN
A20: 5 | B20: E | D20: E | F20: 5 | G20: 6 | H20: - | Q20: 5 | R20: Prosentase Instansi Pemerintah Yang telah menggunakan Sistem Informasi Kinerja ASN dengan Kriteria Minimal Baik
A21: 6 | B21: F | D21: F | F21: 6 | G21: 7 | H21: -
A22: 7 | B22: G | D22: G | F22: 7 | G22: 8 | H22: -
A23: 8 | B23: H | D23: H | F23: 8 | G23: 9 | H23: -
A24: 9 | B24: I | D24: I | F24: 9 | G24: 10 | H24: -
A25: 10 | B25: J | D25: J | F25: 10 | G25: 11 | H25: -
A26: 11 | B26: K | D26: K | F26: 11 | G26: 12 | H26: -
A27: 12 | B27: L | D27: L | F27: 12 | G27: 13 | H27: -
A28: 13 | B28: M | D28: M | F28: 13 | G28: 14 | H28: -
A30: B. KINERJA TAMBAHAN
A31: 1 | B31: a1 | D31: b1 | F31: 3 | G31: 10 | H31: -
A32: 2 | B32: a2 | D32: b2 | F32: 2 | G32: 3 | H32: -
A33: 3 | B33: a3 | D33: b3 | F33: 3 | G33: 4 | H33: -
A34: 4 | B34: a4 | D34: b4 | F34: 4 | G34: 5 | H34: -
A35: 5 | B35: a5 | D35: b5 | F35: 5 | G35: 6 | H35: -
A36: 6 | B36: a6 | D36: b6 | F36: 6 | G36: 7 | H36: -
A37: 7 | B37: a7 | D37: b7 | F37: 7 | G37: 8 | H37: -
A38: 8 | B38: a8 | D38: b8 | F38: 2 | G38: 8 | H38: -
E41: (TEMPAT), (TANGGAL, BULAN, TAHUN) | X41: (TEMPAT),(TANGGAL,BULAN,TAHUN)
C42: PEGAWAI YANG DINILAI | E42: PEJABAT PENILAI KINERJA | X42: PEJABAT PENILAI
C46: (NAMA) | E46: (NAMA) | X46: (NAMA)
C47: (NIP) | E47: (NIP) | X47: (NIP)

Sheet 2. Penilaian SKP JPT
A3: PENILAIAN SASARAN KINERJA PEGAWAI (SKP) JPT & PIMPINAN UNIT KERJA MANDIRI
K4: Periode Penilaian :
B5: NAMA INSTANSI : | K5: tgl-bulan s.d. tgl-bulan-tahun
A6: PEGAWAI YANG DINILAI | K6: PEJABAT PENILAI KINERJA
A7: Nama | C7: XXX | K7: Nama | M7: XXX
A8: NIP | C8: XXX | K8: NIP (Opsional) | L8: : | M8: XXX
A9: Pangkat/Gol Ruang | C9: XXX | K9: Pangkat/Gol Ruang | L9: : | M9: XXX
A10: Jabatan | C10: XXX | K10: Jabatan | L10: : | M10: XXX
A11: Unit Kerja | C11: XXX | K11: Unit Kerja | L11: : | M11: XXX
B12: A. KINERJA UTAMA
A13: No | B13: Rencana Kinerja | C13: Indikator Individu | D13: Target | F13: Realisasi | G13: Kondisi | H13: Single Rate | I13: Range | J13: Capaian IKI | K13: Kategori Capaian | L13: Nilai Capaian IKI | M13: Jenis Kinerja Utama (1/2) | N13: Nilai Tertimbang
D14: Min | E14: Max / Single Rate | P14: Jenis Kinerja Utama (KU) | Q14: Jumlah KU | R14: Bobot | S14: Nilai Tertimbang
A15: (1) | B15: (2) | C15: (3) | D15: (4) | F15: (5) | G15: (6) | I15: (7) | J15: (8) | K15: (9) | L15: (10) | M15: (11) | N15: (12)
A16: 1 | B16: =VLOOKUP(A16,SKP!$A$16:$G$101,2,0) -> A | C16: =VLOOKUP(A16,SKP!$A$16:$G$101,4,0) -> A | D16: 1 | E16: =VLOOKUP(A16,SKP!$A$16:$H$29,7,0) -> 2 | F16: 1 | G16: Normal | H16: =IF(COUNT(D16:E16)>1,0,IF(G16="Normal",F16/E16,(1+(1-(F16/E16))))) -> 0 | I16: =IF(COUNT(D16:E16)<2,0,IF(COUNT(D16:E16)=2,IF(G16="Normal",(IF(F16>E16,F16/E16*100%,IF(F16<D16,F16/D16*100%,IF(AND(F16>=D16,F16<=E16),100%,"-")))),IF(G16="Khusus",IF(F16>E16,(1+(1-(F16/E16)))*100%,IF(F16<D16,(1+(1-(F16/D16)))*100%,IF(AND(F16>=D16,F16<=E16),100%,"-"))))))) -> 1 | J16: =IF(COUNT(D16:E16)=1,ROUND(IF(H16>110%,110%,IF(H16<=0,0,H16)),2),ROUND(IF(I16>110%,110%,IF(I16<=0,0,I16)),2)) -> 1 | K16: =IF(J16<=59%,"Sangat Kurang",IF(AND(J16<=79%,J16>=60%),"Kurang",IF(AND(J16<=99%,J16>=80%),"Cukup",IF(J16=100%,"Baik",IF(J16>=101%,"Sangat Baik"))))) -> Baik | L16: =IF(K16="Sangat Baik",IF((110+(((120-110)/(110-101))*((J16*100)-101)))<=120,110+(((120-110)/(110-101))*((J16*100)-101)),120),IF(K16="Baik",109,IF(K16="Cukup",70+(((89-70)/(99-80))*((J16*100)-80)),IF(K16="Kurang",50+(((69-50)/(79-60))*((J16*100)-60)),IF(K16="Sangat Kurang",IF((J16/59%*49)<=0,0,J16/59%*49)))))) -> 109 | M16: 1 | N16: =S16+S17 -> 109 | P16: 1 | Q16: =COUNTIF($M$16:$M$23,P16) -> 8 | R16: 1 | S16: =SUMIF($M$16:$M$23,P16,$L$16:$L$23)*R16/Q16 -> 109
A17: 2 | B17: =VLOOKUP(A17,SKP!$A$16:$G$101,2,0) -> B | C17: =VLOOKUP(A17,SKP!$A$16:$G$101,4,0) -> B | D17: 1 | E17: =VLOOKUP(A17,SKP!$A$16:$H$29,7,0) -> 3 | F17: 3 | G17: Normal | H17: =IF(COUNT(D17:E17)>1,0,IF(G17="Normal",F17/E17,(1+(1-(F17/E17))))) -> 0 | I17: =IF(COUNT(D17:E17)<2,0,IF(COUNT(D17:E17)=2,IF(G17="Normal",(IF(F17>E17,F17/E17*100%,IF(F17<D17,F17/D17*100%,IF(AND(F17>=D17,F17<=E17),100%,"-")))),IF(G17="Khusus",IF(F17>E17,(1+(1-(F17/E17)))*100%,IF(F17<D17,(1+(1-(F17/D17)))*100%,IF(AND(F17>=D17,F17<=E17),100%,"-"))))))) -> 1 | J17: =IF(COUNT(D17:E17)=1,ROUND(IF(H17>110%,110%,IF(H17<=0,0,H17)),2),ROUND(IF(I17>110%,110%,IF(I17<=0,0,I17)),2)) -> 1 | K17: =IF(J17<=59%,"Sangat Kurang",IF(AND(J17<=79%,J17>=60%),"Kurang",IF(AND(J17<=99%,J17>=80%),"Cukup",IF(J17=100%,"Baik",IF(J17>=101%,"Sangat Baik"))))) -> Baik | L17: =IF(K17="Sangat Baik",IF((110+(((120-110)/(110-101))*((J17*100)-101)))<=120,110+(((120-110)/(110-101))*((J17*100)-101)),120),IF(K17="Baik",109,IF(K17="Cukup",70+(((89-70)/(99-80))*((J17*100)-80)),IF(K17="Kurang",50+(((69-50)/(79-60))*((J17*100)-60)),IF(K17="Sangat Kurang",IF((J17/59%*49)<=0,0,J17/59%*49)))))) -> 109 | M17: 1 | P17: 2 | Q17: =COUNTIF($M$16:$M$23,P17) -> 0
A18: 3 | B18: =VLOOKUP(A18,SKP!$A$16:$G$101,2,0) -> C | C18: =VLOOKUP(A18,SKP!$A$16:$G$101,4,0) -> C | D18: =VLOOKUP(A18,SKP!$A$16:$H$29,6,0) -> 3 | E18: =VLOOKUP(A18,SKP!$A$16:$H$29,7,0) -> 4 | F18: 3 | G18: Normal | H18: =IF(COUNT(D18:E18)>1,0,IF(G18="Normal",F18/E18,(1+(1-(F18/E18))))) -> 0 | I18: =IF(COUNT(D18:E18)<2,0,IF(COUNT(D18:E18)=2,IF(G18="Normal",(IF(F18>E18,F18/E18*100%,IF(F18<D18,F18/D18*100%,IF(AND(F18>=D18,F18<=E18),100%,"-")))),IF(G18="Khusus",IF(F18>E18,(1+(1-(F18/E18)))*100%,IF(F18<D18,(1+(1-(F18/D18)))*100%,IF(AND(F18>=D18,F18<=E18),100%,"-"))))))) -> 1 | J18: =IF(COUNT(D18:E18)=1,ROUND(IF(H18>110%,110%,IF(H18<=0,0,H18)),2),ROUND(IF(I18>110%,110%,IF(I18<=0,0,I18)),2)) -> 1 | K18: =IF(J18<=59%,"Sangat Kurang",IF(AND(J18<=79%,J18>=60%),"Kurang",IF(AND(J18<=99%,J18>=80%),"Cukup",IF(J18=100%,"Baik",IF(J18>=101%,"Sangat Baik"))))) -> Baik | L18: =IF(K18="Sangat Baik",IF((110+(((120-110)/(110-101))*((J18*100)-101)))<=120,110+(((120-110)/(110-101))*((J18*100)-101)),120),IF(K18="Baik",109,IF(K18="Cukup",70+(((89-70)/(99-80))*((J18*100)-80)),IF(K18="Kurang",50+(((69-50)/(79-60))*((J18*100)-60)),IF(K18="Sangat Kurang",IF((J18/59%*49)<=0,0,J18/59%*49)))))) -> 109 | M18: 1
A19: 4 | B19: =VLOOKUP(A19,SKP!$A$16:$G$101,2,0) -> D | C19: =VLOOKUP(A19,SKP!$A$16:$G$101,4,0) -> D | D19: =VLOOKUP(A19,SKP!$A$16:$H$29,6,0) -> 4 | E19: =VLOOKUP(A19,SKP!$A$16:$H$29,7,0) -> 5 | F19: 4 | G19: Normal | H19: =IF(COUNT(D19:E19)>1,0,IF(G19="Normal",F19/E19,(1+(1-(F19/E19))))) -> 0 | I19: =IF(COUNT(D19:E19)<2,0,IF(COUNT(D19:E19)=2,IF(G19="Normal",(IF(F19>E19,F19/E19*100%,IF(F19<D19,F19/D19*100%,IF(AND(F19>=D19,F19<=E19),100%,"-")))),IF(G19="Khusus",IF(F19>E19,(1+(1-(F19/E19)))*100%,IF(F19<D19,(1+(1-(F19/D19)))*100%,IF(AND(F19>=D19,F19<=E19),100%,"-"))))))) -> 1 | J19: =IF(COUNT(D19:E19)=1,ROUND(IF(H19>110%,110%,IF(H19<=0,0,H19)),2),ROUND(IF(I19>110%,110%,IF(I19<=0,0,I19)),2)) -> 1 | K19: =IF(J19<=59%,"Sangat Kurang",IF(AND(J19<=79%,J19>=60%),"Kurang",IF(AND(J19<=99%,J19>=80%),"Cukup",IF(J19=100%,"Baik",IF(J19>=101%,"Sangat Baik"))))) -> Baik | L19: =IF(K19="Sangat Baik",IF((110+(((120-110)/(110-101))*((J19*100)-101)))<=120,110+(((120-110)/(110-101))*((J19*100)-101)),120),IF(K19="Baik",109,IF(K19="Cukup",70+(((89-70)/(99-80))*((J19*100)-80)),IF(K19="Kurang",50+(((69-50)/(79-60))*((J19*100)-60)),IF(K19="Sangat Kurang",IF((J19/59%*49)<=0,0,J19/59%*49)))))) -> 109 | M19: 1
A20: 5 | B20: =VLOOKUP(A20,SKP!$A$16:$G$101,2,0) -> E | C20: =VLOOKUP(A20,SKP!$A$16:$G$101,4,0) -> E | D20: =VLOOKUP(A20,SKP!$A$16:$H$29,6,0) -> 5 | E20: =VLOOKUP(A20,SKP!$A$16:$H$29,7,0) -> 6 | F20: 5 | G20: Normal | H20: =IF(COUNT(D20:E20)>1,0,IF(G20="Normal",F20/E20,(1+(1-(F20/E20))))) -> 0 | I20: =IF(COUNT(D20:E20)<2,0,IF(COUNT(D20:E20)=2,IF(G20="Normal",(IF(F20>E20,F20/E20*100%,IF(F20<D20,F20/D20*100%,IF(AND(F20>=D20,F20<=E20),100%,"-")))),IF(G20="Khusus",IF(F20>E20,(1+(1-(F20/E20)))*100%,IF(F20<D20,(1+(1-(F20/D20)))*100%,IF(AND(F20>=D20,F20<=E20),100%,"-"))))))) -> 1 | J20: =IF(COUNT(D20:E20)=1,ROUND(IF(H20>110%,110%,IF(H20<=0,0,H20)),2),ROUND(IF(I20>110%,110%,IF(I20<=0,0,I20)),2)) -> 1 | K20: =IF(J20<=59%,"Sangat Kurang",IF(AND(J20<=79%,J20>=60%),"Kurang",IF(AND(J20<=99%,J20>=80%),"Cukup",IF(J20=100%,"Baik",IF(J20>=101%,"Sangat Baik"))))) -> Baik | L20: =IF(K20="Sangat Baik",IF((110+(((120-110)/(110-101))*((J20*100)-101)))<=120,110+(((120-110)/(110-101))*((J20*100)-101)),120),IF(K20="Baik",109,IF(K20="Cukup",70+(((89-70)/(99-80))*((J20*100)-80)),IF(K20="Kurang",50+(((69-50)/(79-60))*((J20*100)-60)),IF(K20="Sangat Kurang",IF((J20/59%*49)<=0,0,J20/59%*49)))))) -> 109 | M20: 1
A21: 6 | B21: =VLOOKUP(A21,SKP!$A$16:$G$101,2,0) -> F | C21: =VLOOKUP(A21,SKP!$A$16:$G$101,4,0) -> F | D21: =VLOOKUP(A21,SKP!$A$16:$H$29,6,0) -> 6 | E21: =VLOOKUP(A21,SKP!$A$16:$H$29,7,0) -> 7 | F21: 6 | G21: Normal | H21: =IF(COUNT(D21:E21)>1,0,IF(G21="Normal",F21/E21,(1+(1-(F21/E21))))) -> 0 | I21: =IF(COUNT(D21:E21)<2,0,IF(COUNT(D21:E21)=2,IF(G21="Normal",(IF(F21>E21,F21/E21*100%,IF(F21<D21,F21/D21*100%,IF(AND(F21>=D21,F21<=E21),100%,"-")))),IF(G21="Khusus",IF(F21>E21,(1+(1-(F21/E21)))*100%,IF(F21<D21,(1+(1-(F21/D21)))*100%,IF(AND(F21>=D21,F21<=E21),100%,"-"))))))) -> 1 | J21: =IF(COUNT(D21:E21)=1,ROUND(IF(H21>110%,110%,IF(H21<=0,0,H21)),2),ROUND(IF(I21>110%,110%,IF(I21<=0,0,I21)),2)) -> 1 | K21: =IF(J21<=59%,"Sangat Kurang",IF(AND(J21<=79%,J21>=60%),"Kurang",IF(AND(J21<=99%,J21>=80%),"Cukup",IF(J21=100%,"Baik",IF(J21>=101%,"Sangat Baik"))))) -> Baik | L21: =IF(K21="Sangat Baik",IF((110+(((120-110)/(110-101))*((J21*100)-101)))<=120,110+(((120-110)/(110-101))*((J21*100)-101)),120),IF(K21="Baik",109,IF(K21="Cukup",70+(((89-70)/(99-80))*((J21*100)-80)),IF(K21="Kurang",50+(((69-50)/(79-60))*((J21*100)-60)),IF(K21="Sangat Kurang",IF((J21/59%*49)<=0,0,J21/59%*49)))))) -> 109 | M21: 1
A22: 7 | B22: =VLOOKUP(A22,SKP!$A$16:$G$101,2,0) -> G | C22: =VLOOKUP(A22,SKP!$A$16:$G$101,4,0) -> G | D22: =VLOOKUP(A22,SKP!$A$16:$H$29,6,0) -> 7 | E22: =VLOOKUP(A22,SKP!$A$16:$H$29,7,0) -> 8 | F22: 7 | G22: Normal | H22: =IF(COUNT(D22:E22)>1,0,IF(G22="Normal",F22/E22,(1+(1-(F22/E22))))) -> 0 | I22: =IF(COUNT(D22:E22)<2,0,IF(COUNT(D22:E22)=2,IF(G22="Normal",(IF(F22>E22,F22/E22*100%,IF(F22<D22,F22/D22*100%,IF(AND(F22>=D22,F22<=E22),100%,"-")))),IF(G22="Khusus",IF(F22>E22,(1+(1-(F22/E22)))*100%,IF(F22<D22,(1+(1-(F22/D22)))*100%,IF(AND(F22>=D22,F22<=E22),100%,"-"))))))) -> 1 | J22: =IF(COUNT(D22:E22)=1,ROUND(IF(H22>110%,110%,IF(H22<=0,0,H22)),2),ROUND(IF(I22>110%,110%,IF(I22<=0,0,I22)),2)) -> 1 | K22: =IF(J22<=59%,"Sangat Kurang",IF(AND(J22<=79%,J22>=60%),"Kurang",IF(AND(J22<=99%,J22>=80%),"Cukup",IF(J22=100%,"Baik",IF(J22>=101%,"Sangat Baik"))))) -> Baik | L22: =IF(K22="Sangat Baik",IF((110+(((120-110)/(110-101))*((J22*100)-101)))<=120,110+(((120-110)/(110-101))*((J22*100)-101)),120),IF(K22="Baik",109,IF(K22="Cukup",70+(((89-70)/(99-80))*((J22*100)-80)),IF(K22="Kurang",50+(((69-50)/(79-60))*((J22*100)-60)),IF(K22="Sangat Kurang",IF((J22/59%*49)<=0,0,J22/59%*49)))))) -> 109 | M22: 1
A23: 8 | B23: =VLOOKUP(A23,SKP!$A$16:$G$101,2,0) -> H | C23: =VLOOKUP(A23,SKP!$A$16:$G$101,4,0) -> H | D23: =VLOOKUP(A23,SKP!$A$16:$H$29,6,0) -> 8 | E23: =VLOOKUP(A23,SKP!$A$16:$H$29,7,0) -> 9 | F23: 8 | G23: Normal | H23: =IF(COUNT(D23:E23)>1,0,IF(G23="Normal",F23/E23,(1+(1-(F23/E23))))) -> 0 | I23: =IF(COUNT(D23:E23)<2,0,IF(COUNT(D23:E23)=2,IF(G23="Normal",(IF(F23>E23,F23/E23*100%,IF(F23<D23,F23/D23*100%,IF(AND(F23>=D23,F23<=E23),100%,"-")))),IF(G23="Khusus",IF(F23>E23,(1+(1-(F23/E23)))*100%,IF(F23<D23,(1+(1-(F23/D23)))*100%,IF(AND(F23>=D23,F23<=E23),100%,"-"))))))) -> 1 | J23: =IF(COUNT(D23:E23)=1,ROUND(IF(H23>110%,110%,IF(H23<=0,0,H23)),2),ROUND(IF(I23>110%,110%,IF(I23<=0,0,I23)),2)) -> 1 | K23: =IF(J23<=59%,"Sangat Kurang",IF(AND(J23<=79%,J23>=60%),"Kurang",IF(AND(J23<=99%,J23>=80%),"Cukup",IF(J23=100%,"Baik",IF(J23>=101%,"Sangat Baik"))))) -> Baik | L23: =IF(K23="Sangat Baik",IF((110+(((120-110)/(110-101))*((J23*100)-101)))<=120,110+(((120-110)/(110-101))*((J23*100)-101)),120),IF(K23="Baik",109,IF(K23="Cukup",70+(((89-70)/(99-80))*((J23*100)-80)),IF(K23="Kurang",50+(((69-50)/(79-60))*((J23*100)-60)),IF(K23="Sangat Kurang",IF((J23/59%*49)<=0,0,J23/59%*49)))))) -> 109 | M23: 1
A24: B. KINERJA TAMBAHAN
A25: No | B25: Rencana Kinerja | C25: Indikator Individu | D25: Target | F25: Realisasi | G25: Kondisi | H25: Single Rate | I25: Range | J25: Capaian IKI | K25: Kategori Capaian | L25: Bobot Capaian | M25: Nilai Capaian IKI | N25: Nilai Tertimbang
D26: Min | E26: Max / Single Rate
A27: 1 | B27: =VLOOKUP(A27,SKP!$A$31:$H$38,2,0) -> a1 | C27: =VLOOKUP(A27,SKP!$A$31:$H$38,4,0) -> b1 | D27: =VLOOKUP(A27,SKP!$A$31:$H$38,6,0) -> 3 | E27: =VLOOKUP(A27,SKP!$A$31:$H$38,7,0) -> 10 | F27: 20 | G27: Normal | H27: =IF(COUNT(D27:E27)>1,0,IF(G27="Normal",F27/E27,(1+(1-(F27/E27))))) -> 0 | I27: =IF(COUNT(D27:E27)<2,0,IF(COUNT(D27:E27)=2,IF(G27="Normal",(IF(F27>E27,F27/E27*100%,IF(F27<D27,F27/D27*100%,IF(AND(F27>=D27,F27<=E27),100%,"-")))),IF(G27="Khusus",IF(F27>E27,(1+(1-(F27/E27)))*100%,IF(F27<D27,(1+(1-(F27/D27)))*100%,IF(AND(F27>=D27,F27<=E27),100%,"-"))))))) -> 2 | J27: =IF(COUNT(D27:E27)=1,ROUND(IF(H27>110%,110%,IF(H27<=0,0,H27)),2),ROUND(IF(I27>110%,110%,IF(I27<=0,0,I27)),2)) -> 1.1 | K27: =IF(J27<=59%,"Sangat Kurang",IF(AND(J27<=79%,J27>=60%),"Kurang",IF(AND(J27<=99%,J27>=80%),"Cukup",IF(J27=100%,"Baik",IF(J27>=101%,"Sangat Baik"))))) -> Sangat Baik | L27: 1 | M27: =IF(K27="Sangat Baik",IF((110+(((120-110)/(110-101))*((J27*100)-101)))<=120,110+(((120-110)/(110-101))*((J27*100)-101)),120),IF(K27="Baik",109,IF(K27="Cukup",70+(((89-70)/(99-80))*((J27*100)-80)),IF(K27="Kurang",50+(((69-50)/(79-60))*((J27*100)-60)),IF(K27="Sangat Kurang",J27/59%*49))))) -> 120 | N27: =IF(K27="Sangat Baik",((100/100)*(L27/100)*M27),IF(K27="Baik",((80/100)*(L27/100)*M27),IF(K27="Cukup",((60/100)*(L27/100)*M27),IF(K27="Kurang",((40/100)*(L27/100)*M27),IF(K27="Sangat Kurang",((20/100)*(L27/100)*M27)))))) -> 1.2
A28: 2 | B28: =VLOOKUP(A28,SKP!$A$31:$H$38,2,0) -> a2 | C28: =VLOOKUP(A28,SKP!$A$31:$H$38,4,0) -> b2 | D28: =VLOOKUP(A28,SKP!$A$31:$H$38,6,0) -> 2 | E28: =VLOOKUP(A28,SKP!$A$31:$H$38,7,0) -> 3 | F28: 1 | G28: Normal | H28: =IF(COUNT(D28:E28)>1,0,IF(G28="Normal",F28/E28,(1+(1-(F28/E28))))) -> 0 | I28: =IF(COUNT(D28:E28)<2,0,IF(COUNT(D28:E28)=2,IF(G28="Normal",(IF(F28>E28,F28/E28*100%,IF(F28<D28,F28/D28*100%,IF(AND(F28>=D28,F28<=E28),100%,"-")))),IF(G28="Khusus",IF(F28>E28,(1+(1-(F28/E28)))*100%,IF(F28<D28,(1+(1-(F28/D28)))*100%,IF(AND(F28>=D28,F28<=E28),100%,"-"))))))) -> 0.5 | J28: =IF(COUNT(D28:E28)=1,ROUND(IF(H28>110%,110%,IF(H28<=0,0,H28)),2),ROUND(IF(I28>110%,110%,IF(I28<=0,0,I28)),2)) -> 0.5 | K28: =IF(J28<=59%,"Sangat Kurang",IF(AND(J28<=79%,J28>=60%),"Kurang",IF(AND(J28<=99%,J28>=80%),"Cukup",IF(J28=100%,"Baik",IF(J28>=101%,"Sangat Baik"))))) -> Sangat Kurang | L28: 2 | M28: =IF(K28="Sangat Baik",IF((110+(((120-110)/(110-101))*((J28*100)-101)))<=120,110+(((120-110)/(110-101))*((J28*100)-101)),120),IF(K28="Baik",109,IF(K28="Cukup",70+(((89-70)/(99-80))*((J28*100)-80)),IF(K28="Kurang",50+(((69-50)/(79-60))*((J28*100)-60)),IF(K28="Sangat Kurang",J28/59%*49))))) -> 41.525424 | N28: =IF(K28="Sangat Baik",((100/100)*(L28/100)*M28),IF(K28="Baik",((80/100)*(L28/100)*M28),IF(K28="Cukup",((60/100)*(L28/100)*M28),IF(K28="Kurang",((40/100)*(L28/100)*M28),IF(K28="Sangat Kurang",((20/100)*(L28/100)*M28)))))) -> 0.16610169
A29: 3 | B29: =VLOOKUP(A29,SKP!$A$31:$H$38,2,0) -> a3 | C29: =VLOOKUP(A29,SKP!$A$31:$H$38,4,0) -> b3 | D29: =VLOOKUP(A29,SKP!$A$31:$H$38,6,0) -> 3 | E29: =VLOOKUP(A29,SKP!$A$31:$H$38,7,0) -> 4 | F29: 6 | G29: Khusus | H29: =IF(COUNT(D29:E29)>1,0,IF(G29="Normal",F29/E29,(1+(1-(F29/E29))))) -> 0 | I29: =IF(COUNT(D29:E29)<2,0,IF(COUNT(D29:E29)=2,IF(G29="Normal",(IF(F29>E29,F29/E29*100%,IF(F29<D29,F29/D29*100%,IF(AND(F29>=D29,F29<=E29),100%,"-")))),IF(G29="Khusus",IF(F29>E29,(1+(1-(F29/E29)))*100%,IF(F29<D29,(1+(1-(F29/D29)))*100%,IF(AND(F29>=D29,F29<=E29),100%,"-"))))))) -> 0.5 | J29: =IF(COUNT(D29:E29)=1,ROUND(IF(H29>110%,110%,IF(H29<=0,0,H29)),2),ROUND(IF(I29>110%,110%,IF(I29<=0,0,I29)),2)) -> 0.5 | K29: =IF(J29<=59%,"Sangat Kurang",IF(AND(J29<=79%,J29>=60%),"Kurang",IF(AND(J29<=99%,J29>=80%),"Cukup",IF(J29=100%,"Baik",IF(J29>=101%,"Sangat Baik"))))) -> Sangat Kurang | L29: 1 | M29: =IF(K29="Sangat Baik",IF((110+(((120-110)/(110-101))*((J29*100)-101)))<=120,110+(((120-110)/(110-101))*((J29*100)-101)),120),IF(K29="Baik",109,IF(K29="Cukup",70+(((89-70)/(99-80))*((J29*100)-80)),IF(K29="Kurang",50+(((69-50)/(79-60))*((J29*100)-60)),IF(K29="Sangat Kurang",J29/59%*49))))) -> 41.525424 | N29: =IF(K29="Sangat Baik",((100/100)*(L29/100)*M29),IF(K29="Baik",((80/100)*(L29/100)*M29),IF(K29="Cukup",((60/100)*(L29/100)*M29),IF(K29="Kurang",((40/100)*(L29/100)*M29),IF(K29="Sangat Kurang",((20/100)*(L29/100)*M29)))))) -> 0.083050847
A30: 4 | B30: =VLOOKUP(A30,SKP!$A$31:$H$38,2,0) -> a4 | C30: =VLOOKUP(A30,SKP!$A$31:$H$38,4,0) -> b4 | D30: =VLOOKUP(A30,SKP!$A$31:$H$38,6,0) -> 4 | E30: =VLOOKUP(A30,SKP!$A$31:$H$38,7,0) -> 5 | F30: 3 | G30: Normal | H30: =IF(COUNT(D30:E30)>1,0,IF(G30="Normal",F30/E30,(1+(1-(F30/E30))))) -> 0 | I30: =IF(COUNT(D30:E30)<2,0,IF(COUNT(D30:E30)=2,IF(G30="Normal",(IF(F30>E30,F30/E30*100%,IF(F30<D30,F30/D30*100%,IF(AND(F30>=D30,F30<=E30),100%,"-")))),IF(G30="Khusus",IF(F30>E30,(1+(1-(F30/E30)))*100%,IF(F30<D30,(1+(1-(F30/D30)))*100%,IF(AND(F30>=D30,F30<=E30),100%,"-"))))))) -> 0.75 | J30: =IF(COUNT(D30:E30)=1,ROUND(IF(H30>110%,110%,IF(H30<=0,0,H30)),2),ROUND(IF(I30>110%,110%,IF(I30<=0,0,I30)),2)) -> 0.75 | K30: =IF(J30<=59%,"Sangat Kurang",IF(AND(J30<=79%,J30>=60%),"Kurang",IF(AND(J30<=99%,J30>=80%),"Cukup",IF(J30=100%,"Baik",IF(J30>=101%,"Sangat Baik"))))) -> Kurang | L30: 2 | M30: =IF(K30="Sangat Baik",IF((110+(((120-110)/(110-101))*((J30*100)-101)))<=120,110+(((120-110)/(110-101))*((J30*100)-101)),120),IF(K30="Baik",109,IF(K30="Cukup",70+(((89-70)/(99-80))*((J30*100)-80)),IF(K30="Kurang",50+(((69-50)/(79-60))*((J30*100)-60)),IF(K30="Sangat Kurang",J30/59%*49))))) -> 65 | N30: =IF(K30="Sangat Baik",((100/100)*(L30/100)*M30),IF(K30="Baik",((80/100)*(L30/100)*M30),IF(K30="Cukup",((60/100)*(L30/100)*M30),IF(K30="Kurang",((40/100)*(L30/100)*M30),IF(K30="Sangat Kurang",((20/100)*(L30/100)*M30)))))) -> 0.52
A31: 5 | B31: =VLOOKUP(A31,SKP!$A$31:$H$38,2,0) -> a5 | C31: =VLOOKUP(A31,SKP!$A$31:$H$38,4,0) -> b5 | D31: =VLOOKUP(A31,SKP!$A$31:$H$38,6,0) -> 5 | E31: =VLOOKUP(A31,SKP!$A$31:$H$38,7,0) -> 6 | F31: 5 | G31: Khusus | H31: =IF(COUNT(D31:E31)>1,0,IF(G31="Normal",F31/E31,(1+(1-(F31/E31))))) -> 0 | I31: =IF(COUNT(D31:E31)<2,0,IF(COUNT(D31:E31)=2,IF(G31="Normal",(IF(F31>E31,F31/E31*100%,IF(F31<D31,F31/D31*100%,IF(AND(F31>=D31,F31<=E31),100%,"-")))),IF(G31="Khusus",IF(F31>E31,(1+(1-(F31/E31)))*100%,IF(F31<D31,(1+(1-(F31/D31)))*100%,IF(AND(F31>=D31,F31<=E31),100%,"-"))))))) -> 1 | J31: =IF(COUNT(D31:E31)=1,ROUND(IF(H31>110%,110%,IF(H31<=0,0,H31)),2),ROUND(IF(I31>110%,110%,IF(I31<=0,0,I31)),2)) -> 1 | K31: =IF(J31<=59%,"Sangat Kurang",IF(AND(J31<=79%,J31>=60%),"Kurang",IF(AND(J31<=99%,J31>=80%),"Cukup",IF(J31=100%,"Baik",IF(J31>=101%,"Sangat Baik"))))) -> Baik | L31: 1 | M31: =IF(K31="Sangat Baik",IF((110+(((120-110)/(110-101))*((J31*100)-101)))<=120,110+(((120-110)/(110-101))*((J31*100)-101)),120),IF(K31="Baik",109,IF(K31="Cukup",70+(((89-70)/(99-80))*((J31*100)-80)),IF(K31="Kurang",50+(((69-50)/(79-60))*((J31*100)-60)),IF(K31="Sangat Kurang",J31/59%*49))))) -> 109 | N31: =IF(K31="Sangat Baik",((100/100)*(L31/100)*M31),IF(K31="Baik",((80/100)*(L31/100)*M31),IF(K31="Cukup",((60/100)*(L31/100)*M31),IF(K31="Kurang",((40/100)*(L31/100)*M31),IF(K31="Sangat Kurang",((20/100)*(L31/100)*M31)))))) -> 0.872
A32: 6 | B32: =VLOOKUP(A32,SKP!$A$31:$H$38,2,0) -> a6 | C32: =VLOOKUP(A32,SKP!$A$31:$H$38,4,0) -> b6 | D32: =VLOOKUP(A32,SKP!$A$31:$H$38,6,0) -> 6 | E32: =VLOOKUP(A32,SKP!$A$31:$H$38,7,0) -> 7 | F32: 5 | G32: Normal | H32: =IF(COUNT(D32:E32)>1,0,IF(G32="Normal",F32/E32,(1+(1-(F32/E32))))) -> 0 | I32: =IF(COUNT(D32:E32)<2,0,IF(COUNT(D32:E32)=2,IF(G32="Normal",(IF(F32>E32,F32/E32*100%,IF(F32<D32,F32/D32*100%,IF(AND(F32>=D32,F32<=E32),100%,"-")))),IF(G32="Khusus",IF(F32>E32,(1+(1-(F32/E32)))*100%,IF(F32<D32,(1+(1-(F32/D32)))*100%,IF(AND(F32>=D32,F32<=E32),100%,"-"))))))) -> 0.83333333 | J32: =IF(COUNT(D32:E32)=1,ROUND(IF(H32>110%,110%,IF(H32<=0,0,H32)),2),ROUND(IF(I32>110%,110%,IF(I32<=0,0,I32)),2)) -> 0.83 | K32: =IF(J32<=59%,"Sangat Kurang",IF(AND(J32<=79%,J32>=60%),"Kurang",IF(AND(J32<=99%,J32>=80%),"Cukup",IF(J32=100%,"Baik",IF(J32>=101%,"Sangat Baik"))))) -> Cukup | L32: 2 | M32: =IF(K32="Sangat Baik",IF((110+(((120-110)/(110-101))*((J32*100)-101)))<=120,110+(((120-110)/(110-101))*((J32*100)-101)),120),IF(K32="Baik",109,IF(K32="Cukup",70+(((89-70)/(99-80))*((J32*100)-80)),IF(K32="Kurang",50+(((69-50)/(79-60))*((J32*100)-60)),IF(K32="Sangat Kurang",J32/59%*49))))) -> 73 | N32: =IF(K32="Sangat Baik",((100/100)*(L32/100)*M32),IF(K32="Baik",((80/100)*(L32/100)*M32),IF(K32="Cukup",((60/100)*(L32/100)*M32),IF(K32="Kurang",((40/100)*(L32/100)*M32),IF(K32="Sangat Kurang",((20/100)*(L32/100)*M32)))))) -> 0.876
A33: 7 | B33: =VLOOKUP(A33,SKP!$A$31:$H$38,2,0) -> a7 | C33: =VLOOKUP(A33,SKP!$A$31:$H$38,4,0) -> b7 | D33: =VLOOKUP(A33,SKP!$A$31:$H$38,6,0) -> 7 | E33: =VLOOKUP(A33,SKP!$A$31:$H$38,7,0) -> 8 | F33: 6 | G33: Normal | H33: =IF(COUNT(D33:E33)>1,0,IF(G33="Normal",F33/E33,(1+(1-(F33/E33))))) -> 0 | I33: =IF(COUNT(D33:E33)<2,0,IF(COUNT(D33:E33)=2,IF(G33="Normal",(IF(F33>E33,F33/E33*100%,IF(F33<D33,F33/D33*100%,IF(AND(F33>=D33,F33<=E33),100%,"-")))),IF(G33="Khusus",IF(F33>E33,(1+(1-(F33/E33)))*100%,IF(F33<D33,(1+(1-(F33/D33)))*100%,IF(AND(F33>=D33,F33<=E33),100%,"-"))))))) -> 0.85714286 | J33: =IF(COUNT(D33:E33)=1,ROUND(IF(H33>110%,110%,IF(H33<=0,0,H33)),2),ROUND(IF(I33>110%,110%,IF(I33<=0,0,I33)),2)) -> 0.86 | K33: =IF(J33<=59%,"Sangat Kurang",IF(AND(J33<=79%,J33>=60%),"Kurang",IF(AND(J33<=99%,J33>=80%),"Cukup",IF(J33=100%,"Baik",IF(J33>=101%,"Sangat Baik"))))) -> Cukup | L33: 3 | M33: =IF(K33="Sangat Baik",IF((110+(((120-110)/(110-101))*((J33*100)-101)))<=120,110+(((120-110)/(110-101))*((J33*100)-101)),120),IF(K33="Baik",109,IF(K33="Cukup",70+(((89-70)/(99-80))*((J33*100)-80)),IF(K33="Kurang",50+(((69-50)/(79-60))*((J33*100)-60)),IF(K33="Sangat Kurang",J33/59%*49))))) -> 76 | N33: =IF(K33="Sangat Baik",((100/100)*(L33/100)*M33),IF(K33="Baik",((80/100)*(L33/100)*M33),IF(K33="Cukup",((60/100)*(L33/100)*M33),IF(K33="Kurang",((40/100)*(L33/100)*M33),IF(K33="Sangat Kurang",((20/100)*(L33/100)*M33)))))) -> 1.368
A34: 8 | B34: =VLOOKUP(A34,SKP!$A$31:$H$38,2,0) -> a8 | C34: =VLOOKUP(A34,SKP!$A$31:$H$38,4,0) -> b8 | D34: =VLOOKUP(A34,SKP!$A$31:$H$38,6,0) -> 2 | E34: =VLOOKUP(A34,SKP!$A$31:$H$38,7,0) -> 8 | F34: 7 | G34: Normal | H34: =IF(COUNT(D34:E34)>1,0,IF(G34="Normal",F34/E34,(1+(1-(F34/E34))))) -> 0 | I34: =IF(COUNT(D34:E34)<2,0,IF(COUNT(D34:E34)=2,IF(G34="Normal",(IF(F34>E34,F34/E34*100%,IF(F34<D34,F34/D34*100%,IF(AND(F34>=D34,F34<=E34),100%,"-")))),IF(G34="Khusus",IF(F34>E34,(1+(1-(F34/E34)))*100%,IF(F34<D34,(1+(1-(F34/D34)))*100%,IF(AND(F34>=D34,F34<=E34),100%,"-"))))))) -> 1 | J34: =IF(COUNT(D34:E34)=1,ROUND(IF(H34>110%,110%,IF(H34<=0,0,H34)),2),ROUND(IF(I34>110%,110%,IF(I34<=0,0,I34)),2)) -> 1 | K34: =IF(J34<=59%,"Sangat Kurang",IF(AND(J34<=79%,J34>=60%),"Kurang",IF(AND(J34<=99%,J34>=80%),"Cukup",IF(J34=100%,"Baik",IF(J34>=101%,"Sangat Baik"))))) -> Baik | L34: 2 | M34: =IF(K34="Sangat Baik",IF((110+(((120-110)/(110-101))*((J34*100)-101)))<=120,110+(((120-110)/(110-101))*((J34*100)-101)),120),IF(K34="Baik",109,IF(K34="Cukup",70+(((89-70)/(99-80))*((J34*100)-80)),IF(K34="Kurang",50+(((69-50)/(79-60))*((J34*100)-60)),IF(K34="Sangat Kurang",J34/59%*49))))) -> 109 | N34: =IF(K34="Sangat Baik",((100/100)*(L34/100)*M34),IF(K34="Baik",((80/100)*(L34/100)*M34),IF(K34="Cukup",((60/100)*(L34/100)*M34),IF(K34="Kurang",((40/100)*(L34/100)*M34),IF(K34="Sangat Kurang",((20/100)*(L34/100)*M34)))))) -> 1.744
A35: Nilai Tertimbang Kinerja Tambahan | N35: =IF(SUM(N27:N34)>=10,10,SUM(N27:N34)) -> 6.8291525
A36: Nilai SKP | N36: =N16+N35 -> 115.82915
K39: (TEMPAT), (TANGGAL, BULAN, TAHUN) | X39: (TEMPAT),(TANGGAL,BULAN,TAHUN)
C40: PEGAWAI YANG DINILAI | K40: PEJABAT PENILAI KINERJA
X41: PEJABAT PENILAI
C44: (NAMA) | K44: (NAMA) | X44: (NAMA)
C45: (NIP) | K45: (NIP) | X45: (NIP)

Sheet PERILAKU KERJA
A1: PENILAIAN PERILAKU KERJA
A3: NAMA INSTANSI : | D3: tgl-bulan s.d. tgl-bulan-tahun
A4: PEGAWAI YANG DINILAI | D4: PEJABAT PENILAI KINERJA
A5: Nama | C5: ='[1]6.2 RENCANA SKP JF (M.I)'!C4 -> 0 | D5: Nama | E5: ='[1]6.2 RENCANA SKP JF (M.I)'!I4 -> 0
A6: NIP | C6: ='[1]6.2 RENCANA SKP JF (M.I)'!C5 -> 0 | D6: NIP | E6: ='[1]6.2 RENCANA SKP JF (M.I)'!I5 -> 0
A7: Pangkat/Gol Ruang | C7: ='[1]6.2 RENCANA SKP JF (M.I)'!C6 -> 0 | D7: Pangkat/Gol Ruang | E7: ='[1]6.2 RENCANA SKP JF (M.I)'!I6 -> 0
A8: Jabatan | C8: ='[1]6.2 RENCANA SKP JF (M.I)'!C7 -> 0 | D8: Jabatan | E8: ='[1]6.2 RENCANA SKP JF (M.I)'!I7 -> 0
A9: Unit Kerja | C9: ='[1]6.2 RENCANA SKP JF (M.I)'!C8 -> - | D9: Unit Kerja | E9: ='[1]6.2 RENCANA SKP JF (M.I)'!I8 -> 0
A10: NO | B10: ASPEK PERILAKU | D10: NILAI
A11: (1) | B11: (2) | D11: (3)
A12: 1 | B12: Orientasi Pelayanan | D12: 95
A13: 2 | B13: Inisiatif Kerja | D13: 94
A14: 3 | B14: Komitmen | D14: 96
A15: 4 | B15: Kerjasama | D15: 97
A16: 5 | B16: Kepemimpinan | D16: 98
B17: NILAI PERILAKU KERJA | D17: =AVERAGE(D12:D16) -> 96
D20: (TEMPAT), (TANGGAL, BULAN, TAHUN)
D21: PEJABAT PENILAI KINERJA
D25: (NAMA)
D26: (NIP)

Sheet Penilaian Prestasi Kerja
B1: PENILAIAN PRESTASI KERJA PNS PERIODE JANUARI - JUNI
B3: PEJABAT PENILAI | D3: PNS YANG DINILAI | I3: =D19 -> 86.066667
B4: NAMA | C4: XXX | D4: NAMA | E4: XXX
B5: NIP | C5: XXX | D5: NIP | E5: XXX
B6: PANGKAT/GOL | C6: XXX | D6: PANGKAT/GOL | E6: XXX
B7: JABATAN | C7: XXX | D7: JABATAN | E7: XXX
B8: UNIT KERJA | C8: XXX | D8: UNIT KERJA | E8: XXX
B9: TANGGAL PENILAIAN
B10: UNSUR YANG DINILAI | D10: NILAI | E10: SEBUTAN
B11: A. SASARAN KERJA PEGAWAI (SKP) | D11: 88 | E11: =IF(D11<=50,"(Buruk)",IF(D11<=60,"(Sedang)",IF(D11<=75,"(Cukup)",IF(D11<=90.99,"(Baik)","(Sangat Baik)")))) -> (Baik)
B12: B. PERILAKU KERJA PEGAWAI | D12: =AVERAGE(D13:D18) -> 83.166667 | E12: =IF(D12<=50,"(Buruk)",IF(D12<=60,"(Sedang)",IF(D12<=75,"(Cukup)",IF(D12<=90.99,"(Baik)","(Sangat Baik)")))) -> (Baik)
B13: 1. Orientasi Pelayanan | D13: 86 | E13: =IF(D13<=50,"(Buruk)",IF(D13<=60,"(Sedang)",IF(D13<=75,"(Cukup)",IF(D13<=90.99,"(Baik)","(Sangat Baik)")))) -> (Baik)
B14: 2. Integritas | D14: 82 | E14: =IF(D14<=50,"(Buruk)",IF(D14<=60,"(Sedang)",IF(D14<=75,"(Cukup)",IF(D14<=90.99,"(Baik)","(Sangat Baik)")))) -> (Baik)
B15: 3. Komitmen | D15: 82 | E15: =IF(D15<=50,"(Buruk)",IF(D15<=60,"(Sedang)",IF(D15<=75,"(Cukup)",IF(D15<=90.99,"(Baik)","(Sangat Baik)")))) -> (Baik)
B16: 4. Disiplin | D16: 84 | E16: =IF(D16<=50,"(Buruk)",IF(D16<=60,"(Sedang)",IF(D16<=75,"(Cukup)",IF(D16<=90.99,"(Baik)","(Sangat Baik)")))) -> (Baik)
B17: 5. Kerjasama | D17: 82 | E17: =IF(D17<=50,"(Buruk)",IF(D17<=60,"(Sedang)",IF(D17<=75,"(Cukup)",IF(D17<=90.99,"(Baik)","(Sangat Baik)")))) -> (Baik)
B18: 6. Kepemimpinan | D18: 83 | E18: =IF(D18<=50,"(Buruk)",IF(D18<=60,"(Sedang)",IF(D18<=75,"(Cukup)",IF(D18<=90.99,"(Baik)","(Sangat Baik)")))) -> (Baik)
B19: NILAI PRESTASI | D19: =D11*(0.6)+D12*(0.4) -> 86.066667
D22: (TEMPAT), (TANGGAL, BULAN, TAHUN)
B23: PEGAWAI YANG PENILAI | D23: PEJABAT PENILAI KINERJA
B27: (NAMA) | D27: (NAMA)
B28: (NIP) | D28: (NIP)

Sheet Penilaian Kinerja
B1: PENILAIAN KINERJA PNS PERIODE JULI - DESEMBER
B3: PEJABAT PENILAI | D3: PEGAWAI YANG DINILAI | G3: =D15 -> 96
B4: NAMA | C4: XXX | D4: NAMA | E4: XXX
B5: NIP | C5: XXX | D5: NIP | E5: XXX
B6: PANGKAT/GOL | C6: XXX | D6: PANGKAT/GOL | E6: XXX
B7: JABATAN | C7: XXX | D7: JABATAN | E7: XXX
B8: UNIT KERJA | C8: XXX | D8: UNIT KERJA | E8: XXX
B9: TANGGAL PENILAIAN
B10: UNSUR YANG DINILAI | D10: NILAI | E10: SEBUTAN
B11: A. SASARAN KINERJA PEGAWAI (SKP) | D11: ='2. Penilaian SKP JPT'!N36 -> 115.82915 | E11: =IF(D11<50,"(Sangat Kurang)",IF(D11<70,"(Kurang)",IF(D11<90,"(Cukup)",IF(D11<110.99,"(Baik)","(Sangat Baik)")))) -> (Sangat Baik)
B12: B. PERILAKU KERJA PEGAWAI | D12: =AVERAGE(D13:D17) -> 96 | E12: =IF(D12<50,"(Sangat Kurang)",IF(D12<70,"(Kurang)",IF(D12<90,"(Cukup)",IF(D12<110.99,"(Baik)","(Sangat Baik)")))) -> (Baik)
B13: 1. Orientasi Pelayanan | D13: ='PERILAKU KERJA'!D12:F12 -> 95 | E13: =IF(D13<50,"(Sangat Kurang)",IF(D13<70,"(Kurang)",IF(D13<90,"(Cukup)",IF(D13<110.99,"(Baik)","(Sangat Baik)")))) -> (Baik)
B14: 2. Inisiatif Kerja | D14: ='PERILAKU KERJA'!D13:F13 -> 94 | E14: =IF(D14<50,"(Sangat Kurang)",IF(D14<70,"(Kurang)",IF(D14<90,"(Cukup)",IF(D14<110.99,"(Baik)","(Sangat Baik)")))) -> (Baik)
B15: 3. Komitmen | D15: ='PERILAKU KERJA'!D14:F14 -> 96 | E15: =IF(D15<50,"(Sangat Kurang)",IF(D15<70,"(Kurang)",IF(D15<90,"(Cukup)",IF(D15<110.99,"(Baik)","(Sangat Baik)")))) -> (Baik)
B16: 4. Kerjasama | D16: ='PERILAKU KERJA'!D15:F15 -> 97 | E16: =IF(D16<50,"(Sangat Kurang)",IF(D16<70,"(Kurang)",IF(D16<90,"(Cukup)",IF(D16<110.99,"(Baik)","(Sangat Baik)")))) -> (Baik)
B17: 5. Kepemimpinan | D17: ='PERILAKU KERJA'!D16:F16 -> 98 | E17: =IF(D17<50,"(Sangat Kurang)",IF(D17<70,"(Kurang)",IF(D17<90,"(Cukup)",IF(D17<110.99,"(Baik)","(Sangat Baik)")))) -> (Baik)
B19: NILAI KINERJA PNS | D19: =D11*(0.7)+D12*(0.3) -> 109.88041
B20: C.IDE BARU | D20: 0
B21: NILAI AKHIR | D21: =D19+D20 -> 109.88041
E24: (TEMPAT), (TANGGAL, BULAN, TAHUN)
C25: PEGAWAI YANG DINILAI | E25: PEJABAT PENILAI KINERJA
C29: (NAMA) | E29: (NAMA)
C30: (NIP) | E30: (NIP)

Sheet INTEGRASI
B1: INTEGRASI HASIL PENILAIAN KINERJA PNS TAHUN 2021
B3: PEGAWAI YANG DINILAI | D3: PEJABAT PENILAI KINERJA | G3: Nilai Prestasi Kerja | I3: ='Penilaian Prestasi Kerja'!I3 -> 86.066667
B4: NAMA | C4: XXX | D4: NAMA | E4: XXX
B5: NIP | C5: XXX | D5: NIP | E5: XXX
B6: PANGKAT/GOL | C6: XXX | D6: PANGKAT/GOL | E6: XXX
B7: JABATAN | C7: XXX | D7: JABATAN | E7: XXX
B8: UNIT KERJA | C8: XXX | D8: UNIT KERJA | E8: XXX
B9: TANGGAL INTEGRASI PENILAIAN
B10: INTEGRASI HASIL PENILAIAN KINERJA PNS 2021
B11: PERIODE | D11: NILAI KINERJA PNS
B12: JANUARI - JUNI | D12: =IF(I3<=50,((I3/50)*49),IF(I3<=60,(50+((19/9)*(I3-51))),IF(I3<=75,(70+((19/14)*(I3-61))),IF(I3<=90,(90+((19/14)*(I3-76))),IF(I3<=100,(110+((10/8)*(I3-91))),120))))) -> 103.6619
B13: JULI - DESEMBER | D13: ='Penilaian Kinerja'!D21:E21 -> 109.88041
B14: NILAI KINERJA PNS TAHUN 2021 | D14: =D12*(0.5)+D13*(0.5) -> 106.77116 | H14: =D14 -> 106.77116
B15: PREDIKAT | D15: =IF(H14<=50,"(Sangat Kurang)",IF(H14<=69,"(Kurang)",IF(H14<=89,"(Cukup)",IF(H14<=120,"(Baik)","(Sangat Baik)")))) -> (Baik)
D18: (TEMPAT), (TANGGAL, BULAN, TAHUN)
B19: PEGAWAI YANG DINILAI | D19: PEJABAT PENILAI KINERJA
B23: (NAMA) | D23: (NAMA)
B24: (NIP) | D24: (NIP)
