Workbook

Sheet DATA
A1: DATA SASARAN KINERJA PEGAWAI
A3: INSTANSI | D3: : | E3: INSTANSI
A4: JANGKA WAKTU PENILAIAN | D4: : | E4: 1 Januari s.d. 31 Desember 2022
A6: 1 | B6: YANG DINILAI
B7: a. | C7: Nama | D7: : | E7: NAMA
B8: b. | C8: NIP | D8: : | E8: NIP
B9: c. | C9: Golongan | D9: : | E9: GOLONGAN
B10: d. | C10: Jabatan | D10: : | E10: JABATAN
B11: e. | C11: Unit Kerja | D11: : | E11: UNIT KERJA
A12: 2 | B12: PEJABAT PENILAI
B13: a. | C13: Nama | D13: : | E13: NAMA
B14: b. | C14: NIP | D14: : | E14: -
B15: c. | C15: Pangkat/Gol.Ruang | D15: : | E15: -
B16: d. | C16: Jabatan | D16: : | E16: BUPATI BANYUMAS
B17: e. | C17: Unit Kerja | D17: : | E17: PEMERINTAH KABUPATEN BANYUMAS
A18: 3 | B18: ATASAN PEJABAT PENILAI
B19: a. | C19: Nama | D19: :
B20: b. | C20: NIP | D20: :
B21: c. | C21: Pangkat/Gol.Ruang | D21: :
B22: d. | C22: Jabatan | D22: :
B23: e. | C23: Unit Kerja | D23: :

Sheet MATRIKS
B2: CONTOH MATRIKS PEMBAGIAN PERAN DAN HASIL
B3: NAMA | C3: JABATAN | F3: SASARAN/INDIKATOR | G3: SASARAN/INDIKATOR | H3: SASARAN/INDIKATOR
F4: Outcome/hasil/produk/layanan
B5: NAMA | C5: JABATAN | F5: RENCANA HASIL KERJA | G5: RENCANA HASIL KERJA | H5: RENCANA HASIL KERJA

Sheet SKP JPT
A1: SASARAN KINERJA PEGAWAI
A2: PENDEKATAN HASIL KERJA KUANTITATIF
A3: BAGI PEJABAT PIMPINAN TINGGI DAN PIMPINAN UNIT KERJA MANDIRI
A5: =DATA!E3 -> INSTANSI | E5: PERIODE PENILAIAN: | G5: =DATA!E4 -> 1 Januari s.d. 31 Desember 2022
A6: NO | B6: PEGAWAI YANG DINILAI | E6: NO | F6: PEJABAT PENILAI KINERJA
A7: 1 | B7: NAMA | C7: =DATA!E7 -> NAMA | E7: 1 | F7: NAMA | G7: =DATA!E13 -> NAMA
A8: 2 | B8: NIP | C8: =DATA!E8 -> NIP | E8: 2 | F8: NIP (*opsional) | G8: =DATA!E14 -> -
A9: 3 | B9: PANGKAT/GOL. RUANG | C9: =DATA!E9 -> GOLONGAN | E9: 3 | F9: PANGKAT/GOL. RUANG | G9: =DATA!E15 -> -
A10: 4 | B10: JABATAN | C10: =DATA!E10 -> JABATAN | E10: 4 | F10: JABATAN | G10: =DATA!E16 -> BUPATI BANYUMAS
A11: 5 | B11: UNIT KERJA | C11: =DATA!E11 -> UNIT KERJA | E11: 5 | F11: INSTANSI | G11: =DATA!E17 -> PEMERINTAH KABUPATEN BANYUMAS
A12: HASIL KERJA
A13: NO | B13: RENCANA HASIL KERJA | D13: INDIKATOR KINERJA INDIVIDU | F13: TARGET | H13: PERSPEKTIF
A14: (1) | B14: (2) | D14: (3) | F14: (4) | H14: (5)
A15: A. UTAMA
A16: 1
A18: 2
A19: 3
A20: 4 | B20: Terkelolanya anggaran di Dinkanak Kab. Banyumas | D20: Jumlah anggaran program kerja Dinkanak Banyumas yang terkelola | F20: 13000000000 | H20: Anggaran
A21: 5 | B21: Terlaksananya tugas direktif pimpinan sesuai target waktu yang ditentukan | D21: Persentase pengelolaan keuangan | F21: 1 | H21: Anggaran
A22: 4
A23: B. TAMBAHAN
A24: 1 | B24: Rencana Hasil Kerja Tambahan 1 (Hasil yang diharapkan dengan prioritas tinggi (Perjanjian Kinerja, Rencana Strategis, Rencana Kerja Tahunan, Direktif, dan/atau Rencana Aksi) disertai dengan Jabatan Pimpinan yang memberikan penugasan) | D24: IKI. 1.1 | F24: Target 1.1 | H24: (Penerima Layanan/ Proses Bisnis/ Penguatan Internal/ Anggaran)
A25: PERILAKU KERJA
A26: 1 | B26: Berorientasi pelayanan
B27: - Memahami dan memenuhi kebutuhan masyarakat | E27: Ekspektasi Khusus Pimpinan:
B28: - Ramah, cekatan, solutif, dan dapat diandalkan
B29: - Melakukan perbaikan tiada henti
A30: 2 | B30: Akuntabel
B31: - Melaksanakan tugas dengan jujur, bertanggungjawab, cermat, disiplin dan berintegritas tinggi | E31: Ekspektasi Khusus Pimpinan:
B32: - Menggunakan kekayaan dan barang milik negara secara bertanggungjawab, efektif, dan efisien
B33: - Tidak menyalahgunakan kewenangan jabatan
A34: 3 | B34: Kompeten
B35: - Meningkatkan kompetensi diri untuk menjawab tantangan yang selalu berubah | E35: Ekspektasi Khusus Pimpinan:
B36: - Membantu orang lain belajar
B37: - Melaksanakan tugas dengan kualitas terbaik
A38: 4 | B38: Harmonis
B39: - Menghargai setiap orang apapun latar belakangnya | E39: Ekspektasi Khusus Pimpinan:
B40: - Suka menolong orang lain
B41: - Membangun lingkungan kerja yang kondusif
A42: 5 | B42: Loyal
B43: - Memegang teguh ideologi Pancasila, Undang-Undang Dasar Negara Republik Indonesia Tahun 1945, setia kepada Negara Kesatuan Republik Indonesia serta pemerintahan yang sah | E43: Ekspektasi Khusus Pimpinan:
B44: - Menjaga nama baik sesama ASN, Pimpinan, Instansi, dan Negara
B45: - Menjaga rahasia jabatan dan negara
A46: 6 | B46: Adaptif
B47: - Cepat menyesuaikan diri menghadapi perubahan | E47: Ekspektasi Khusus Pimpinan:
B48: - Terus berinovasi dan mengembangkan kreativitas
B49: - Bertindak proaktif
A50: 7 | B50: Kolaboratif
B51: - Memberi kesempatan kepada berbagai pihak untuk berkontribusi | E51: Ekspektasi Khusus Pimpinan:
B52: - Terbuka dalam bekerja sama untuk menghasilkan nilai tambah
B53: - Menggerakkan pemanfaatan berbagai sumberdaya untuk tujuan bersama
E55: Purwokerto, tgl-bulan-tahun
A56: Pegawai Yang Dinilai | E56: Pejabat Penilai Kinerja
A60: =DATA!E7 -> NAMA | E60: =DATA!E13 -> NAMA
A61: =DATA!E8 -> NIP | E61: =DATA!E14 -> -

Sheet Lampiran SKP
E1: MENU
A2: LAMPIRAN SASARAN KINERJA PEGAWAI
C4: PERIODE PENILAIAN:
A5: =DATA!E3 -> INSTANSI | C5: =DATA!E4 -> 1 Januari s.d. 31 Desember 2022
A6: DUKUNGAN SUMBER DAYA
A7: 1 | B7: (dalam rangka memenuhi ekspektasi Pimpinan, maka Pegawai membutuhkan ….)
A8: 2 | B8: (dalam rangka memenuhi ekspektasi Pimpinan, maka Pegawai membutuhkan ….)
A9: SKEMA PERTANGGUNGJAWABAN
A10: 1 | B10: (hasil kerja dilaporkan setiap hari/ mingguan/ bulanan/… berikut data yang dilaporkan adalah ….)
A11: 2 | B11: (hasil kerja dilaporkan setiap hari/ mingguan/ bulanan/… berikut data yang dilaporkan adalah ….)
A12: KONSEKUENSI
A13: 1 | B13: Diprioritaskan dalam talent pool
A14: 2 | B14: (apabila tidak memenuhi ekspektasi Pimpinan maka….)
C16: (tempat, tanggal, bulan, tahun)
B17: Pegawai yang Dinilai | C17: Pejabat Penilai Kinerja
B20: =DATA!E7 -> NAMA | C20: =DATA!E13 -> NAMA
B21: =DATA!E8 -> NIP | C21: =DATA!E14 -> -

Sheet Rencana Aksi
H1: MENU
A2: RENCANA AKSI
D4: PERIODE PENILAIAN:
B5: =DATA!E3 -> INSTANSI | D5: =DATA!E4 -> 1 Januari s.d. 31 Desember 2022
A6: NO | C6: PEGAWAI YANG DINILAI | D6: NO | E6: PEJABAT PENILAI KINERJA
A7: 1 | B7: NAMA | C7: =DATA!E7 -> NAMA | D7: 1 | E7: NAMA | F7: =DATA!E13 -> NAMA
A8: 2 | B8: NIP | C8: =DATA!E8 -> NIP | D8: 2 | E8: NIP | F8: =DATA!E14 -> -
A9: 3 | B9: PANGKAT/GOL. RUANG | C9: =DATA!E9 -> GOLONGAN | D9: 3 | E9: PANGKAT/GOL. RUANG | F9: =DATA!E15 -> -
A10: 4 | B10: JABATAN | C10: =DATA!E10 -> JABATAN | D10: 4 | E10: JABATAN | F10: =DATA!E16 -> BUPATI BANYUMAS
A11: 5 | B11: UNIT KERJA | C11: =DATA!E11 -> UNIT KERJA | D11: 5 | E11: UNIT KERJA | F11: =DATA!E17 -> PEMERINTAH KABUPATEN BANYUMAS
A12: HASIL KERJA
A13: 1 | B13: ='SKP JPT'!B16:C16 -> 0 | D13: Rencana Aksi:
D14: 1
D15: 2
D16: 3
D17: 4
D18: 5
D19: 6
D20: 7
A21: 2 | D21: Rencana Aksi:
D22: 1
D23: 2
D24: 3
D25: 4
A26: 3 | D26: Rencana Aksi:
D27: 1
D28: 2
D29: 3
A30: 4 | D30: Rencana Aksi:
D31: 1
D32: 2
D33: 3
D34: 4
D36: ='Lampiran SKP'!C16 -> (tempat, tanggal, bulan, tahun)
D37: Pejabat Penilai Kinerja
D41: =DATA!E13 -> NAMA
D42: =DATA!E14 -> -

Sheet Pendokumentasian
K1: MENU
A2: PENDOKUMENTASIAN KINERJA
F4: PERIODE PENILAIAN:
A5: =DATA!E3 -> INSTANSI | F5: =DATA!E4 -> 1 Januari s.d. 31 Desember 2022
A6: NO | C6: PEGAWAI YANG DINILAI | F6: NO | G6: PEJABAT PENILAI KINERJA
A7: 1 | B7: NAMA | C7: =DATA!E7 -> NAMA | F7: 1 | G7: NAMA | H7: =DATA!E13 -> NAMA
A8: 2 | B8: NIP | C8: =DATA!E8 -> NIP | F8: 2 | G8: NIP | H8: =DATA!E14 -> -
A9: 3 | B9: PANGKAT/GOL. RUANG | C9: =DATA!E9 -> GOLONGAN | F9: 3 | G9: PANGKAT/GOL. RUANG | H9: =DATA!E15 -> -
A10: 4 | B10: JABATAN | C10: =DATA!E10 -> JABATAN | F10: 4 | G10: JABATAN | H10: =DATA!E16 -> BUPATI BANYUMAS
A11: 5 | B11: UNIT KERJA | C11: =DATA!E11 -> UNIT KERJA | F11: 5 | G11: UNIT KERJA | H11: =DATA!E17 -> PEMERINTAH KABUPATEN BANYUMAS
A12: HASIL KERJA
A13: 1 | B13: ='Rencana Aksi'!B13:C20 -> 0 | D13: Rencana Aksi: | H13: Realisasi dan Bukti Dukungan:
D14: 1 | E14: ='Rencana Aksi'!E14:F14 -> 0 | H14: 1
D15: 2 | H15: 2
D16: 3 | H16: 3
A17: 2 | D17: Rencana Aksi: | H17: Realisasi dan Bukti Dukungan:
D18: 1 | H18: 1
D19: 2 | H19: 2
D20: 3 | H20: 3
D21: 4 | H21: 4
A22: 3 | D22: Rencana Aksi: | H22: Realisasi dan Bukti Dukungan:
D23: 1 | H23: 1
D24: 2 | H24: 2
D25: 3 | H25: 3
A26: 4 | D26: Rencana Aksi: | H26: Realisasi dan Bukti Dukungan:
D27: 1 | H27: 1
D28: 2 | H28: 2
D29: 3 | H29: 3
D30: 4 | H30: 4
F33: ='Lampiran SKP'!C16 -> (tempat, tanggal, bulan, tahun)
F34: Pejabat Penilai Kinerja
F38: =DATA!E13 -> NAMA
F39: =DATA!E14 -> -

Sheet Evaluasi Kinerja Kuantitatif
A1: EVALUASI KINERJA PEGAWAI | L1: MENU
A2: PENDEKATAN HASIL KERJA KUANTITATIF
A3: BAGI PEJABAT PIMPINAN TINGGI DAN PIMPINAN UNIT KERJA MANDIRI
A5: PERIODE: TRIWULAN I/II/III/IV-AKHIR*
A6: =DATA!E3 -> INSTANSI | E6: PERIODE PENILAIAN: | G6: =Pendokumentasian!F5 -> 1 Januari s.d. 31 Desember 2022
A7: NO. | E7: NO. | F7: PEJABAT PENILAI KINERJA
A8: 1 | B8: =Pendokumentasian!B7 -> NAMA | C8: =Pendokumentasian!C7 -> NAMA | E8: 1 | F8: NAMA | H8: =Pendokumentasian!H7 -> NAMA
A9: 2 | B9: =Pendokumentasian!B8 -> NIP | C9: =Pendokumentasian!C8 -> NIP | E9: 2 | F9: NIP | H9: =Pendokumentasian!H8 -> -
A10: 3 | B10: =Pendokumentasian!B9 -> PANGKAT/GOL. RUANG | C10: =Pendokumentasian!C9 -> GOLONGAN | E10: 3 | F10: PANGKAT/GOL. RUANG | H10: =Pendokumentasian!H9 -> -
A11: 4 | B11: =Pendokumentasian!B10 -> JABATAN | C11: =Pendokumentasian!C10 -> JABATAN | E11: 4 | F11: JABATAN | H11: =Pendokumentasian!H10 -> BUPATI BANYUMAS
A12: 5 | B12: =Pendokumentasian!B11 -> UNIT KERJA | C12: =Pendokumentasian!C11 -> UNIT KERJA | E12: 5 | F12: INSTANSI | H12: =Pendokumentasian!H11 -> PEMERINTAH KABUPATEN BANYUMAS
A13: CAPAIAN KINERJA ORGANISASI*
A14: BAIK
A15: POLA DISTRIBUSI:
A17: HASIL KERJA
A18: NO. | B18: RENCANA HASIL KERJA | D18: INDIKATOR KINERJA INDIVIDU | F18: TARGET | G18: REALISASI BERDASARKAN BUKTI DUKUNG | I18: UMPAN BALIK BERKELANJUTAN BERDASARKAN BUKTI DUKUNG
A19: (1) | B19: (2) | D19: (3) | F19: (4) | G19: (6)
A20: A. UTAMA
A21: 1 | B21: ='SKP JPT'!B16:C16 -> 0 | D21: ='SKP JPT'!D16:E16 -> 0 | F21: ='SKP JPT'!F16:G16 -> 0 | G21: 100 % target rencana aksi terpenuhi dari bukti dukung yang ada | I21: pekerjaan sudah bagus, lanjutkan sesuai rencana
A22: 2 | B22: ='SKP JPT'!#REF! -> #REF! | D22: ='SKP JPT'!#REF! -> #REF! | F22: ='SKP JPT'!#REF! -> #REF!
A23: B. TAMBAHAN
A24: 1
A25: RATING HASIL KERJA*
A26: SESUAI EKSPEKTASI
A27: PERILAKU KERJA | I27: UMPAN BALIK BERKELANJUTAN BERDASARKAN BUKTI DUKUNG
A28: 1
F29: Ekspektasi Khusus Pimpinan:
A32: 2
F33: Ekspektasi Khusus Pimpinan:
A36: 3
F37: Ekspektasi Khusus Pimpinan:
A40: 4
F41: Ekspektasi Khusus Pimpinan:
A44: 5
F45: Ekspektasi Khusus Pimpinan:
A48: 6
F49: Ekspektasi Khusus Pimpinan:
A52: 7
F53: Ekspektasi Khusus Pimpinan:
A56: RATING PERILAKU KERJA*
A57: SESUAI EKSPEKTASI
A58: PREDIKAT KINERJA PEGAWAI*
A59: =VLOOKUP(A26&A57,Kuadran!$C$9:$D$26,2,0) -> BAIK
F61: (tempat, tanggal, bulan, tahun)
F62: Pejabat Penilai Kinerja
F66: =DATA!E13 -> NAMA
F67: =DATA!E14 -> -

Sheet Dok. Evaluasi Kinerja Pegawai
H1: MENU
A9: DOKUMEN EVALUASI KINERJA PEGAWAI
A11: ='Evaluasi Kinerja Kuantitatif'!A5:I5 -> PERIODE: TRIWULAN I/II/III/IV-AKHIR*
A12: ='Evaluasi Kinerja Kuantitatif'!A6:D6 -> INSTANSI | C12: PERIODE PENILAIAN:
C13: =DATA!E4 -> 1 Januari s.d. 31 Desember 2022
A14: 1. | B14: PEGAWAI YANG DINILAI
B15: NAMA | C15: : | D15: ='Evaluasi Kinerja Kuantitatif'!C8 -> NAMA
B16: NIP | C16: : | D16: ='Evaluasi Kinerja Kuantitatif'!C9 -> NIP
B17: PANGKAT/GOL. RUANG | C17: : | D17: ='Evaluasi Kinerja Kuantitatif'!C10 -> GOLONGAN
B18: JABATAN | C18: : | D18: ='Evaluasi Kinerja Kuantitatif'!C11 -> JABATAN
B19: UNIT KERJA | C19: : | D19: ='Evaluasi Kinerja Kuantitatif'!C12 -> UNIT KERJA
A20: 2. | B20: PEJABAT PENILAI KINERJA
B21: NAMA | C21: : | D21: ='Evaluasi Kinerja Kuantitatif'!H8 -> NAMA
B22: NIP | C22: : | D22: ='Evaluasi Kinerja Kuantitatif'!H9 -> -
B23: PANGKAT/GOL. RUANG | C23: : | D23: ='Evaluasi Kinerja Kuantitatif'!H10 -> -
B24: JABATAN | C24: : | D24: ='Evaluasi Kinerja Kuantitatif'!H11 -> BUPATI BANYUMAS
B25: UNIT KERJA | C25: : | D25: ='Evaluasi Kinerja Kuantitatif'!H12 -> PEMERINTAH KABUPATEN BANYUMAS
A26: 3. | B26: ATASAN PEJABAT PENILAI KINERJA
B27: NAMA | C27: : | D27: NAMA ATASAN PEJABAT PENILAI KINERJA
B28: NIP | C28: : | D28: NIP ATASAN PEJABAT PENILAI KINERJA
B29: PANGKAT/GOL. RUANG | C29: : | D29: PANGKAT/GOL. RUANG ATASAN PEJABAT PENILAI KINERJA
B30: JABATAN | C30: : | D30: JABATAN ATASAN PEJABAT PENILAI KINERJA
B31: UNIT KERJA | C31: : | D31: UNIT KERJA ATASAN PEJABAT PENILAI KINERJA
A32: 4. | B32: EVALUASI KINERJA
B33: CAPAIAN KINERJA ORGANISASI | C33: : | D33: ='Evaluasi Kinerja Kuantitatif'!A14 -> BAIK
B34: PREDIKAT KINERJA PEGAWAI | C34: : | D34: ='Evaluasi Kinerja Kuantitatif'!A59 -> BAIK
A35: 5. | B35: CATATAN/REKOMENDASI
B38: (Tempat, Tanggal, Bulan, Tahun) | D38: (Tempat, Tanggal, Bulan, Tahun)
B39: 7. Pegawai yang Dinilai | D39: 6. Pejabat Penilai Kinerja
A43: =DATA!E7 -> NAMA | D43: =DATA!E13 -> NAMA
A44: =DATA!E8 -> NIP | D44: =DATA!E14 -> -

Sheet Kuadran
E2: HASIL KERJA
E3: Di Atas Ekspektasi | F3: =D15 -> KURANG/MISS CONDUCT | G3: =D12 -> BAIK | H3: =D9 -> SANGAT BAIK
E4: Sesuai Ekspektasi | F4: =D16 -> KURANG/MISS CONDUCT | G4: =D13 -> BAIK | H4: =D10 -> BAIK
E5: Di Bawah Ekspektasi | F5: =D17 -> SANGAT KURANG | G5: =D14 -> BUTUH PERBAIKAN | H5: =D11 -> BUTUH PERBAIKAN | I5: PERILAKU KERJA
F6: Di Bawah Ekspektasi | G6: Sesuai Ekspektasi | H6: Di Atas Ekspektasi
A8: Hasil Kerja | B8: Perilaku Kerja | D8: Hasil
A9: Di Atas Ekspektasi | B9: Di Atas Ekspektasi | C9: =A9&B9 -> Di Atas EkspektasiDi Atas Ekspektasi | D9: SANGAT BAIK
A10: Sesuai Ekspektasi | B10: Di Atas Ekspektasi | C10: =A10&B10 -> Sesuai EkspektasiDi Atas Ekspektasi | D10: BAIK
A11: Di Bawah Ekspektasi | B11: Di Atas Ekspektasi | C11: =A11&B11 -> Di Bawah EkspektasiDi Atas Ekspektasi | D11: BUTUH PERBAIKAN
A12: Di Atas Ekspektasi | B12: Sesuai Ekspektasi | C12: =A12&B12 -> Di Atas EkspektasiSesuai Ekspektasi | D12: BAIK
A13: Sesuai Ekspektasi | B13: Sesuai Ekspektasi | C13: =A13&B13 -> Sesuai EkspektasiSesuai Ekspektasi | D13: BAIK
A14: Di Bawah Ekspektasi | B14: Sesuai Ekspektasi | C14: =A14&B14 -> Di Bawah EkspektasiSesuai Ekspektasi | D14: BUTUH PERBAIKAN
A15: Di Atas Ekspektasi | B15: Di Bawah Ekspektasi | C15: =A15&B15 -> Di Atas EkspektasiDi Bawah Ekspektasi | D15: KURANG/MISS CONDUCT
A16: Sesuai Ekspektasi | B16: Di Bawah Ekspektasi | C16: =A16&B16 -> Sesuai EkspektasiDi Bawah Ekspektasi | D16: KURANG/MISS CONDUCT
A17: Di Bawah Ekspektasi | B17: Di Bawah Ekspektasi | C17: =A17&B17 -> Di Bawah EkspektasiDi Bawah Ekspektasi | D17: SANGAT KURANG
A18: Di Atas Ekspektasi | B18: Di Atas Ekspektasi | C18: =A18&B18 -> Di Atas EkspektasiDi Atas Ekspektasi | D18: SANGAT BAIK
A19: Di Atas Ekspektasi | B19: Sesuai Ekspektasi | C19: =A19&B19 -> Di Atas EkspektasiSesuai Ekspektasi | D19: BAIK
A20: Di Atas Ekspektasi | B20: Di Bawah Ekspektasi | C20: =A20&B20 -> Di Atas EkspektasiDi Bawah Ekspektasi | D20: KURANG/MISS CONDUCT
... A26: Di Bawah Ekspektasi | B26: Di Bawah Ekspektasi | C26: =A26&B26 -> Di Bawah EkspektasiDi Bawah Ekspektasi | D26: SANGAT KURANG

Sheet Pola Distribusi (Contoh)
A1: Istimewa | D1: Baik | G1: Butuh Perbaikan | J1: Kurang/Misconduct | M1: Sangat Kurang
A2: Kategori | B2: Pola Distribusi | D2: Kategori | E2: Pola Distribusi | G2: Kategori | H2: Pola Distribusi | J2: Kategori | K2: Pola Distribusi | M2: Kategori | N2: Pola Distribusi
A3: Sangat Kurang | B3: 0 | D3: Sangat Kurang | E3: 0 | G3: Sangat Kurang | H3: 3 | J3: Sangat Kurang | K3: 2 | M3: Sangat Kurang | N3: 13
A4: Kurang/Misconduct | B4: 1 | D4: Kurang/Misconduct | E4: 0 | G4: Kurang/Misconduct | H4: 4 | J4: Kurang/Misconduct | K4: 11 | M4: Kurang/Misconduct | N4: 7
A5: Butuh Perbaikan | B5: 3 | D5: Butuh Perbaikan | E5: 0 | G5: Butuh Perbaikan | H5: 10 | J5: Butuh Perbaikan | K5: 6 | M5: Butuh Perbaikan | N5: 3
A6: Baik | B6: 7 | D6: Baik | E6: 21 | G6: Baik | H6: 4 | J6: Baik | K6: 3 | M6: Baik | N6: 1
A7: Sangat Baik | B7: 13 | D7: Sangat Baik | E7: 0 | G7: Sangat Baik | H7: 3 | J7: Sangat Baik | K7: 2 | M7: Sangat Baik | N7: 0
A8: Jumlah | B8: =SUM(B3:B7) -> 24 | D8: Jumlah | E8: =SUM(E3:E7) -> 21 | G8: Jumlah | H8: =SUM(H3:H7) -> 24 | J8: Jumlah | K8: =SUM(K3:K7) -> 24 | M8: Jumlah | N8: =SUM(N3:N7) -> 24
A20: MENU

Sheet Pola Distribusi
A1: ='Evaluasi Kinerja Kuantitatif'!A14 -> BAIK | D1: Istimewa | E1: Baik | F1: Butuh Perbaikan | G1: Kurang/Missconduct | H1: Sangat Kurang
A2: Kategori | B2: ="KURVA DISTRIBUSI PREDIKAT KINERJA PEGAWAI DENGAN CAPAIAN KINERJA ORGANISASI "&A1 -> KURVA DISTRIBUSI PREDIKAT KINERJA PEGAWAI DENGAN CAPAIAN KINERJA ORGANISASI BAIK | D2: Pola Distribusi | E2: Pola Distribusi | F2: Pola Distribusi | G2: Pola Distribusi | H2: Pola Distribusi
A3: Sangat Kurang | B3: =HLOOKUP($A$1,$D$1:$H$8,3,0) -> 2 | D3: 0 | E3: 2 | F3: 3 | G3: 2 | H3: 13
A4: Kurang/ Misconduct | B4: =HLOOKUP($A$1,$D$1:$H$8,4,0) -> 3 | D4: 1 | E4: 3 | F4: 4 | G4: 11 | H4: 7
A5: Butuh Perbaikan | B5: =HLOOKUP($A$1,$D$1:$H$8,5,0) -> 6 | D5: 3 | E5: 6 | F5: 10 | G5: 6 | H5: 3
A6: Baik | B6: =HLOOKUP($A$1,$D$1:$H$8,6,0) -> 11 | D6: 7 | E6: 11 | F6: 4 | G6: 3 | H6: 1
A7: Sangat Baik | B7: =HLOOKUP($A$1,$D$1:$H$8,7,0) -> 2 | D7: 13 | E7: 2 | F7: 3 | G7: 2 | H7: 0
A8: Jumlah | B8: =SUM(B3:B7) -> 24 | D8: =SUM(D3:D7) -> 24 | E8: =SUM(E3:E7) -> 24 | F8: =SUM(F3:F7) -> 24 | G8: =SUM(G3:G7) -> 24 | H8: =SUM(H3:H7) -> 24
